Workbook
Name \0: '[1]PNT-QUOT-#3'!#REF!
Name \z: '[1]COAT&WRAP-QIOT-#3'!#REF!
Name _1: #REF!
Name _1: #REF!
Name _1: #REF!
Name _2: #REF!
Name _2: #REF!
Name _2: #REF!
Name _305_Hem_Tran_Phu___T7463: hdong+[2]Sheet1!$A$2:$J$24265
Name _305_Hem_Tran_Phu___T7463: hdong+[2]Sheet1!$A$2:$J$24265
Name _305_Hem_Tran_Phu___T7463: hdong+[2]Sheet1!$A$2:$J$24265
Name _413565: "hdong+Sheet1!$A$2:$J$24263!$A$13374"
Name _A65700: '[3]MTO REV.2(ARMOR)'!#REF!
Name _A65700: '[3]MTO REV.2(ARMOR)'!#REF!
Name _A65700: '[3]MTO REV.2(ARMOR)'!#REF!
Name _A65800: '[3]MTO REV.2(ARMOR)'!#REF!
Name _A65800: '[3]MTO REV.2(ARMOR)'!#REF!
Name _A65800: '[3]MTO REV.2(ARMOR)'!#REF!
Name _A66000: '[3]MTO REV.2(ARMOR)'!#REF!
Name _A66000: '[3]MTO REV.2(ARMOR)'!#REF!
Name _A66000: '[3]MTO REV.2(ARMOR)'!#REF!
Name _A67000: '[3]MTO REV.2(ARMOR)'!#REF!
Name _A67000: '[3]MTO REV.2(ARMOR)'!#REF!
Name _A67000: '[3]MTO REV.2(ARMOR)'!#REF!
Name _A68000: '[3]MTO REV.2(ARMOR)'!#REF!
Name _A68000: '[3]MTO REV.2(ARMOR)'!#REF!
Name _A68000: '[3]MTO REV.2(ARMOR)'!#REF!
Name _A70000: '[3]MTO REV.2(ARMOR)'!#REF!
Name _A75000: '[3]MTO REV.2(ARMOR)'!#REF!
Name _A85000: '[3]MTO REV.2(ARMOR)'!#REF!
Name _CON1: #REF!
Name _CON1: #REF!
Name _CON1: #REF!
Name _CON2: #REF!
Name _CON2: #REF!
Name _CON2: #REF!
Name _NET2: #REF!
Name A: [4]DM_MTC!$A$10:$D$17
Name AAA: '[5]MTL$-INTER'!#REF!
Name AAA: '[5]MTL$-INTER'!#REF!
Name AAA: '[5]MTL$-INTER'!#REF!
Name AÙ: #REF!
Name AÙ: #REF!
Name AÙ: #REF!
Name b: #REF!
Name b: #REF!
Name b: #REF!
Name b_tong: #REF!
Name b_tong: #REF!
Name b_tong: #REF!
Name bang1: #REF!
Name BANGIA: [6]b1!$B$3:$H$26
Name BG: [7]BANGGIA!$B$4:$C$22
Name bocdo: #REF!
Name bocdo: #REF!
Name bocdo: #REF!
Name BOQ: #REF!
Name BOQ: #REF!
Name BOQ: #REF!
Name BT: #REF!

Sheet 59.CK-NSNN
A1: SỞ TÀI CHÍNH BÌNH ĐỊNH | F1: Biểu số 59/CK-NSNN
A3: CÂN ĐỐI NGÂN SÁCH ĐỊA PHƯƠNG NĂM 2019
F4: Đơn vị: Triệu đồng
A5: STT | B5: NỘI DUNG | C5: DỰ TOÁN NĂM | D5: ƯỚC THỰC HIỆN NĂM 2019 | E5: SO SÁNH THỰC HIỆN VỚI (%) | G5: THỰC HIỆN NĂM 2018
E6: DỰ TOÁN NĂM | F6: CÙNG KỲ NĂM TRƯỚC
A7: A | B7: B | C7: 1 | D7: 2 | E7: 3=2/1 | F7: 4
A8: A | B8: TỔNG NGUỒN THU NSNN TRÊN ĐỊA BÀN | C8: =+C9+C15 -> 9991100 | D8: =+D9+D15 -> 12057602 | E8: =+D8/C8*100 -> 120.68343 | F8: =+D8/G8*100 -> 133.9364 | G8: =+G9+G15 -> 9002483.3
A9: I | B9: Thu cân đối NSNN | C9: =+C10+C11+C12+C13+C14 -> 9991100 | D9: =+D10+D11+D12+D13+D14 -> 12057602 | E9: =+D9/C9*100 -> 120.68343 | F9: =+D9/G9*100 -> 133.9364 | G9: =+G10+G11+G12+G13+G14 -> 9002483.3
A10: 1 | B10: Thu nội địa | C10: 9235000 | D10: =+'60.CK-NSNN'!D9 -> 11300000 | E10: =+D10/C10*100 -> 122.36058 | F10: =+D10/G10*100 -> 135.42311 | G10: =+'60.CK-NSNN'!G9 -> 8344218.4
A11: 2 | B11: Thu từ dầu thô | C11: 0 | D11: 0
A12: 3 | B12: Thu cân đối từ hoạt động xuất khẩu, nhập khẩu | C12: 640000 | D12: =+'60.CK-NSNN'!D30 -> 641502 | E12: =+D12/C12*100 -> 100.23469 | F12: =+D12/G12*100 -> 104.60439 | G12: =+'60.CK-NSNN'!G30 -> 613264.91
A13: 4 | B13: Thu viện trợ | C13: 0 | D13: 0
A14: 5 | B14: Thu vay bù đắp bội chi | C14: 116100 | D14: =+C14 -> 116100 | E14: =+D14/C14*100 -> 100 | F14: =+D14/G14*100 -> 258 | G14: 45000
A15: II | B15: Thu chuyển nguồn từ năm trước chuyển sang
A16: B | B16: TỔNG CHI NSĐP | C16: =+C17+C24 -> 14030780 | D16: =+D17+D24 -> 16838057 | E16: =+D16/C16*100 -> 120.00799 | F16: =+D16/G16*100 -> 122.82249 | G16: =+G17+G24 -> 13709262
A17: I | B17: Chi cân đối NSĐP | C17: =+C18+C19+C20+C21+C22+C23 -> 11374336 | D17: =+D18+D19+D20+D21+D22+D23 -> 13282701 | E17: =+D17/C17*100 -> 116.77782 | F17: =+D17/G17*100 -> 132.91045 | G17: =+G18+G19+G20+G21+G22+G23 -> 9993722.2
A18: 1 | B18: Chi đầu tư phát triển | C18: 4694320 | D18: =+'61.CK-NSNN'!D11 -> 6469320 | E18: =+D18/C18*100 -> 137.81165 | F18: =+D18/G18*100 -> 191.30718 | G18: =+'61.CK-NSNN'!G11 -> 3381640
A19: 2 | B19: Chi thường xuyên | C19: 6488250 | D19: =+'61.CK-NSNN'!D15 -> 6621615.4 | E19: =+D19/C19*100 -> 102.05549 | F19: =+D19/G19*100 -> 103.35131 | G19: =+'61.CK-NSNN'!G15 -> 6406900.2
A20: 3 | B20: Chi trả nợ lãi các khoản do chính quyền địa phương vay | C20: 3800 | D20: =+'61.CK-NSNN'!D27 -> 3800 | E20: =+D20/C20*100 -> 100 | F20: =+D20/G20*100 -> 140.74074 | G20: =+'61.CK-NSNN'!G27 -> 2700
A21: 4 | B21: Chi bổ sung quỹ dự trữ tài chính | C21: 1360 | D21: =+'61.CK-NSNN'!D28 -> 1360 | E21: =+D21/C21*100 -> 100 | F21: =+D21/G21*100 -> 100 | G21: =+'61.CK-NSNN'!G28 -> 1360
A22: 5 | B22: Dự phòng ngân sách | C22: 186606 | D22: =+'04'!H32 -> 186606 | E22: =+D22/C22*100 -> 100 | F22: =+D22/G22*100 -> 108.16485 | G22: =+'61.CK-NSNN'!G29 -> 172520
A23: 6 | B23: Chi tạo nguồn thực hiện cải cách tiền lương | C23: 0 | G23: =+'61.CK-NSNN'!G30 -> 28602
A24: II | B24: Chi từ nguồn bổ sung có mục tiêu từ NSTW cho NSĐP | C24: 2656444 | D24: =+'61.CK-NSNN'!D31 -> 3555356 | E24: =+D24/C24*100 -> 133.83892 | F24: =+D24/G24*100 -> 95.688811 | G24: =+'61.CK-NSNN'!G31 -> 3715540
A25: C | B25: BỘI CHI NSĐP/ BỘI THU NSĐP | C25: 116100 | D25: 116100 | E25: =+D25/C25*100 -> 100 | F25: =+D25/G25*100 -> 258 | G25: 45000
A26: D | B26: CHI TRẢ NỢ GỐC | C26: 97400 | D26: 97400 | E26: =+D26/C26*100 -> 100 | F26: =+D26/G26*100 -> 120.88267 | G26: 80574

Sheet 60.CK-NSNN
A1: SỞ TÀI CHÍNH BÌNH ĐỊNH | F1: Biểu số 60/CK-NSNN
A3: ƯỚC THỰC HIỆN THU NGÂN SÁCH NHÀ NƯỚC NĂM 2019
F4: Đơn vị: Triệu đồng
A5: STT | B5: NỘI DUNG | C5: DỰ TOÁN NĂM | D5: ƯỚC THỰC HIỆN NĂM 2019 | E5: SO SÁNH THỰC HIỆN VỚI (%) | G5: THỰC HIỆN NĂM 2018
E6: DỰ TOÁN NĂM | F6: CÙNG KỲ NĂM TRƯỚC
A7: A | B7: B | C7: 1 | D7: 2 | E7: 3=2/1 | F7: 4
A8: A | B8: TỔNG THU NSNN TRÊN ĐỊA BÀN | C8: =+C9+C30 -> 9875000 | D8: =+D9+D30 -> 11941502 | E8: =+D8/C8*100 -> 120.9266 | F8: =+D8/G8*100 -> 133.31314 | G8: =+G9+G30 -> 8957483.3
A9: I | B9: Thu nội địa | C9: =+C10+C11+C12+C13+C14+C15+C16+C17+C24+C25+C26+C27+C28 -> 9235000 | D9: =+D10+D11+D12+D13+D14+D15+D16+D17+D24+D25+D26+D27+D28 -> 11300000 | E9: =+D9/C9*100 -> 122.36058 | F9: =+D9/G9*100 -> 135.42311 | G9: =+G10+G11+G12+G13+G14+G15+G16+G17+G24+G25+G26+G27+G28 -> 8344218.4
A10: 1 | B10: Thu từ khu vực DNNN | C10: 430000 | D10: =+'01'!F14+'01'!F19 -> 420000 | E10: =+D10/C10*100 -> 97.674419 | F10: =+D10/G10*100 -> 102.04297 | G10: =+'01'!Q14+'01'!Q19 -> 411591.31
A11: 2 | B11: Thu từ khu vực doanh nghiệp có vốn đầu tư nước ngoài | C11: 300000 | D11: =+'01'!F23 -> 325000 | E11: =+D11/C11*100 -> 108.33333 | F11: =+D11/G11*100 -> 100.30044 | G11: =+'01'!Q23 -> 324026.48
A12: 3 | B12: Thu từ khu vực kinh tế ngoài quốc doanh | C12: 2185000 | D12: =+'01'!F28 -> 2185000 | E12: =+D12/C12*100 -> 100 | F12: =+D12/G12*100 -> 108.76136 | G12: =+'01'!Q28 -> 2008985.6
A13: 4 | B13: Thuế thu nhập cá nhân | C13: 330000 | D13: =+'01'!F36 -> 360000 | E13: =+D13/C13*100 -> 109.09091 | F13: =+D13/G13*100 -> 117.78415 | G13: =+'01'!Q36 -> 305643.85
A14: 5 | B14: Thuế bảo vệ môi trường | C14: 820000 | D14: =+'01'!F37 -> 820000 | E14: =+D14/C14*100 -> 100 | F14: =+D14/G14*100 -> 132.70679 | G14: =+'01'!Q37 -> 617903.56
A15: 6 | B15: Lệ phí trước bạ | C15: 270000 | D15: =+'01'!F33 -> 320000 | E15: =+D15/C15*100 -> 118.51852 | F15: =+D15/G15*100 -> 113.09449 | G15: =+'01'!Q33 -> 282949.23
A16: 7 | B16: Các loại phí, lệ phí | C16: 150000 | D16: =+'01'!F40 -> 155000 | E16: =+D16/C16*100 -> 103.33333 | F16: =+D16/G16*100 -> 94.115128 | G16: =+'01'!Q40 -> 164691.91
A17: 8 | B17: Các khoản thu về nhà, đất | C17: =+C18+C19+C20+C22+C23 -> 4255000 | D17: =+D18+D19+D20+D22+D23 -> 6152000 | E17: =+D17/C17*100 -> 144.58284 | F17: =+D17/G17*100 -> 166.78082 | G17: =+G18+G19+G20+G22+G23 -> 3688673.5
A18: - | B18: Thuế sử dụng đất nông nghiệp | C18: 0 | G18: =+'01'!Q34 -> 1112.5242
A19: - | B19: Thuế sử dụng đất phi nông nghiệp | C19: 15000 | D19: =+'01'!F35 -> 18400 | E19: =+D19/C19*100 -> 122.66667 | F19: =+D19/G19*100 -> 115.48811 | G19: =+'01'!Q35 -> 15932.377
A20: - | B20: Thu tiền sử dụng đất | C20: 3930000 | D20: =+'01'!F43 -> 5700000 | E20: =+D20/C20*100 -> 145.03817 | F20: =+D20/G20*100 -> 177.44806 | G20: =+'01'!Q43 -> 3212207.5
E21: #DIV/0!
A22: - | B22: Tiền cho thuê đất, thuê mặt nước | C22: 310000 | D22: =+'01'!F44 -> 430000 | E22: =+D22/C22*100 -> 138.70968 | F22: =+D22/G22*100 -> 104.94532 | G22: =+'01'!Q44 -> 409737.18
A23: - | B23: Tiền cho thuê và tiền bán nhà ở thuộc sở hữu nhà nước | C23: 0 | D23: =+'01'!F45 -> 3600 | F23: =+D23/G23*100 -> 7.2458163 | G23: =+'01'!Q45 -> 49683.843
A24: 9 | B24: Thu tiền cấp quyền khai thác khoáng sản | C24: 50000 | D24: =+'01'!F51 -> 65000 | E24: =+D24/C24*100 -> 130 | F24: =+D24/G24*100 -> 165.43948 | G24: =+'01'!Q51 -> 39289.293
A25: 10 | B25: Thu hồi vốn, thu cổ tức, lợi nhuận được chia của Nhà nước và lợi nhuận sau thuế còn lại sau khi trích lập các quỹ của doanh nghiệp nhà nước | C25: 25000 | D25: =+'01'!F54 -> 28000 | E25: =+D25/C25*100 -> 112 | F25: =+D25/G25*100 -> 95.925108 | G25: =+'01'!Q54 -> 29189.438
A26: 11 | B26: Thu từ hoạt động xổ số kiến thiết | C26: 105000 | D26: =+'01'!F55 -> 110000 | E26: =+D26/C26*100 -> 104.7619 | F26: =+D26/G26*100 -> 103.56064 | G26: =+'01'!Q55 -> 106217.96
A27: 12 | B27: Thu từ quỹ đất công ích và thu hoa lợi công sản khác | C27: 60000 | D27: =+'01'!F46 -> 60000 | E27: =+D27/C27*100 -> 100 | F27: =+D27/G27*100 -> 70.613338 | G27: =+'01'!Q46 -> 84969.783
A28: 13 | B28: Thu khác ngân sách | C28: 255000 | D28: =+'01'!F47 -> 300000 | E28: =+D28/C28*100 -> 117.64706 | F28: =+D28/G28*100 -> 107.10976 | G28: =+'01'!Q47 -> 280086.52
A29: II | B29: Thu từ dầu thô
A30: III | B30: Thu từ hoạt động xuất nhập khẩu | C30: =+C31+C32+C33 -> 640000 | D30: =+D31+D32+D33 -> 641502 | E30: =+D30/C30*100 -> 100.23469 | F30: =+D30/G30*100 -> 104.60439 | G30: =+G31+G32+G33+G35+G36 -> 613264.91
A31: 1 | B31: Thuế giá trị gia tăng thu từ hàng hóa nhập khẩu | C31: 430000 | D31: =+'01'!F11 -> 485680 | E31: =+D31/C31*100 -> 112.94884 | F31: =+D31/G31*100 -> 125.71802 | G31: 386324.9
A32: 2 | B32: Thuế xuất khẩu | C32: 115000 | D32: =+'01'!F10*0.8 -> 124657.6 | E32: =+D32/C32*100 -> 108.39791 | F32: =+D32/G32*100 -> 80.557668 | G32: 154743.31
A33: 3 | B33: Thuế nhập khẩu | C33: 95000 | D33: =+'01'!F10*0.2 -> 31164.4 | E33: =+D33/C33*100 -> 32.804632 | F33: =+D33/G33*100 -> 61.235493 | G33: 50892.707
A34: 4 | B34: Thuế tiêu tiêu thụ đặc biệt thu từ hàng hóa nhập khẩu
A35: 5 | B35: Thuế bảo vệ môi trường thu từ hàng hóa nhập khẩu
A36: 6 | B36: Thu khác | F36: =+D36/G36*100 -> 0 | G36: 21304
A37: IV | B37: Thu viện trợ
A38: B | B38: THU NSĐP ĐƯỢC HƯỞNG THEO PHÂN CẤP | C38: =+C39+C40 -> 8550001 | D38: =+D39+D40 -> 10656105 | E38: =+D38/C38*100 -> 124.63279 | F38: =+D38/G38*100 -> 135.72459 | G38: =+G39+G40 -> 7851270.8
A39: 1 | B39: Từ các khoản thu phân chia | C39: 3368700 | D39: =+'01'!G15+'01'!G16+'01'!G17+'01'!G20+'01'!G21+'01'!G24+'01'!G25+'01'!G26+'01'!G29+'01'!G30+'01'!G31+'01'!G36+'01'!G37 -> 3433300 | E39: =+D39/C39*100 -> 101.91765 | F39: =+D39/G39*100 -> 110.54103 | G39: 3105905.6
A40: 2 | B40: Các khoản thu NSĐP được hưởng 100% | C40: =2646301+105000+2430000 -> 5181301 | D40: =+'01'!G12-'60.CK-NSNN'!D39 -> 7222805 | E40: =+D40/C40*100 -> 139.40138 | F40: =+D40/G40*100 -> 152.20757 | G40: 4745365.2

Sheet 61.CK-NSNN
A1: SỞ TÀI CHÍNH BÌNH ĐỊNH | F1: Biểu số 61/CK-NSNN
A3: ƯỚC THỰC HIỆN CHI NGÂN SÁCH ĐỊA PHƯƠNG NĂM 2019
F5: Đơn vị: Triệu đồng
A6: STT | B6: NỘI DUNG | C6: DỰ TOÁN NĂM | D6: ƯỚC THỰC HIỆN NĂM 2019 | E6: SO SÁNH THỰC HIỆN VỚI (%) | G6: THỰC HIỆN 6 THÁNG ĐẦU NĂM 2018
E7: DỰ TOÁN NĂM | F7: CÙNG KỲ NĂM TRƯỚC
A8: A | B8: B | C8: 1 | D8: 2 | E8: 3=2/1 | F8: 4
B9: TỔNG CHI NSĐP | C9: =+C10+C31 -> 14030780 | D9: =+D10+D31 -> 16838057 | E9: =+D9/C9*100 -> 120.00799 | F9: =+D9/G9*100 -> 122.82249 | G9: =+G10+G31 -> 13709262
A10: A | B10: CHI CÂN ĐỐI NSĐP | C10: =+C11+C15+C27+C28+C29+C30 -> 11374336 | D10: =+D11+D15+D27+D28+D29+D30 -> 13282701 | E10: =+D10/C10*100 -> 116.77782 | F10: =+D10/G10*100 -> 132.91045 | G10: =+G11+G15+G27+G28+G29+G30 -> 9993722.2
A11: I | B11: Chi đầu tư phát triển | C11: =+C12+C14 -> 4694320 | D11: =+D12+D14 -> 6469320 | E11: =+D11/C11*100 -> 137.81165 | F11: =+D11/G11*100 -> 191.30718 | G11: =+G12+G14 -> 3381640
A12: 1 | B12: Chi đầu tư cho các dự án | C12: 4635740 | D12: =+'04'!H12+'04'!H13+'04'!H14+'04'!H15 -> 6410740 | E12: =+D12/C12*100 -> 138.28946 | F12: =+D12/G12*100 -> 195.94882 | G12: =+'04'!N12+'04'!N13+'04'!N14+'04'!N15 -> 3271640
A13: 2 | B13: Chi đầu tư và hỗ trợ vốn cho doanh nghiệp cung cấp sản phẩm, dịch vụ công ích do Nhà nước đặt hàng, các tổ chức kinh tế, các tổ chức tài chính của địa phương theo quy định của pháp luật
A14: 3 | B14: Chi đầu tư phát triển khác | C14: 58580 | D14: =+'04'!H16 -> 58580 | E14: =+D14/C14*100 -> 100 | F14: =+D14/G14*100 -> 53.254545 | G14: 110000
A15: II | B15: Chi thường xuyên | C15: =+'04'!B17 -> 6488250 | D15: =+'04'!H17 -> 6621615.4 | E15: =+D15/C15*100 -> 102.05549 | F15: =+D15/G15*100 -> 103.35131 | G15: =+'04'!N17 -> 6406900.2
B16: Trong đó:
A17: 1 | B17: Chi giáo dục - đào tạo và dạy nghề | C17: 3066727 | D17: =+'04'!H20 -> 3148546.8 | E17: =+D17/C17*100 -> 102.66798 | F17: =+D17/G17*100 -> 105.53745 | G17: =+'04'!N20 -> 2983345.6
A18: 2 | B18: Chi khoa học và công nghệ | C18: 55963 | D18: =+'04'!H22 -> 56119.18 | E18: =+D18/C18*100 -> 100.27908 | F18: =+D18/G18*100 -> 100.83553 | G18: =+'04'!N22 -> 55654.173
A19: 3 | B19: Chi sự nghiệp y tế, dân số và gia đình | C19: 902689 | D19: =+'04'!H21 -> 919577.59 | E19: =+D19/C19*100 -> 101.87092 | F19: =+D19/G19*100 -> 99.083529 | G19: =+'04'!N21 -> 928083.2
A20: 4 | B20: Chi sự nghiệp văn hóa thông tin | C20: 97221 | D20: =+'04'!H23 -> 99351.402 | E20: =+D20/C20*100 -> 102.1913 | F20: =+D20/G20*100 -> 91.758565 | G20: =+'04'!N23 -> 108274.8
A21: 5 | B21: Chi sự nghiệp phát thanh, truyền hình | C21: 36984 | D21: =+'04'!H24 -> 37591.658 | E21: =+D21/C21*100 -> 101.64303 | F21: =+D21/G21*100 -> 122.63285 | G21: =+'04'!N24 -> 30653.824
A22: 6 | B22: Chi sự nghiệp thể dục thể thao | C22: 50431 | D22: =+'04'!H25 -> 50590.177 | E22: =+D22/C22*100 -> 100.31563 | F22: =+D22/G22*100 -> 103.06592 | G22: =+'04'!N25 -> 49085.263
A23: 7 | B23: Chi sự nghiệp bảo vệ môi trường | C23: 39113 | D23: =+'04'!H19 -> 39121.092 | E23: =+D23/C23*100 -> 100.02069 | F23: =+D23/G23*100 -> 108.90079 | G23: =+'04'!N19 -> 35923.608
A24: 8 | B24: Chi sự nghiệp kinh tế | C24: 612490 | D24: =+'04'!H18 -> 614586.79 | E24: =+D24/C24*100 -> 100.34234 | F24: =+D24/G24*100 -> 114.88702 | G24: =+'04'!N18 -> 534948.85
A25: 9 | B25: Chi hoạt động của cơ quan quản lý nhà nước, đảng, đoàn thể | C25: 1199764 | D25: =+'04'!H27 -> 1228858.4 | E25: =+D25/C25*100 -> 102.42501 | F25: =+D25/G25*100 -> 106.54844 | G25: =+'04'!N27 -> 1153333.1
A26: 10 | B26: Chi bảo đảm xã hội | C26: 186350 | D26: =+'04'!H26 -> 186754.3 | E26: =+D26/C26*100 -> 100.21696 | F26: =+D26/G26*100 -> 65.031127 | G26: =+'04'!N26 -> 287176.79
A27: III | B27: Chi trả nợ lãi các khoản do chính quyền địa phương vay | C27: 3800 | D27: =+'04'!H34 -> 3800 | E27: =+D27/C27*100 -> 100 | F27: =+D27/G27*100 -> 140.74074 | G27: =+'04'!N34 -> 2700
A28: IV | B28: Chi bổ sung quỹ dự trữ tài chính | C28: 1360 | D28: =+'04'!H31 -> 1360 | E28: =+D28/C28*100 -> 100 | F28: =+D28/G28*100 -> 100 | G28: =+'04'!N31 -> 1360
A29: V | B29: Dự phòng ngân sách | C29: 186606 | D29: =+'04'!H32 -> 186606 | E29: =+D29/C29*100 -> 100 | F29: =+D29/G29*100 -> 108.16485 | G29: =+'04'!N32 -> 172520 | I29: 6 thang 2016
A30: VI | B30: Chi tạo nguồn thực hiện cải cách tiền lương | C30: 0 | D30: 0 | G30: 28602
A31: B | B31: CHI TỪ NGUỒN BỔ SUNG CÓ MỤC TIÊU TỪ NSTW CHO NSĐP | C31: =+C32+C33+C34 -> 2656444 | D31: =+D32+D33 -> 3555356 | E31: =+D31/C31*100 -> 133.83892 | F31: =+D31/G31*100 -> 95.688811 | G31: =+G32+G33 -> 3715540 | I31: 312710
A32: 1 | B32: Chương trình mục tiêu quốc gia | C32: 471267 | D32: =+'04'!H36 -> 471267 | E32: =+D32/C32*100 -> 100 | F32: =+D32/G32*100 -> 162.98132 | G32: =+'04'!N36 -> 289154 | I32: 86504
A33: 2 | B33: Cho các chương trình dự án quan trọng vốn đầu tư và các nhiệm vụ, chính sách kinh phí thường xuyên | C33: =622461+1562716 -> 2185177 | D33: =+'04'!H37 -> 3084089 | E33: =+D33/C33*100 -> 141.13681 | F33: =+D33/G33*100 -> 90.009971 | G33: =+'04'!N37 -> 3426386 | I33: 226206
A34: 3 | B34: Cho các nhiệm vụ, chính sách kinh phí thường xuyên

Sheet 01
I1: Phụ lục số 01
A2: ƯỚC THỰC HIỆN THU NGÂN SÁCH NĂM 2019 | T2: 1000
A3: (Kèm theo Báo cáo số /BC-UBND ngày /11/2019 của Ủy ban nhân dân tỉnh)
I4: Đơn vị tính: Triệu đồng
A5: NỘI DUNG THU | B5: Dự toán 2019 (điều chỉnh) | D5: Thực hiện 9 tháng | F5: Ước thực hiện 2019 | H5: % so sánh | Q5: 22
B6: NSNN | C6: NSĐP | D6: NSNN | E6: NSĐP | F6: NSNN | G6: NSĐP | H6: DT | I6: CK | L6: 3.4650785
A7: 1 | B7: 2 | C7: 3 | D7: 4 | E7: 5 | F7: 4 | G7: 5 | H7: 6 | I7: 7 | L7: 96.534921
A8: A. TỔNG THU NSNN TRÊN ĐỊA BÀN (I+II+III) | B8: 9991100 | C8: 8666101 | D8: 5677741 | E8: 4818298 | F8: 12057602 | G8: 10772205 | H8: 120.68343 | I8: 133.9364 | Q8: 9002483.4
A9: I. THU TỪ HOẠT ĐỘNG XUẤT NHẬP KHẨU | B9: 640000 | C9: 0 | D9: 465304 | E9: 0 | F9: 641502 | G9: 0 | H9: 100.23469 | I9: 104.60437 | L9: 3 | M9: 14 | O9: 6 | P9: 9 | Q9: 613265
A10: 1.Thuế xuất, nhập khẩu, tiêu thụ đặc biệt và bảo vệ môi trường hàng hóa nhập khẩu | B10: 210000 | D10: 159615 | E10: 0 | F10: 155822 | G10: 0 | H10: 74.200952 | I10: 75.427183 | K10: DT | N10: TH | Q10: 206586 | R10: 228000260164
A11: 2. Thuế giá trị gia tăng hàng hóa nhập khẩu | B11: 430000 | D11: 305689 | E11: 0 | F11: 485680 | G11: 0 | H11: 112.94884 | I11: 119.42589 | L11: 96.466041 | M11: 3.5339591 | O11: 69.71172 | P11: 30.28828 | Q11: 406679 | R11: 304160509976
A12: II. THU NỘI ĐỊA | B12: 9235000 | C12: 8550001 | D12: 5202437 | E12: 4808298 | F12: 11300000 | G12: 10656105 | H12: 122.36058 | I12: 135.42311 | K12: 9055000 | L12: 8735000 | M12: 320000 | N12: 11093400 | O12: 7733400 | P12: 3360000 | Q12: 8344218.4
A13: Thu nội địa trừ tiền sử dụng đất, thu cổ tức, lợi nhuận được chia và lợi nhuận còn lại, xổ số kiến thiết | B13: 5175000 | C13: 4490001 | D13: 3368370 | E13: 2974231 | F13: 5462000 | G13: 4818105 | H13: 105.54589 | I13: 109.31426 | K13: 5125000 | L13: 4805000 | M13: 320000 | N13: 5393400 | O13: 2033400 | P13: 3360000 | Q13: 4996603.4
A14: 1. Thu từ DNNN Trung ương | B14: 320000 | C14: 320000 | D14: 220026 | E14: 219185 | F14: 295000 | G14: 295000 | H14: 92.1875 | I14: 101.79883 | K14: 320000 | L14: 0 | M14: 320000 | N14: 295000 | O14: 0 | P14: 295000 | Q14: 289787.22
A15: - Thuế giá trị gia tăng | B15: 211820 | C15: 211820 | D15: 158297 | E15: 158297 | F15: 243000 | G15: 243000 | H15: 114.72005 | I15: 112.09314 | K15: 0 | N15: 0 | Q15: 216784 | R15: 212215007442
A16: - Thuế TTĐB | B16: 180 | C16: 180 | D16: 202 | E16: 24 | H16: 0 | I16: 0 | K16: 0 | N16: 0 | Q16: 202.65849 | R16: 35560950
A17: - Thuế thu nhập doanh nghiệp | B17: 68000 | C17: 68000 | D17: 36821 | E17: 36158 | F17: 45000 | G17: 45000 | H17: 66.176471 | I17: 105.00529 | K17: 0 | N17: 0 | Q17: 42854.984 | R17: 61330066371
A18: - Thuế tài nguyên | B18: 40000 | C18: 40000 | D18: 24706 | E18: 24706 | F18: 7000 | G18: 7000 | H18: 17.5 | I18: 23.375737 | K18: 0 | N18: 0 | Q18: 29945.579 | R18: 33547438424
A19: 2. Thu từ DNNN địa phương | B19: 110000 | C19: 110000 | D19: 88941 | E19: 88941 | F19: 125000 | G19: 125000 | H19: 113.63636 | I19: 102.62381 | K19: 110000 | L19: 110000 | M19: 0 | N19: 125000 | O19: 125000 | P19: 0 | Q19: 121804.09
A20: - Thuế giá trị gia tăng | B20: 57000 | C20: 57000 | D20: 45872 | E20: 45872 | F20: 60600 | G20: 60600 | H20: 106.31579 | I20: 108.33814 | K20: 0 | N20: 0 | Q20: 55935.979 | R20: 65515145292
A21: - Thuế thu nhập doanh nghiệp | B21: 42000 | C21: 42000 | D21: 36381 | E21: 36381 | F21: 55000 | G21: 55000 | H21: 130.95238 | I21: 96.569701 | K21: 0 | N21: 0 | Q21: 56953.681 | R21: 37765925145
A22: - Thuế tài nguyên | B22: 11000 | C22: 11000 | D22: 6688 | E22: 6688 | F22: 9400 | G22: 9400 | H22: 85.454545 | I22: 105.44703 | K22: 0 | N22: 0 | Q22: 8914.4282 | R22: 7909317076
A23: 3. Thu từ DN có VĐT NN | B23: 300000 | C23: 300000 | D23: 174670 | E23: 174670 | F23: 325000 | G23: 325000 | H23: 108.33333 | I23: 100.30044 | K23: 300000 | L23: 300000 | M23: 0 | N23: 325000 | O23: 325000 | P23: 0 | Q23: 324026.48
A24: - Thuế giá trị gia tăng | B24: 122670 | C24: 122670 | D24: 87358 | E24: 87358 | F24: 149670 | G24: 149670 | H24: 122.01027 | I24: 108.26367 | K24: 0 | N24: 0 | Q24: 138245.82 | R24: 134233952027
A25: - Thuế TTĐB | B25: 30 | C25: 30 | D25: 19 | E25: 19 | F25: 30 | G25: 30 | H25: 100 | I25: 136.41475 | K25: 0 | N25: 0 | Q25: 21.991756 | R25: 21584617
A26: - Thuế thu nhập doanh nghiệp | B26: 177000 | C26: 177000 | D26: 87265 | E26: 87265 | F26: 175000 | G26: 175000 | H26: 98.870056 | I26: 94.228208 | K26: 0 | N26: 0 | Q26: 185719.33 | R26: 133432034284
A27: - Thuế tài nguyên | B27: 300 | C27: 300 | D27: 28 | E27: 28 | F27: 300 | G27: 300 | H27: 100 | I27: 762.597 | K27: 0 | N27: 0 | Q27: 39.339258 | R27: 199725622
A28: 4. Thu từ khu vực CTN ngoài QD | B28: 2185000 | C28: 2185000 | D28: 1343756 | E28: 1343754 | F28: 2185000 | G28: 2185000 | H28: 100 | I28: 108.76136 | K28: 2185000 | L28: 2185000 | M28: 0 | N28: 2185000 | O28: 0 | P28: 2185000 | Q28: 2008985.6
A29: - Thuế giá trị gia tăng | B29: 1362000 | C29: 1362000 | D29: 794399 | E29: 794399 | F29: 1322000 | G29: 1322000 | H29: 97.063142 | I29: 111.14228 | K29: 0 | N29: 0 | Q29: 1189466.3 | R29: 999464988571
A30: - Thuế TTĐB hàng hóa, dịch vụ trong nước | B30: 258000 | C30: 258000 | D30: 215336 | E30: 215334 | F30: 298000 | G30: 298000 | H30: 115.50388 | I30: 109.0121 | K30: 0 | N30: 0 | Q30: 273364.15 | R30: 228459002614
A31: - Thuế thu nhập doanh nghiệp | B31: 435000 | C31: 435000 | D31: 241712 | E31: 241712 | F31: 420000 | G31: 420000 | H31: 96.551724 | I31: 102.1906 | K31: 0 | N31: 0 | Q31: 410996.7 | R31: 334508713262
A32: - Thuế tài nguyên | B32: 130000 | C32: 130000 | D32: 92309 | E32: 92309 | F32: 145000 | G32: 145000 | H32: 111.53846 | I32: 107.28154 | K32: 0 | N32: 0 | Q32: 135158.39 | R32: 95654612121
A33: 5. Lệ phí trước bạ | B33: 270000 | C33: 270000 | D33: 193006 | E33: 193006 | F33: 320000 | G33: 320000 | H33: 118.51852 | I33: 113.09449 | K33: 270000 | L33: 270000 | M33: 0 | N33: 320000 | O33: 320000 | P33: 0 | Q33: 282949.23 | R33: 209587909202
A34: 6. Thuế sử dụng đất nông nghiệp | D34: 1103 | E34: 1103 | H34: 0 | I34: 0 | K34: 0 | L34: 0 | M34: 0 | O34: 0 | Q34: 1112.5242 | R34: 621305445
A35: 6. Thuế sử dụng đất phi nông nghiệp | B35: 15000 | C35: 15000 | D35: 12932 | E35: 12932 | F35: 18400 | G35: 18400 | H35: 122.66667 | I35: 115.48811 | K35: 15000 | L35: 15000 | M35: 0 | N35: 18400 | O35: 18400 | P35: 0 | Q35: 15932.377 | R35: 14565356796
A36: 7. Thuế thu nhập cá nhân | B36: 330000 | C36: 330000 | D36: 223149 | E36: 223149 | F36: 360000 | G36: 360000 | H36: 109.09091 | I36: 117.78415 | K36: 330000 | L36: 330000 | M36: 0 | N36: 360000 | O36: 360000 | P36: 0 | Q36: 305643.85 | R36: 242772277375
A37: 8. Thuế bảo vệ môi trường | B37: 820000 | C37: 305000 | D37: 445265 | E37: 165677 | F37: 820000 | G37: 305000 | H37: 100 | I37: 132.70679 | K37: 820000 | L37: 820000 | M37: 0 | N37: 820000 | O37: 0 | P37: 820000 | Q37: 617903.56
A38: - Số thu ngân sách Trung ương hưởng 100% | B38: 515000 | D38: 279588 | F38: 515000 | G38: 0 | H38: 100 | I38: 132.74205 | K38: 0 | N38: 0 | Q38: 387970.49 | R38: 382582458504
A39: - Số thu phân chia ngân sách Trung ương với địa phương | B39: 305000 | C39: 305000 | D39: 165677 | E39: 165677 | F39: 305000 | G39: 305000 | H39: 100 | I39: 132.6473 | K39: 0 | N39: 0 | Q39: 229933.06 | R39: 226672475601
A40: 9. Thu phí và lệ phí | B40: 150000 | C40: 100000 | D40: 114366 | E40: 64178 | F40: 155000 | G40: 94800 | H40: 103.33333 | I40: 94.115128 | K40: 150000 | L40: 150000 | M40: 0 | N40: 155000 | O40: 155000 | P40: 0 | Q40: 164691.91
...

Sheet 04
L1: Phụ lục số 04
A2: ƯỚC THỰC HIỆN CHI NGÂN SÁCH ĐỊA PHƯƠNG NĂM 2019
A3: (Kèm theo Báo cáo số /BC-UBND ngày /11/2019 của Ủy ban nhân dân tỉnh)
L4: Đơn vị tính : Triệu đồng
A5: NỘI DUNG CHI | B5: Dự toán năm 2019 (điều chỉnh) | E5: Thực hiện 9 tháng | H5: Ước thực hiện | K5: So sánh
B6: NSĐP | C6: Chia ra | E6: NSĐP | F6: Chia ra | H6: NSĐP | I6: Chia ra | K6: Dự toán | L6: Cùng kỳ
C7: NS tỉnh | D7: NS H, TX, TP | F7: NS tỉnh | G7: NS H, TX, TP | I7: NS tỉnh | J7: NS H, TX, TP
N8: 106.17397 | O8: 142.4375 | P8: 352.85714
A9: 1 | B9: 2 | C9: 3 | D9: 4 | H9: 5 | I9: 6 | J9: 7 | K9: 8 | L9: 9
A10: TỔNG CHI NGÂN SÁCH ĐỊA PHƯƠNG (I->VII) | B10: 14030780 | C10: 8678238 | D10: 5352542 | E10: 8257345 | F10: 4232353 | G10: 4024992 | H10: 16838057 | I10: 9214029.6 | J10: 7624026.8 | K10: 120.00799 | L10: 122.82249 | N10: 13709262 | O10: 106.17397 | P10: 142.4375
A11: I. Chi đầu tư phát triển: | B11: 4694320 | C11: 3840570 | D11: 853750 | E11: 2073575 | F11: 1140192 | G11: 933383 | H11: 6469320 | I11: 3845570 | J11: 2623750 | K11: 137.81165 | L11: 191.30718 | N11: 3381640 | O11: 100.13019 | P11: 307.32064
A12: 1. Chi đầu tư xây dựng vốn trong nước | B12: 582040 | C12: 428290 | D12: 153750 | E12: 341205 | F12: 261250 | G12: 79955 | H12: 582040 | I12: 428290 | J12: 153750 | K12: 100 | L12: 112.65872 | N12: 516640 | O12: 100 | P12: 100
A13: 2. Chi đầu tư từ nguồn thu tiền sử dụng đất | B13: 3832600 | C13: 3132600 | D13: 700000 | E13: 744879 | F13: 356474 | G13: 388405 | H13: 5602600 | I13: 3132600 | J13: 2470000 | K13: 146.18275 | L13: 215.48462 | N13: 2600000 | O13: 100 | P13: 352.85714
A14: 3. Chi đầu tư từ nguồn thu xổ số kiến thiết | B14: 105000 | C14: 105000 | E14: 42764 | F14: 42764 | G14: 0 | H14: 110000 | I14: 110000 | J14: 0 | K14: 104.7619 | L14: 100 | N14: 110000 | O14: 104.7619 | P14: #DIV/0!
A15: 4. Chi từ nguồn thu vay để bù đắp bội chi | B15: 116100 | C15: 116100 | H15: 116100 | I15: 116100 | K15: 100 | L15: 258 | N15: 45000 | O15: 100 | P15: #DIV/0!
A16: 5. Chi đầu tư từ các nguồn khác | B16: 58580 | C16: 58580 | E16: 944727 | F16: 479704 | G16: 465023 | H16: 58580 | I16: 58580 | K16: 100 | L16: 53.254545 | N16: 110000 | O16: 100 | P16: #DIV/0!
A17: II. Chi thường xuyên | B17: 6488250 | C17: 2721975 | D17: 3766275 | E17: 5217798 | F17: 2173476 | G17: 3044322 | H17: 6621615.4 | I17: 2760725.6 | J17: 3860889.8 | K17: 102.05549 | L17: 103.35131 | N17: 6406900.2
A18: 1. Chi sự nghiệp kinh tế | B18: 612490 | C18: 380333 | D18: 232157 | E18: 944261 | F18: 742705 | G18: 201556 | H18: 614586.79 | I18: 381266.89 | J18: 233319.9 | K18: 100.34234 | L18: 114.88702 | N18: 534948.85
A19: 2. Sự nghiệp bảo vệ môi trường | B19: 39113 | C19: 10250 | D19: 28863 | E19: 64370 | F19: 2909 | G19: 61461 | H19: 39121.092 | I19: 10258.092 | J19: 28863 | K19: 100.02069 | L19: 108.90079 | N19: 35923.608
A20: 3. Chi sự nghiệp giáo dục, đào tạo và dạy nghề | B20: 3066727 | C20: 576055 | D20: 2490672 | E20: 1939130 | F20: 358690 | G20: 1580440 | H20: 3148546.8 | I20: 588918.01 | J20: 2559628.8 | K20: 102.66798 | L20: 105.53745 | N20: 2983345.6 | Z20: 8077409.4 | AA20: 3172740.1 | AB20: 4904669.3
A21: 4. Chi sự nghiệp y tế, dân số và gia đình | B21: 902689 | C21: 902689 | E21: 547280 | F21: 543494 | G21: 3786 | H21: 919577.59 | I21: 919577.59 | J21: 0 | K21: 101.87092 | L21: 99.083529 | N21: 928083.2 | Z21: 7944044 | AA21: 3133989.5 | AB21: 4810054.5
A22: 5. Chi sự nghiệp khoa học - công nghệ | B22: 55963 | C22: 52923 | D22: 3040 | E22: 51462 | F22: 50671 | G22: 791 | H22: 56119.18 | I22: 53079.18 | J22: 3040 | K22: 100.27908 | L22: 100.83553 | N22: 55654.173 | R22: tong | S22: tinh | T22: tinh | U22: huyen | V22: con lại | Z22: tổng | AA22: tỉnh | AB22: huyện
A23: 6. Chi sự nghiệp văn hoá - thông tin | B23: 97221 | C23: 70037 | D23: 27184 | E23: 62237 | F23: 45376 | G23: 16861 | H23: 99351.402 | I23: 70710.891 | J23: 28640.51 | K23: 102.1913 | L23: 91.758565 | N23: 108274.8 | R23: 0 | S23: 0 | T23: 0 | U23: 0 | V23: 101205.64 | X23: Tổng cộng | Z23: 133365.35 | AA23: 38750.577 | AB23: 94614.777
A24: 7. Chi sự nghiệp phát thanh - truyền hình | B24: 36984 | C24: 22154 | D24: 14830 | E24: 27862 | F24: 12547 | G24: 15315 | H24: 37591.658 | I24: 22451.798 | J24: 15139.86 | K24: 101.64303 | L24: 122.63285 | N24: 30653.824 | Q24: Kinh tế | X24: 1 | Y24: Sự nghiệp giáo dục - đào tạo | Z24: 81819.784 | AA24: 12863.011 | AB24: 68956.773
A25: 8. Chi sự nghiệp thể dục - thể thao | B25: 50431 | C25: 41386 | D25: 9045 | E25: 33790 | F25: 25161 | G25: 8629 | H25: 50590.177 | I25: 41471.482 | J25: 9118.6951 | K25: 100.31563 | L25: 103.06592 | N25: 49085.263 | Q25: Hành chính | Y25: - Giáo dục: | Z25: 81586.356 | AA25: 12651.818 | AB25: 68934.538
A26: 9. Chi đảm bảo xã hội | B26: 186350 | C26: 131767 | D26: 54583 | E26: 440178 | F26: 33811 | G26: 406367 | H26: 186754.3 | I26: 132103.33 | J26: 54650.976 | K26: 100.21696 | L26: 65.031127 | N26: 287176.79 | Q26: GD-ĐT | Y26: - Đào tạo | Z26: 233.42778 | AA26: 211.19345 | AB26: 22.234329
A27: 10. Chi quản lý hành chính | B27: 1199764 | C27: 411457 | D27: 788307 | E27: 878406 | F27: 251058 | G27: 627348 | H27: 1228858.4 | I27: 417964.32 | J27: 810894.06 | K27: 102.42501 | L27: 106.54844 | N27: 1153333.1 | Q27: VHTT | X27: 2 | Y27: Sự nghiệp y tế | Z27: 16888.591 | AA27: 16888.591 | AB27: 0
A28: 11. Chi an ninh | B28: 36417 | C28: 13163 | D28: 23254 | E28: 35212 | F28: 7211 | G28: 28001 | H28: 36417 | I28: 13163 | J28: 23254 | K28: 100 | L28: 101.71494 | N28: 35803 | Q28: khcn | X28: 3 | Y28: Sự nghiệp khoa học-công nghệ | Z28: 156.17958 | AA28: 156.17958 | AB28: 0
A29: 12. Chi quốc phòng | B29: 144104 | C29: 67841 | D29: 76263 | E29: 117431 | F29: 52785 | G29: 64646 | H29: 144104 | I29: 67841 | J29: 76263 | K29: 100 | L29: 98.614238 | N29: 146129 | Q29: dbxh | X29: 4 | Y29: Sự nghiệp văn hoá thông tin | Z29: 2130.4017 | AA29: 673.89141 | AB29: 1456.5103
A30: 13. Chi khác ngân sách | B30: 59997 | C30: 41920 | D30: 18077 | E30: 76179 | F30: 47058 | G30: 29121 | H30: 59997 | I30: 41920 | J30: 18077 | K30: 100 | L30: 102.57826 | N30: 58489 | Q30: y te | X30: 5 | Y30: Sự nghiệp phát thanh truyền hình | Z30: 607.65765 | AA30: 297.79751 | AB30: 309.86014
A31: III. Chi bổ sung Quỹ Dự trữ tài chính | B31: 1360 | C31: 1360 | H31: 1360 | I31: 1360 | J31: 0 | K31: 100 | L31: 100 | N31: 1360 | Q31: BVMT | X31: 6 | Y31: Sự nghiệp thể dục - thể thao | Z31: 159.17664 | AA31: 85.481506 | AB31: 73.695131
A32: IV. Dự phòng | B32: 186606 | C32: 90825 | D32: 95781 | H32: 186606 | I32: 90825 | J32: 95781 | K32: 100 | L32: 108.16485 | N32: 172520 | Q32: CCTL | X32: 7 | Y32: Sự nghiệp đảm bảo xã hội | Z32: 404.3009 | AA32: 336.32503 | AB32: 67.97587
A33: V. Chi tạo nguồn thực hiện cải cách tiền lương | H33: 0 | I33: 0 | J33: 0 | K33: 0 | L33: 0 | N33: 28602 | X33: 8 | Y33: Sự nghiệp kinh tế | Z33: 2096.7872 | AA33: 933.8863 | AB33: 1162.9009
A34: V. Chi trả nợ lãi, phí vay | B34: 3800 | C34: 3800 | E34: 595 | F34: 595 | H34: 3800 | I34: 3800 | J34: 0 | K34: 100 | L34: 140.74074 | N34: 2700 | S34: -13817 | U34: -78047 | X34: 9 | Y34: Sự nghiệp môi trường | Z34: 8.0922268 | AA34: 8.0922268 | AB34: 0
A35: VI. Chi theo mục tiêu | B35: 2656444 | C35: 2019708 | D35: 636736 | E35: 965377 | F35: 918090 | G35: 47287 | H35: 3555356 | I35: 2511749 | J35: 1043607 | K35: 133.83892 | L35: 95.688811 | N35: 3715540 | X35: 10 | Y35: Quản lý nhà nước, đảng, đoàn thể | Z35: 29094.384 | AA35: 6507.3211 | AB35: 22587.062
A36: 1. Chương trình mục tiêu quốc gia | B36: 471267 | C36: 471267 | H36: 471267 | I36: 64396 | J36: 406871 | K36: 100 | L36: 162.98132 | N36: 289154
A37: 2. Chi theo chương trình mục tiêu và các chính sách | B37: 2185177 | C37: 1548441 | D37: 636736 | H37: 3084089 | I37: 2447353 | J37: 636736 | K37: 141.13681 | L37: 90.009971 | N37: 3426386

Sheet Sheet1
