Workbook

Sheet Sheet1
A1: UBND TỈNH BÌNH ĐỊNH | D1: Biểu số 59/CK-NSNN
A2: CÂN ĐỐI NGÂN SÁCH ĐỊA PHƯƠNG 06 THÁNG NĂM 2024
F4: Đơn vị: Triệu đồng
A5: STT | B5: NỘI DUNG | C5: DỰ TOÁN NĂM | D5: ƯỚC THỰC HIỆN 6 THÁNG | E5: SO SÁNH ƯỚC THỰC HIỆN VỚI (%)
E6: DỰ TOÁN NĂM | F6: CÙNG KỲ NĂM TRƯỚC
A8: A | B8: TỔNG NGUỒN THU NSNN TRÊN ĐỊA BÀN | C8: 15000000 | D8: {=[1]!'!Sheet1!R8C4'} -> 6486501.4 | E8: =+D8/C8*100 -> 43.243343 | F8: =+D8/H8*100 -> 132.42337 | H8: 4898305.5
A9: I | B9: Thu cân đối NSNN | C9: 13809900 | D9: =+D10+D11+D12+D13 -> 6396036.5 | E9: =+D9/C9*100 -> 46.314865 | F9: =+D9/H9*100 -> 131.98921 | H9: 4845878.2
A10: 1 | B10: Thu nội địa | C10: 14267000 | D10: {=[1]!'!Sheet1!R9C4'} -> 6022376 | E10: =+D10/C10*100 -> 42.211929 | F10: =+D10/H10*100 -> 129.84421 | H10: 4638155.2
A11: 2 | B11: Thu từ dầu thô
A12: 3 | B12: Thu cân đối từ hoạt động xuất khẩu, nhập khẩu | C12: 450000 | D12: {=[1]!'!Sheet1!R29C4'} -> 373197.23 | E12: =+D12/C12*100 -> 82.932718 | F12: =+D12/H12*100 -> 179.66101 | H12: 207723
A13: 4 | B13: Thu viện trợ | C13: 4000 | D13: {=[1]!'!Sheet1!R36C4'} -> 463.3112 | E13: =+D13/C13*100 -> 11.58278
A14: II | B14: Thu chuyển nguồn từ năm trước chuyển sang | C14: 691394
A15: B | B15: TỔNG CHI NSĐP | C15: 20771669 | D15: {=[2]!'!Sheet1!R8C4'} -> 8352722.7 | E15: =+D15/C15*100 -> 40.212092 | F15: =+D15/H15*100 -> 106.83703 | H15: 7818191
A16: I | B16: Chi cân đối NSĐP | C16: 17934911 | D16: =+D17+D18+D19 -> 7214303.7 | E16: =+D16/C16*100 -> 40.224921 | F16: =+D16/H16*100 -> 109.89929 | H16: 6564468
A17: 1 | B17: Chi đầu tư phát triển | C17: 7345122 | D17: {=[2]!'!Sheet1!R10C4'} -> 2691371.3 | E17: =+D17/C17*100 -> 36.641615 | F17: =+D17/H17*100 -> 108.56624 | H17: 2479013
A18: 2 | B18: Chi thường xuyên | C18: 9884203 | D18: {=[2]!'!Sheet1!R14C4'} -> 4517955.3 | E18: =+D18/C18*100 -> 45.708847 | F18: =+D18/H18*100 -> 110.67102 | H18: 4082329
A19: 3 | B19: Chi trả nợ lãi các khoản do chính quyền địa phương vay | C19: 16000 | D19: {=[2]!'!Sheet1!R26C4'} -> 4977.1296 | E19: =+D19/C19*100 -> 31.10706 | F19: =+D19/H19*100 -> 159.2172 | H19: 3126
A20: 4 | B20: Chi bổ sung quỹ dự trữ tài chính | C20: 1360
A21: 5 | B21: Dự phòng ngân sách | C21: 352106
A22: II | B22: Chi từ nguồn bổ sung có mục tiêu từ NSTW cho NSĐP | C22: 2836758 | D22: {=[2]!'!Sheet1!R29C4'} -> 1138419 | E22: =+D22/C22*100 -> 40.130988 | F22: =+D22/H22*100 -> 90.803072 | H22: 1253723
A23: C | B23: BỘI CHI NSĐP/BỘI THU NSĐP | C23: 279000 | D23: 96108.417 | E23: =+D23/C23*100 -> 34.447461 | F23: =+D23/H23*100 -> 134.50937 | H23: 71451.095
A24: D | B24: CHI TRẢ NỢ GỐC | C24: 31700 | D24: 4944.8587 | E24: =+D24/C24*100 -> 15.598923 | F24: =+D24/H24*100 -> 97.230981 | H24: 5085.6822
