Workbook

Sheet CQTW
A1: XẾP HẠNG CÁC CƠ QUAN TRUNG ƯƠNG
A3: Xếp hạng chung
A4: Xếp hạng | G4: Tên đơn vị | H4: Chỉ số HTKT CNTT | I4: Chỉ số ƯD CNTT | J4: Chỉ số NL CNTT | K4: ICT Index
A5: 2012 | B5: 2013 | C5: 2014 | D5: 2015 | E5: 2016 | F5: 2017
A6: 1 | B6: 3 | C6: 4 | D6: 1 | E6: 2 | F6: 1 | G6: Tổng cục Hải quan | H6: 0.52123265 | I6: 0.94132824 | J6: 0.45541439 | K6: 0.63932509
A7: 2 | B7: 1 | C7: 1 | D7: 4 | E7: 1 | F7: 2 | G7: Tổng cục Thuế | H7: 0.74722284 | I7: 0.78143825 | J7: 0.30266484 | K7: 0.61044198
A8: 4 | B8: 2 | C8: 3 | D8: 3 | E8: 3 | F8: 3 | G8: Cơ quan Bộ Tài chính | H8: 0.48580924 | I8: 0.55898244 | J8: 0.65591371 | K8: 0.5669018
A9: 6 | B9: 6 | C9: 2 | D9: 2 | E9: 5 | F9: 4 | G9: Ủy ban Chứng khoán Nhà nước | H9: 0.63246328 | I9: 0.6265738 | J9: 0.43690419 | K9: 0.56531376
A10: 3 | B10: 4 | C10: 5 | D10: 6 | E10: 4 | F10: 5 | G10: Kho bạc Nhà nước | H10: 0.21155897 | I10: 0.31353903 | J10: 0.71624836 | K10: 0.41378212
A11: 5 | B11: 5 | C11: 6 | D11: 5 | E11: 6 | F11: 6 | G11: Tổng cục Dự trữ Nhà nước | H11: 0.57492395 | I11: 0.041137766 | J11: 0.13851712 | K11: 0.25152628
A13: Xếp hạng Hạ tầng kỹ thuật CNTT
A14: Xếp hạng | G14: Tên đơn vị | H14: TL máy tính/ CBCC | I14: TL băng thông Int./ CBCC | J14: Kết nối HTTT của ĐV với ĐVTT | K14: Triển khai hệ thống ATTT và ATDL | L14: Chỉ số HTKT CNTT
A15: 2012 | B15: 2013 | C15: 2014 | D15: 2015 | E15: 2016 | F15: 2017
A16: 2 | B16: 1 | C16: 1 | D16: 4 | E16: 1 | F16: =RANK((L16),($L$16:$L$21)) -> 1 | G16: Tổng cục Thuế | H16: 1.4512195 | I16: 16686.201 | J16: 1 | K16: 45.5 | L16: 0.74722284
A17: 4 | B17: 3 | C17: 2 | D17: 5 | E17: 3 | F17: =RANK((L17),($L$16:$L$21)) -> 2 | G17: Ủy ban Chứng khoán Nhà nước | H17: 1.7217125 | I17: 3807.3394 | J17: 1 | K17: 40 | L17: 0.63246328
A18: 3 | B18: 4 | C18: 6 | D18: 3 | E18: 4 | F18: =RANK((L18),($L$16:$L$21)) -> 3 | G18: Tổng cục Dự trữ Nhà nước | H18: 1.5230769 | I18: 26883.938 | J18: 1 | K18: 22.643939 | L18: 0.57492395
A19: 6 | B19: 6 | C19: 5 | D19: 2 | E19: 5 | F19: =RANK((L19),($L$16:$L$21)) -> 4 | G19: Tổng cục Hải quan | H19: 1.4068279 | I19: 18.6266 | J19: 1 | K19: 45.590654 | L19: 0.52123265
A20: 5 | B20: 5 | C20: 4 | D20: 6 | E20: 6 | F20: =RANK((L20),($L$16:$L$21)) -> 5 | G20: Cơ quan Bộ Tài chính | H20: 1.330958 | I20: 3606.2961 | J20: 1 | K20: 42.5 | L20: 0.48580924
A21: 1 | B21: 2 | C21: 3 | D21: 1 | E21: 2 | F21: =RANK((L21),($L$16:$L$21)) -> 6 | G21: Kho bạc Nhà nước | H21: 1 | I21: 2017.9372 | J21: 1 | K21: 35.5 | L21: 0.21155897
A23: Xếp hạng Ứng dụng CNTT
A24: Xếp hạng | G24: Tên đơn vị | H24: Sử dụng thư điện tử | I24: Triển khai các ứng dụng cơ bản | J24: Ứng dụng PMNM | K24: Sử dụng văn bản điện tử | L24: Dịch vụ công trực tuyến | M24: Chỉ số ƯD CNTT
A25: 2012 | B25: 2013 | C25: 2014 | D25: 2015 | E25: 2016 | F25: 2017
A26: 1 | B26: 2 | C26: 3 | D26: 1 | E26: 2 | F26: =RANK((M26),($M$26:$M$31)) -> 1 | G26: Tổng cục Hải quan | H26: 1 | I26: 21.72 | J26: 3.8035714 | K26: 20.691429 | L26: 38.016854 | M26: 0.94132824
A27: 3 | B27: 1 | C27: 1 | D27: 2 | E27: 4 | F27: =RANK((M27),($M$26:$M$31)) -> 2 | G27: Tổng cục Thuế | H27: 1 | I27: 18.4 | J27: 3 | K27: 24.2 | L27: 36.71131 | M27: 0.78143825
A28: 6 | B28: 3 | C28: 2 | D28: 3 | E28: 5 | F28: =RANK((M28),($M$26:$M$31)) -> 3 | G28: Ủy ban Chứng khoán Nhà nước | H28: 1 | I28: 15.276923 | J28: 3.5 | K28: 20.4 | L28: 32.414634 | M28: 0.6265738
A29: 2 | B29: 4 | C29: 4 | D29: 4 | E29: 3 | F29: =RANK((M29),($M$26:$M$31)) -> 4 | G29: Cơ quan Bộ Tài chính | H29: 1 | I29: 13.2 | J29: 3.4166667 | K29: 20.2 | L29: 32.909465 | M29: 0.55898244
A30: 5 | B30: 6 | C30: 5 | D30: 5 | E30: 1 | F30: =RANK((M30),($M$26:$M$31)) -> 5 | G30: Kho bạc Nhà nước | H30: 1 | I30: 17.047619 | J30: 1.8333333 | K30: 12.063492 | L30: 31.454545 | M30: 0.31353903
A31: 4 | B31: 5 | C31: 6 | D31: 6 | E31: 6 | F31: =RANK((M31),($M$26:$M$31)) -> 6 | G31: Tổng cục Dự trữ Nhà nước | H31: 1 | I31: 13.88125 | J31: 2 | K31: 9.25 | L31: 21 | M31: 0.041137766
A33: Xếp hạng Nhân lực CNTT
A34: Xếp hạng | G34: Tên đơn vị | H34: TL CBCT CNTT | I34: Tỷ lệ CBCT trình độ từ ĐH về CNTT | J34: TL CBCT ATTT | K34: TL CBCT có chứng chỉ QT | L34: TL CBCC được HDSD PMNM | M34: Tỷ lệ CBCC được tập huấn về ATTT | N34: Chỉ số nhân lực CNTT
A35: 2012 | B35: 2013 | C35: 2014 | D35: 2015 | E35: 2016 | F35: 2017
A36: 1 | B36: 1 | C36: 5 | D36: 6 | E36: 1 | F36: =_xlfn.RANK.AVG((N36),($N$36:$N$41)) -> 1 | G36: Kho bạc Nhà nước | H36: 0.17488789 | I36: 0.98717949 | J36: 0.015695067 | K36: 0.038461538 | L36: 1 | M36: 1 | N36: 0.71624836
A37: 5 | B37: 3 | C37: 4 | D37: 4 | E37: 5 | F37: =_xlfn.RANK.AVG((N37),($N$36:$N$41)) -> 2 | G37: Cơ quan Bộ Tài chính | H37: 0.060174188 | I37: 0.81578947 | J37: 0.06888361 | K37: 0.19736842 | L37: 0.71258907 | M37: 0.74980206 | N37: 0.65591371
A38: 2 | B38: 4 | C38: 3 | D38: 1 | E38: 2 | F38: =_xlfn.RANK.AVG((N38),($N$36:$N$41)) -> 3 | G38: Tổng cục Hải quan | H38: 0.11948791 | I38: 1 | J38: 0.0071123755 | K38: 0.17857143 | L38: 0.15647226 | M38: 0.17069701 | N38: 0.45541439
A39: 6 | B39: 6 | C39: 1 | D39: 2 | E39: 4 | F39: =_xlfn.RANK.AVG((N39),($N$36:$N$41)) -> 4 | G39: Ủy ban Chứng khoán Nhà nước | H39: 0.088685015 | I39: 1 | J39: 0.024464832 | K39: 0 | L39: 0.55045872 | M39: 0.55045872 | N39: 0.43690419
A40: 3 | B40: 5 | C40: 2 | D40: 3 | E40: 3 | F40: =_xlfn.RANK.AVG((N40),($N$36:$N$41)) -> 5 | G40: Tổng cục Thuế | H40: 0.11707317 | I40: 1 | J40: 0.0073170732 | K40: 0.0625 | L40: 0 | M40: 0.019512195 | N40: 0.30266484
A41: 4 | B41: 2 | C41: 6 | D41: 5 | E41: 6 | F41: =_xlfn.RANK.AVG((N41),($N$36:$N$41)) -> 6 | G41: Tổng cục Dự trữ Nhà nước | H41: 0.13076923 | I41: 0.64705882 | J41: 0.015384615 | K41: 0 | L41: 0.015384615 | M41: 0.084615385 | N41: 0.13851712

Sheet STC
A1: XẾP HẠNG CÁC SỞ TÀI CHÍNH TỈNH/TP
A3: Xếp hạng chung
A4: Xếp hạng | G4: Tên đơn vị | H4: Chỉ số HTKT CNTT | I4: Chỉ số ƯD CNTT | J4: Chỉ số NL CNTT | K4: ICT Index
A5: 2012 | B5: 2013 | C5: 2014 | D5: 2015 | E5: 2016 | F5: 2017
A6: 2 | B6: 2 | C6: 1 | D6: 1 | E6: 1 | F6: 1 | G6: Sở Tài chính Hà Nội | H6: 0.60601013 | I6: 0.48259506 | J6: 0.63937659 | K6: 0.57599393
A7: 1 | B7: 1 | C7: 2 | D7: 2 | E7: 6 | F7: 2 | G7: Sở Tài chính Đà Nẵng | H7: 0.64284202 | I7: 0.48202768 | J7: 0.6 | K7: 0.57495657
A8: 11 | B8: 7 | C8: 5 | D8: 4 | E8: 11 | F8: 3 | G8: Sở Tài chính Thừa Thiên Huế | H8: 0.55682799 | I8: 0.451578 | J8: 0.64814815 | K8: 0.55218471
A9: 4 | B9: 5 | C9: 6 | D9: 7 | E9: 7 | F9: 4 | G9: Sở Tài chính Bình Định | H9: 0.58177059 | I9: 0.46655643 | J9: 0.58772803 | K9: 0.54535168
A10: 29 | B10: 17 | C10: 29 | D10: 37 | E10: 5 | F10: 5 | G10: Sở Tài chính Tuyên Quang | H10: 0.59664198 | I10: 0.44446019 | J10: 0.59201878 | K10: 0.54437365
A11: - | B11: 62 | C11: 61 | D11: 60 | E11: 59 | F11: 6 | G11: Sở Tài chính Yên Bái | H11: 0.5173174 | I11: 0.55480105 | J11: 0.52089947 | K11: 0.53100597
A12: 12 | B12: 26 | C12: 50 | D12: 19 | E12: 12 | F12: 7 | G12: Sở Tài chính Thái Nguyên | H12: 0.53845582 | I12: 0.4439666 | J12: 0.57979798 | K12: 0.52074014
A13: 33 | B13: 22 | C13: 52 | D13: 35 | E13: 2 | F13: 8 | G13: Sở Tài chính Lâm Đồng | H13: 0.52494122 | I13: 0.42372783 | J13: 0.57375479 | K13: 0.50747461
A14: 56 | B14: 31 | C14: 43 | D14: 44 | E14: 40 | F14: 9 | G14: Sở Tài chính Khánh Hòa | H14: 0.48917719 | I14: 0.46180072 | J14: 0.55430108 | K14: 0.50175966
A15: 5 | B15: 6 | C15: 8 | D15: 11 | E15: 4 | F15: 10 | G15: Sở Tài chính Quảng Ngãi | H15: 0.46792402 | I15: 0.59705811 | J15: 0.43497268 | K15: 0.49998494
A16: 43 | B16: 12 | C16: 16 | D16: 29 | E16: 59 | F16: 11 | G16: Sở Tài chính Hưng Yên | H16: 0.61168524 | I16: 0.34387247 | J16: 0.54375 | K16: 0.49976923
A17: 36 | B17: 29 | C17: 31 | D17: 23 | E17: 43 | F17: 12 | G17: Sở Tài chính Đăk Nông | H17: 0.42842176 | I17: 0.49949807 | J17: 0.55519126 | K17: 0.49437036
A18: 20 | B18: 36 | C18: 42 | D18: 15 | E18: 15 | F18: 13 | G18: Sở Tài chính Sơn La | H18: 0.45625336 | I18: 0.77050561 | J18: 0.24 | K18: 0.48891966
A19: 9 | B19: 9 | C19: 9 | D19: 8 | E19: 9 | F19: 14 | G19: Sở Tài chính Vĩnh Long | H19: 0.57524667 | I19: 0.43407599 | J19: 0.41888889 | K19: 0.47607052
A20: 10 | B20: 30 | C20: 12 | D20: 12 | E20: 10 | F20: 15 | G20: Sở Tài chính Bắc Ninh | H20: 0.44939156 | I20: 0.4478552 | J20: 0.51207729 | K20: 0.46977469
A21: 14 | B21: 4 | C21: 4 | D21: 6 | E21: 3 | F21: 16 | G21: Sở Tài chính Đồng Tháp | H21: 0.48291869 | I21: 0.43842873 | J21: 0.43854167 | K21: 0.45329636
A22: - | B22: 45 | C22: 53 | D22: 53 | E22: 32 | F22: 17 | G22: Sở Tài chính Bà Rịa - Vũng Tàu | H22: 0.63965398 | I22: 0.46426938 | J22: 0.25024155 | K22: 0.4513883
A23: 42 | B23: 18 | C23: 15 | D23: 24 | E23: 37 | F23: 18 | G23: Sở Tài chính Quảng Trị | H23: 0.54067535 | I23: 0.43809774 | J23: 0.375 | K23: 0.4512577
A24: 32 | B24: 11 | C24: 18 | D24: 30 | E24: 16 | F24: 19 | G24: Sở Tài chính Đồng Nai | H24: 0.48802912 | I24: 0.39409813 | J24: 0.46786942 | K24: 0.44999889
A25: 46 | B25: 19 | C25: 20 | D25: 26 | E25: 39 | F25: 20 | G25: Sở Tài chính Bắc Kạn | H25: 0.47286071 | I25: 0.45633123 | J25: 0.41544715 | K25: 0.44821303
A26: 23 | B26: 23 | C26: 27 | D26: 21 | E26: 31 | F26: 21 | G26: Sở Tài chính Bình Phước | H26: 0.45128172 | I26: 0.38920175 | J26: 0.44964539 | K26: 0.43004295
A27: 34 | B27: 14 | C27: 10 | D27: 9 | E27: 13 | F27: 22 | G27: Sở Tài chính Lào Cai | H27: 0.50454912 | I27: 0.56688333 | J27: 0.21643192 | K27: 0.42928812
A28: 6 | B28: 33 | C28: 13 | D28: 10 | E28: 23 | F28: 23 | G28: Sở Tài chính Bắc Giang | H28: 0.47060527 | I28: 0.47372379 | J28: 0.32412935 | K28: 0.42281947
A29: 48 | B29: 32 | C29: 35 | D29: 38 | E29: 33 | F29: 24 | G29: Sở Tài chính Hà Nam | H29: 0.44474962 | I29: 0.42136294 | J29: 0.40066667 | K29: 0.42225974
A30: 30 | B30: 55 | C30: 36 | D30: 25 | E30: 21 | F30: 25 | G30: Sở Tài chính Phú Yên | H30: 0.50606078 | I30: 0.49953878 | J30: 0.21555556 | K30: 0.40705171
A31: 7 | B31: 3 | C31: 61 | D31: 18 | E31: 22 | F31: 26 | G31: Sở Tài chính Nghệ An | H31: 0.43842994 | I31: 0.39739759 | J31: 0.38366013 | K31: 0.40649589
A32: 31 | B32: 48 | C32: 40 | D32: 49 | E32: 44 | F32: 27 | G32: Sở Tài chính Bến Tre | H32: 0.50137867 | I32: 0.40912383 | J32: 0.30222222 | K32: 0.40424157
A33: 35 | B33: 8 | C33: 34 | D33: 45 | E33: 49 | F33: 28 | G33: Sở Tài chính Thái Bình | H33: 0.46598576 | I33: 0.52056894 | J33: 0.22059925 | K33: 0.40238465
A34: 22 | B34: 46 | C34: 49 | D34: 42 | E34: 34 | F34: 29 | G34: Sở Tài chính Quảng Bình | H34: 0.45287162 | I34: 0.50276757 | J34: 0.24871795 | K34: 0.40145238
... A49: 52 | B49: 57 | C49: 48 | D49: 41 | E49: 46 | F49: 44 | G49: Sở Tài chính Tiền Giang | H49: 0.39238406 | I49: 0.38022262 | J49: 0.23333333 | K49: 0.33531334
A50: - | B50: 43 | C50: 39 | D50: 52 | E50: 54 | F50: 45 | G50: Sở Tài chính Lạng Sơn | H50: 0.45359318 | I50: 0.37111182 | J50: 0.17033898 | K50: 0.33168133
A51: 47 | B51: 58 | C51: 44 | D51: 60 | E51: 55 | F51: 46 | G51: Sở Tài chính Vĩnh Phúc | H51: 0.40544919 | I51: 0.356301 | J51: 0.22090395 | K51: 0.32755138
A52: 44 | B52: 54 | C52: 51 | D52: 55 | E52: 50 | F52: 47 | G52: Sở Tài chính Sóc Trăng | H52: 0.43701693 | I52: 0.30181621 | J52: 0.23475177 | K52: 0.3245283
A53: - | B53: 42 | C53: 33 | D53: 48 | E53: 52 | F53: 48 | G53: Sở Tài chính TP. Hồ Chí Minh | H53: 0.10714104 | I53: 0.31452359 | J53: 0.52927536 | K53: 0.31698
A54: - | B54: 60 | C54: 54 | D54: 40 | E54: 28 | F54: 49 | G54: Sở Tài chính Cao Bằng | H54: 0.39890689 | I54: 0.33036395 | J54: 0.20641026 | K54: 0.3118937
A55: 16 | B55: 47 | C55: 7 | D55: 5 | E55: 59 | F55: 50 | G55: Sở Tài chính Ninh Thuận | H55: 0.50263462 | I55: 0.35444946 | J55: 0.074418605 | K55: 0.31050089
...

Sheet KBNN
A1: XẾP HẠNG CÁC KHO BẠC NHÀ NƯỚC TỈNH/TP
A3: Xếp hạng chung
A4: Xếp hạng | G4: Tên đơn vị | H4: Chỉ số HTKT CNTT | I4: Chỉ số ƯD CNTT | J4: Chỉ số NL CNTT | K4: ICT Index
A5: 2012 | B5: 2013 | C5: 2014 | D5: 2015 | E5: 2016 | F5: 2017
A6: 6 | B6: 11 | C6: 20 | D6: 9 | E6: 7 | F6: 1 | G6: Kho bạc Nhà nước Đắk Lắk | H6: 0.61587308 | I6: 0.60741546 | J6: 0.77192982 | K6: 0.66507279
A7: 40 | B7: 13 | C7: 37 | D7: 14 | E7: 46 | F7: 2 | G7: Kho bạc Nhà nước Hà Tĩnh | H7: 0.47797278 | I7: 0.81890788 | J7: 0.69502488 | K7: 0.66396851
A8: 2 | B8: 1 | C8: 1 | D8: 1 | E8: 1 | F8: 3 | G8: Kho bạc Nhà nước Hậu Giang | H8: 0.53002686 | I8: 0.76723275 | J8: 0.67400794 | K8: 0.65708918
A9: 24 | B9: 32 | C9: 23 | D9: 17 | E9: 20 | F9: 4 | G9: Kho bạc Nhà nước Đắk Nông | H9: 0.65331807 | I9: 0.59276433 | J9: 0.66321839 | K9: 0.63643359
A10: 15 | B10: 7 | C10: 26 | D10: 18 | E10: 8 | F10: 5 | G10: Kho bạc Nhà nước Nghệ An | H10: 0.57698785 | I10: 0.6844111 | J10: 0.61990741 | K10: 0.62710212
A11: - | B11: 9 | C11: 29 | D11: 61 | E11: 6 | F11: 6 | G11: Kho bạc Nhà nước Lào Cai | H11: 0.55349318 | I11: 0.72711675 | J11: 0.59626437 | K11: 0.62562476
A12: 10 | B12: 37 | C12: 16 | D12: 23 | E12: 57 | F12: 7 | G12: Kho bạc Nhà nước Đà Nẵng | H12: 0.52357677 | I12: 0.68242038 | J12: 0.58535354 | K12: 0.59711689
A13: 7 | B13: 36 | C13: 45 | D13: 27 | E13: 25 | F13: 8 | G13: Kho bạc Nhà nước Phú Yên | H13: 0.60555689 | I13: 0.60253166 | J13: 0.52884615 | K13: 0.57897824
A14: 37 | B14: 8 | C14: 10 | D14: 11 | E14: 14 | F14: 9 | G14: Kho bạc Nhà nước Phú Thọ | H14: 0.55145889 | I14: 0.64737745 | J14: 0.49791667 | K14: 0.56558433
A15: 1 | B15: 5 | C15: 2 | D15: 4 | E15: 3 | F15: 10 | G15: Kho bạc Nhà nước Bạc Liêu | H15: 0.57002046 | I15: 0.63766257 | J15: 0.48218391 | K15: 0.56328898
A16: 12 | B16: 15 | C16: 9 | D16: 16 | E16: 57 | F16: 11 | G16: Kho bạc Nhà nước Bình Định | H16: 0.52746652 | I16: 0.64460965 | J16: 0.50972222 | K16: 0.56059946
A17: 26 | B17: 6 | C17: 3 | D17: 2 | E17: 57 | F17: 12 | G17: Kho bạc Nhà nước An Giang | H17: 0.47245735 | I17: 0.6460311 | J17: 0.53881674 | K17: 0.55243506
A18: 54 | B18: 12 | C18: 19 | D18: 10 | E18: 11 | F18: 13 | G18: Kho bạc Nhà nước Bình Phước | H18: 0.5946216 | I18: 0.58213948 | J18: 0.44301075 | K18: 0.53992395
A19: 59 | B19: 56 | C19: 22 | D19: 20 | E19: 24 | F19: 14 | G19: Kho bạc Nhà nước Hải Phòng | H19: 0.52422909 | I19: 0.60781183 | J19: 0.44261603 | K19: 0.52488565
A20: 20 | B20: 14 | C20: 8 | D20: 15 | E20: 17 | F20: 15 | G20: Kho bạc Nhà nước Quảng Ngãi | H20: 0.56306011 | I20: 0.64336747 | J20: 0.36571038 | K20: 0.52404599
A21: 56 | B21: 52 | C21: 35 | D21: 3 | E21: 2 | F21: 16 | G21: Kho bạc Nhà nước Hà Giang | H21: 0.64310767 | I21: 0.61617189 | J21: 0.30964912 | K21: 0.52297623
A22: 36 | B22: 3 | C22: 4 | D22: 5 | E22: 15 | F22: 17 | G22: Kho bạc Nhà nước Cần Thơ | H22: 0.51353807 | I22: 0.56809216 | J22: 0.48074713 | K22: 0.52079245
A23: 28 | B23: 59 | C23: 21 | D23: 33 | E23: 33 | F23: 18 | G23: Kho bạc Nhà nước Bắc Giang | H23: 0.76939935 | I23: 0.50896881 | J23: 0.28095238 | K23: 0.51977351
... A52: 39 | B52: 25 | C52: 14 | D52: 19 | E52: 4 | F52: 47 | G52: Kho bạc Nhà nước Hà Nội | H52: 0.4521875 | I52: 0.56199544 | J52: 0.24836364 | K52: 0.42084886
A53: - | B53: 48 | C53: 50 | D53: 53 | E53: 47 | F53: 48 | G53: Kho bạc Nhà nước Hải Dương | H53: 0.45941907 | I53: 0.54073095 | J53: 0.26153846 | K53: 0.42056283
A54: 32 | B54: 60 | C54: 60 | D54: 38 | E54: 21 | F54: 49 | G54: Kho bạc Nhà nước TP. Hồ Chí Minh | H54: 0.49108957 | I54: 0.47022718 | J54: 0.29509906 | K54: 0.41880527
A55: 30 | B55: 31 | C55: 13 | D55: 26 | E55: 36 | F55: 50 | G55: Kho bạc Nhà nước Ninh Thuận | H55: 0.54532559 | I55: 0.2693935 | J55: 0.42568306 | K55: 0.41346738
A56: 41 | B56: 2 | C56: 7 | D56: 13 | E56: 57 | F56: 51 | G56: Kho bạc Nhà nước Lai Châu | H56: 0.44438572 | I56: 0.61403805 | J56: 0.16045752 | K56: 0.40629376
A57: 21 | B57: 39 | C57: 57 | D57: 54 | E57: 53 | F57: 52 | G57: Kho bạc Nhà nước Vĩnh Long | H57: 0.28413128 | I57: 0.48173328 | J57: 0.44576271 | K57: 0.40387576
A58: 57 | B58: 62 | C58: 55 | D58: 48 | E58: 45 | F58: 53 | G58: Kho bạc Nhà nước Cao Bằng | H58: 0.5260028 | I58: 0.41191392 | J58: 0.26330846 | K58: 0.40040839
A59: 55 | B59: 54 | C59: 62 | D59: 61 | E59: 55 | F59: 54 | G59: Kho bạc Nhà nước Sơn La | H59: 0.49694605 | I59: 0.39572519 | J59: 0.27909605 | K59: 0.39058909
A60: 13 | B60: 10 | C60: 5 | D60: 7 | E60: 5 | F60: 55 | G60: Kho bạc Nhà nước Quảng Bình | H60: 0.47937761 | I60: 0.39883488 | J60: 0.26176471 | K60: 0.3799924
A61: 3 | B61: 21 | C61: 38 | D61: 34 | E61: 31 | F61: 56 | G61: Kho bạc Nhà nước Hà Nam | H61: 0.52575137 | I61: 0.39424601 | J61: 0.17522769 | K61: 0.36507502
A62: 58 | B62: 45 | C62: 59 | D62: 56 | E62: 52 | F62: 57 | G62: Kho bạc Nhà nước Cà Mau | H62: 0.28104839 | I62: 0.39861103 | J62: 0.32921147 | K62: 0.3362903
A63: 48 | B63: 63 | C63: 63 | D63: 60 | E63: 54 | F63: 58 | G63: Kho bạc Nhà nước Đồng Nai | H63: 0.1791757 | I63: 0.48115707 | J63: 0.33401709 | K63: 0.33144996
A64: 43 | B64: 38 | C64: 46 | D64: 52 | E64: 57 | F64: 59 | G64: Kho bạc Nhà nước Bà Rịa - Vũng Tầu | H64: 0.40983221 | I64: 0.32864623 | J64: 0.255 | K64: 0.33115948
A65: 31 | B65: 41 | C65: 61 | D65: 58 | E65: 50 | F65: 60 | G65: Kho bạc Nhà nước Thái Nguyên | H65: 0.26407164 | I65: 0.35093558 | J65: 0.30048733 | K65: 0.30516485
... A68: 33 | B68: 20 | C68: 30 | D68: 29 | E68: 12 | F68: 62 | G68: Kho bạc Nhà nước Thanh Hoá | H68: 0 | I68: 0 | J68: 0 | K68: 0
A70: Xếp hạng Hạ tầng kỹ thuật CNTT
A71: Xếp hạng | G71: Tên đơn vị | H71: TL máy tính/ CBCC | I71: TL băng thông Int./ CBCC | J71: Kết nối HTTT của ĐV với ĐVTT | K71: Triển khai hệ thống ATTT và ATDL | L71: Chỉ số HTKT
A72: 2012 | B72: 2013 | C72: 2014 | D72: 2015 | E72: 2016 | F72: 2017
...

Sheet CucThue
A1: XẾP HẠNG CÁC CỤC THUẾ TỈNH/TP
A3: Xếp hạng chung
A4: Xếp hạng | G4: Tên đơn vị | H4: Chỉ số HTKT CNTT | I4: Chỉ số ƯD CNTT | J4: Chỉ số NL CNTT | K4: ICT Index
A5: 2012 | B5: 2013 | C5: 2014 | D5: 2015 | E5: 2016 | F5: 2017
A6: 14 | B6: 30 | C6: 33 | D6: 45 | E6: 36 | F6: 1 | G6: Cục thuế tỉnh Đồng Tháp | H6: 0.50137165 | I6: 0.50768417 | J6: 0.77941176 | K6: 0.59615586
A7: 46 | B7: 43 | C7: 30 | D7: 12 | E7: 8 | F7: 2 | G7: Cục thuế tỉnh Lào Cai | H7: 0.55803016 | I7: 0.80417821 | J7: 0.39013761 | K7: 0.58411533
A8: 7 | B8: 12 | C8: 17 | D8: 38 | E8: 42 | F8: 3 | G8: Cục thuế tỉnh Quảng Ninh | H8: 0.48758119 | I8: 0.61888625 | J8: 0.64029882 | K8: 0.58225542
A9: 40 | B9: 62 | C9: 46 | D9: 18 | E9: 14 | F9: 4 | G9: Cục thuế tỉnh Hoà Bình | H9: 0.58987952 | I9: 0.72119052 | J9: 0.40985202 | K9: 0.57364069
A10: 42 | B10: 48 | C10: 58 | D10: 57 | E10: 52 | F10: 5 | G10: Cục thuế tỉnh An Giang | H10: 0.61923161 | I10: 0.60915379 | J10: 0.49051816 | K10: 0.57296786
A11: 23 | B11: 4 | C11: 8 | D11: 4 | E11: 3 | F11: 6 | G11: Cục thuế tỉnh Cao Bằng | H11: 0.57725111 | I11: 0.60463061 | J11: 0.53175676 | K11: 0.57121282
A12: 33 | B12: 21 | C12: 21 | D12: 16 | E12: 2 | F12: 7 | G12: Cục thuế tỉnh Hậu Giang | H12: 0.64576223 | I12: 0.50560437 | J12: 0.5162037 | K12: 0.55585677
A13: 31 | B13: 58 | C13: 35 | D13: 14 | E13: 17 | F13: 8 | G13: Cục thuế tỉnh Hải Dương | H13: 0.65231066 | I13: 0.54341371 | J13: 0.44612069 | K13: 0.54728169
A14: 18 | B14: 19 | C14: 10 | D14: 19 | E14: 18 | F14: 9 | G14: Cục thuế tỉnh Bạc Liêu | H14: 0.66874723 | I14: 0.63108586 | J14: 0.32494919 | K14: 0.54159409
A15: 12 | B15: 32 | C15: 53 | D15: 44 | E15: 29 | F15: 10 | G15: Cục thuế tỉnh Long An | H15: 0.82823118 | I15: 0.50164218 | J15: 0.24948938 | K15: 0.52645425
A16: - | B16: 54 | C16: 44 | D16: 27 | E16: 15 | F16: 11 | G16: Cục thuế tỉnh Quảng Nam | H16: 0.57037656 | I16: 0.60438443 | J16: 0.38549233 | K16: 0.52008444
A17: 5 | B17: 39 | C17: 42 | D17: 50 | E17: 56 | F17: 12 | G17: Cục thuế tỉnh Quảng Bình | H17: 0.49219134 | I17: 0.57009117 | J17: 0.47907366 | K17: 0.51378539
A18: 8 | B18: 28 | C18: 25 | D18: 47 | E18: 21 | F18: 13 | G18: Cục thuế tỉnh Bắc Ninh | H18: 0.63786371 | I18: 0.59110822 | J18: 0.2892316 | K18: 0.50606785
A19: 15 | B19: 11 | C19: 14 | D19: 22 | E19: 37 | F19: 14 | G19: Cục thuế tỉnh Thanh Hóa | H19: 0.53604382 | I19: 0.62344507 | J19: 0.34291332 | K19: 0.50080074
A20: 13 | B20: 10 | C20: 9 | D20: 3 | E20: 5 | F20: 15 | G20: Cục thuế tỉnh Nam Định | H20: 0.57665174 | I20: 0.63406071 | J20: 0.28618421 | K20: 0.49896556
A21: 29 | B21: 23 | C21: 12 | D21: 13 | E21: 23 | F21: 16 | G21: Cục thuế tỉnh Bình Phước | H21: 0.56829217 | I21: 0.59479295 | J21: 0.33354592 | K21: 0.49887701
A22: 10 | B22: 20 | C22: 31 | D22: 21 | E22: 11 | F22: 17 | G22: Cục thuế tỉnh Yên Bái | H22: 0.58375554 | I22: 0.53068701 | J22: 0.37345008 | K22: 0.49596421
A23: 30 | B23: 41 | C23: 7 | D23: 1 | E23: 4 | F23: 18 | G23: Cục thuế tỉnh Bắc Giang | H23: 0.51350503 | I23: 0.6438333 | J23: 0.328125 | K23: 0.49515444
A24: 9 | B24: 14 | C24: 26 | D24: 15 | E24: 26 | F24: 19 | G24: Cục thuế Thành phố Đà Nẵng | H24: 0.55202987 | I24: 0.61723158 | J24: 0.31129808 | K24: 0.49351984
A25: 56 | B25: 52 | C25: 43 | D25: 17 | E25: 10 | F25: 20 | G25: Cục thuế tỉnh Đồng Nai | H25: 0.65050654 | I25: 0.53486748 | J25: 0.29435342 | K25: 0.49324248
A26: 45 | B26: 7 | C26: 11 | D26: 6 | E26: 19 | F26: 21 | G26: Cục thuế tỉnh Bà rịa - Vũng Tàu | H26: 0.52977181 | I26: 0.61362259 | J26: 0.31254109 | K26: 0.48531183
A27: 17 | B27: 16 | C27: 29 | D27: 24 | E27: 40 | F27: 22 | G27: Cục thuế tỉnh Thái Bình | H27: 0.61682691 | I27: 0.63763404 | J27: 0.19156586 | K27: 0.48200894
A28: 2 | B28: 1 | C28: 6 | D28: 10 | E28: 1 | F28: 23 | G28: Cục thuế tỉnh Nghệ An | H28: 0.5858521 | I28: 0.57857517 | J28: 0.28096539 | K28: 0.48179755
... A63: 43 | B63: 59 | C63: 24 | D63: 30 | E63: 27 | F63: 58 | G63: Cục thuế Thành phố Cần Thơ | H63: 0.46168433 | I63: 0.3420078 | J63: 0.22978285 | K63: 0.34449166
A64: - | B64: 46 | C64: 48 | D64: 53 | E64: 41 | F64: 59 | G64: Cục thuế tỉnh Kiên Giang | H64: 0.27851583 | I64: 0.4271698 | J64: 0.25291149 | K64: 0.31953238
A65: 48 | B65: 51 | C65: 37 | D65: 32 | E65: 28 | F65: 60 | G65: Cục thuế tỉnh Quảng Ngãi | H65: 0.25305053 | I65: 0.46713134 | J65: 0.20801034 | K65: 0.3093974
A66: 61 | B66: 40 | C66: 40 | D66: 36 | E66: 34 | F66: 61 | G66: Cục thuế Thành phố Hồ Chí Minh | H66: 0.25664166 | I66: 0.42229761 | J66: 0.080872011 | K66: 0.25327043
A67: 16 | B67: 63 | C67: 62 | D67: 58 | E67: 56 | F67: 62 | G67: Cục thuế tỉnh Lai Châu | H67: 0 | I67: 0 | J67: 0 | K67: 0
A68: 53 | B68: 57 | C68: 57 | D68: 58 | E68: 56 | F68: 62 | G68: Cục thuế tỉnh Sơn La | H68: 0 | I68: 0 | J68: 0 | K68: 0
A70: Xếp hạng Hạ tầng kỹ thuật CNTT
A71: Xếp hạng | G71: Tên đơn vị | H71: TL máy tính/ CBCC | I71: TL băng thông Int./ CBCC | J71: Kết nối HTTT của ĐV với ĐVTT | K71: Triển khai hệ thống ATTT và ATDL | L71: Chỉ số HTKT
A72: 2012 | B72: 2013 | C72: 2014 | D72: 2015 | E72: 2016 | F72: 2017
A73: 4 | B73: 42 | C73: 24 | D73: 23 | E73: 2 | F73: =RANK(L73,$L$73:$L$135) -> 1 | G73: Cục thuế tỉnh Long An | H73: 1.9411765 | I73: 32527.059 | J73: 1 | K73: 12.5 | L73: 0.82823118
A74: 42 | B74: 30 | C74: 3 | D74: 2 | E74: 56 | F74: =RANK(L74,$L$73:$L$135) -> 2 | G74: Cục thuế tỉnh Hà Giang | H74: 1.3125 | I74: 5208.3333 | J74: 1 | K74: 28 | L74: 0.68649817
A75: 6 | B75: 46 | C75: 36 | D75: 32 | E75: 8 | F75: =RANK(L75,$L$73:$L$135) -> 3 | G75: Cục thuế tỉnh Bạc Liêu | H75: 1.5853659 | I75: 4745.3659 | J75: 1 | K75: 23 | L75: 0.66874723
A76: 25 | B76: 60 | C76: 25 | D76: 17 | E76: 7 | F76: =RANK(L76,$L$73:$L$135) -> 4 | G76: Cục thuế tỉnh Hải Dương | H76: 1.5586207 | I76: 6896.5517 | J76: 1 | K76: 19.641593 | L76: 0.65231066
...

Sheet CucHQ
A1: XẾP HẠNG CÁC CỤC HẢI QUAN TỈNH/TP
A3: Xếp hạng chung
A4: Xếp hạng | G4: Tên đơn vị | H4: Chỉ số HTKT CNTT | I4: Chỉ số ƯD CNTT | J4: Chỉ số NL CNTT | K4: ICT Index
A5: 2012 | B5: 2013 | C5: 2014 | D5: 2015 | E5: 2016 | F5: 2017
A6: 5 | B6: 17 | C6: 16 | D6: 17 | E6: 32 | F6: 1 | G6: Cục Hải quan thành phố Cần Thơ | H6: 0.54532528 | I6: 0.89662754 | J6: 0.4021164 | K6: 0.61468974
A7: - | B7: 15 | C7: 14 | D7: 20 | E7: 8 | F7: 2 | G7: Cục Hải quan thành phố Hồ Chí Minh | H7: 0.63093983 | I7: 0.58984496 | J7: 0.5583508 | K7: 0.5930452
A8: 3 | B8: 2 | C8: 9 | D8: 5 | E8: 12 | F8: 3 | G8: Cục Hải quan tỉnh Quảng Nam | H8: 0.63037686 | I8: 0.71983277 | J8: 0.41666667 | K8: 0.58895876
A9: 6 | B9: 5 | C9: 10 | D9: 2 | E9: 1 | F9: 4 | G9: Cục Hải quan thành phố Đà Nẵng | H9: 0.60093963 | I9: 0.67349392 | J9: 0.42454203 | K9: 0.5663252
A10: 24 | B10: 11 | C10: 21 | D10: 22 | E10: 25 | F10: 5 | G10: Cục Hải quan tỉnh Quảng Ngãi | H10: 0.70341512 | I10: 0.632219 | J10: 0.33645125 | K10: 0.55736179
A11: 9 | B11: 24 | C11: 12 | D11: 7 | E11: 7 | F11: 6 | G11: Cục Hải quan thành phố Hà Nội | H11: 0.518069 | I11: 0.70490796 | J11: 0.39404979 | K11: 0.53900892
A12: 10 | B12: 4 | C12: 8 | D12: 12 | E12: 11 | F12: 7 | G12: Cục Hải quan tỉnh Đắk Lắk | H12: 0.50885961 | I12: 0.68307482 | J12: 0.37156511 | K12: 0.52116651
A13: 7 | B13: 9 | C13: 17 | D13: 31 | E13: 24 | F13: 8 | G13: Cục Hải quan tỉnh Lào Cai | H13: 0.42353045 | I13: 0.54650743 | J13: 0.58720113 | K13: 0.51907967
A14: 19 | B14: 18 | C14: 13 | D14: 15 | E14: 2 | F14: 9 | G14: Cục Hải quan tỉnh Quảng Trị | H14: 0.53360728 | I14: 0.63424938 | J14: 0.37037037 | K14: 0.51274234
A15: 11 | B15: 12 | C15: 11 | D15: 13 | E15: 28 | F15: 10 | G15: Cục Hải quan tỉnh Đồng Tháp | H15: 0.48787501 | I15: 0.61071366 | J15: 0.43055556 | K15: 0.50971474
A16: 25 | B16: 23 | C16: 23 | D16: 25 | E16: 18 | F16: 11 | G16: Cục Hải quan tỉnh Quảng Ninh | H16: 0.63583806 | I16: 0.60413656 | J16: 0.26344086 | K16: 0.50113849
A17: 12 | B17: 13 | C17: 15 | D17: 19 | E17: 5 | F17: 12 | G17: Cục Hải quan tỉnh Long An | H17: 0.55091183 | I17: 0.69279347 | J17: 0.24756287 | K17: 0.49708939
A18: 1 | B18: 1 | C18: 4 | D18: 1 | E18: 15 | F18: 13 | G18: Cục Hải quan tỉnh Bình Phước | H18: 0.49783308 | I18: 0.73319367 | J18: 0.25973654 | K18: 0.4969211
A19: 4 | B19: 7 | C19: 6 | D19: 3 | E19: 3 | F19: 14 | G19: Cục Hải quan tỉnh Bình Dương | H19: 0.48198752 | I19: 0.67138937 | J19: 0.30629302 | K19: 0.48655664
A20: 15 | B20: 21 | C20: 5 | D20: 8 | E20: 9 | F20: 15 | G20: Cục Hải quan tỉnh Gia Lai - Kon Tum | H20: 0.41136179 | I20: 0.81846355 | J20: 0.22962963 | K20: 0.48648499
A21: - | B21: 8 | C21: 2 | D21: 11 | E21: 10 | F21: 16 | G21: Cục Hải quan tỉnh Đồng Nai | H21: 0.54948038 | I21: 0.63900716 | J21: 0.26682385 | K21: 0.4851038
A22: 17 | B22: 26 | C22: 18 | D22: 27 | E22: 19 | F22: 17 | G22: Cục Hải quan tỉnh Nghệ An | H22: 0.53060246 | I22: 0.66220265 | J22: 0.24584427 | K22: 0.47954979
A23: 14 | B23: 6 | C23: 1 | D23: 6 | E23: 6 | F23: 18 | G23: Cục Hải quan tỉnh Quảng Bình | H23: 0.45062904 | I23: 0.77475516 | J23: 0.21043771 | K23: 0.47860731
A24: 22 | B24: 25 | C24: 20 | D24: 23 | E24: 22 | F24: 19 | G24: Cục Hải quan tỉnh Tây Ninh | H24: 0.55215591 | I24: 0.61547863 | J24: 0.25 | K24: 0.47254485
A25: 23 | B25: 27 | C25: 27 | D25: 26 | E25: 27 | F25: 20 | G25: Cục Hải quan tỉnh Khánh Hoà | H25: 0.53117675 | I25: 0.53197275 | J25: 0.34444444 | K25: 0.46919798
A26: 2 | B26: 3 | C26: 3 | D26: 4 | E26: 4 | F26: 21 | G26: Cục Hải quan tỉnh Thừa Thiên -Huế | H26: 0.45355726 | I26: 0.56611545 | J26: 0.38120567 | K26: 0.46695946
A27: 8 | B27: 30 | C27: 29 | D27: 28 | E27: 26 | F27: 22 | G27: Cục Hải quan tỉnh An Giang | H27: 0.42022986 | I27: 0.63574168 | J27: 0.34406871 | K27: 0.46668008
A28: 28 | B28: 14 | C28: 22 | D28: 9 | E28: 14 | F28: 23 | G28: Cục Hải quan thành phố Hải Phòng | H28: 0.40700399 | I28: 0.73720548 | J28: 0.2484127 | K28: 0.46420739
A29: 13 | B29: 32 | C29: 30 | D29: 30 | E29: 30 | F29: 24 | G29: Cục Hải quan tỉnh Lạng Sơn | H29: 0.47094563 | I29: 0.60378195 | J29: 0.28101402 | K29: 0.45191387
A30: 21 | B30: 22 | C30: 26 | D30: 14 | E30: 17 | F30: 25 | G30: Cục Hải quan tỉnh Thanh Hoá | H30: 0.46801736 | I30: 0.63021915 | J30: 0.22754947 | K30: 0.44192866
A31: 27 | B31: 16 | C31: 19 | D31: 21 | E31: 20 | F31: 26 | G31: Cục Hải quan tỉnh Điện Biên | H31: 0.44301011 | I31: 0.57240277 | J31: 0.29040404 | K31: 0.43527231
A32: 18 | B32: 29 | C32: 28 | D32: 29 | E32: 31 | F32: 27 | G32: Cục Hải quan tỉnh Cà Mau | H32: 0.4923869 | I32: 0.57036039 | J32: 0.22672673 | K32: 0.42982467
A33: 20 | B33: 34 | C33: 24 | D33: 16 | E33: 16 | F33: 28 | G33: Cục Hải quan tỉnh Hà Tĩnh | H33: 0.44595337 | I33: 0.63164908 | J33: 0.20859539 | K33: 0.42873261
A34: - | B34: 28 | C34: 33 | D34: 24 | E34: 21 | F34: 29 | G34: Cục Hải quan tỉnh Bà Rịa - Vũng Tàu | H34: 0.44646668 | I34: 0.57035589 | J34: 0.21461988 | K34: 0.41048082
A35: 16 | B35: 10 | C35: 33 | D35: 32 | E35: 23 | F35: 30 | G35: Cục Hải quan tỉnh Kiên Giang | H35: 0.29471235 | I35: 0.56724331 | J35: 0.2007007 | K35: 0.35421878
A36: 30 | B36: 33 | C36: 31 | D36: 18 | E36: 29 | F36: 31 | G36: Cục Hải quan tỉnh Cao Bằng | H36: 0.41360459 | I36: 0.26591445 | J36: 0.36871904 | K36: 0.34941269
A37: 26 | B37: 20 | C37: 7 | D37: 10 | E37: 13 | F37: 32 | G37: Cục Hải quan tỉnh Bình Định | H37: 0.10934651 | I37: 0.29130102 | J37: 0.24272487 | K37: 0.21445746
A38: 29 | B38: 19 | C38: 25 | D38: 32 | E38: 32 | F38: 33 | G38: Cục Hải quan tỉnh Hà Giang | H38: 0 | I38: 0 | J38: 0.13888889 | K38: 0.046296296
A39: - | B39: 31 | C39: 32 | D39: 32 | E39: 32 | F39: 34 | G39: Cục Hải quan tỉnh Bắc Ninh | H39: 0 | I39: 0 | J39: 0 | K39: 0
A41: Xếp hạng Hạ tầng kỹ thuật CNTT
A42: Xếp hạng | G42: Tên đơn vị | H42: TL máy tính/ CBCC | I42: TL băng thông Int./ CBCC | J42: Kết nối HTTT của ĐV với ĐVTT | K42: Triển khai hệ thống ATTT và ATDL | L42: Chỉ số HTKT
...

Sheet DuTru
A1: XẾP HẠNG CÁC CỤC DỰ TRỮ TỈNH/TP
A3: Xếp hạng chung
A4: Xếp hạng | G4: Tên đơn vị | H4: Chỉ số HTKT CNTT | I4: Chỉ số ƯD CNTT | J4: Chỉ số NL CNTT | K4: ICT Index
A5: 2012 | B5: 2013 | C5: 2014 | D5: 2015 | E5: 2016 | F5: 2017
A6: 5 | B6: 17 | C6: 10 | D6: 9 | E6: 5 | F6: 1 | G6: Cục Dự trữ Nhà nước khu vực Nghĩa Bình | H6: 0.92717815 | I6: 0.77556987 | J6: 0.23045267 | K6: 0.64440023
A7: 14 | B7: 9 | C7: 16 | D7: 19 | E7: 7 | F7: 2 | G7: Cục Dự trữ Nhà nước khu vực Bình Trị Thiên | H7: 0.58997228 | I7: 0.84599851 | J7: 0.38730159 | K7: 0.60775746
A8: 7 | B8: 12 | C8: 6 | D8: 4 | E8: 4 | F8: 3 | G8: Cục Dự trữ Nhà nước khu vực Đà Nẵng | H8: 0.74372177 | I8: 0.53414401 | J8: 0.44276094 | K8: 0.57354224
A9: 10 | B9: 4 | C9: 8 | D9: 6 | E9: 6 | F9: 4 | G9: Cục Dự trữ Nhà nước khu vực Tây Nam Bộ | H9: 0.8949691 | I9: 0.47162745 | J9: 0.35222222 | K9: 0.57293959
A10: 18 | B10: 1 | C10: 2 | D10: 1 | E10: 1 | F10: 5 | G10: Cục Dự trữ Nhà nước khu vực Hà Bắc | H10: 0.65124102 | I10: 0.71519608 | J10: 0.27688172 | K10: 0.54777294
A11: - | B11: 20 | C11: 9 | D11: 13 | E11: 17 | F11: 6 | G11: Cục Dữ trữ Nhà nước khu vực Hoàng Liên Sơn | H11: 0.6910967 | I11: 0.41628142 | J11: 0.38756614 | K11: 0.49831475
A12: 16 | B12: 11 | C12: 3 | D12: 10 | E12: 8 | F12: 7 | G12: Cục Dự trữ Nhà nước khu vực Nam Tây Nguyên | H12: 0.67687128 | I12: 0.57186667 | J12: 0.23931624 | K12: 0.49601806
A13: 13 | B13: 19 | C13: 4 | D13: 7 | E13: 18 | F13: 8 | G13: Cục Dự trữ Nhà nước khu vực Nam Trung Bộ | H13: 0.62550815 | I13: 0.50969637 | J13: 0.35149573 | K13: 0.49556675
A14: 9 | B14: 2 | C14: 1 | D14: 3 | E14: 3 | F14: 9 | G14: Cục Dữ trữ Nhà nước khu vực Bắc Tây Nguyên | H14: 0.65561484 | I14: 0.57088503 | J14: 0.25661376 | K14: 0.49437121
A15: 2 | B15: 5 | C15: 5 | D15: 2 | E15: 2 | F15: 10 | G15: Cục Dự trữ Nhà nước khu vực Tây Bắc | H15: 0.57030283 | I15: 0.55874118 | J15: 0.34465021 | K15: 0.4912314
A16: 6 | B16: 6 | C16: 7 | D16: 11 | E16: 11 | F16: 11 | G16: Cục Dự trữ Nhà nước khu vực Bắc Thái | H16: 0.73495312 | I16: 0.49611868 | J16: 0.23412698 | K16: 0.48839959
A17: - | B17: 21 | C17: 21 | D17: 15 | E17: 10 | F17: 12 | G17: Cục Dự trữ Nhà nước khu vực Vĩnh Phú | H17: 0.63195106 | I17: 0.60412702 | J17: 0.22222222 | K17: 0.4861001
A18: 1 | B18: 10 | C18: 18 | D18: 5 | E18: 13 | F18: 13 | G18: Cục Dự trữ Nhà nước khu vực Hà Nam Ninh | H18: 0.68121582 | I18: 0.44532003 | J18: 0.29654655 | K18: 0.4743608
A19: 4 | B19: 3 | C19: 14 | D19: 17 | E19: 19 | F19: 14 | G19: Cục Dự trữ Nhà nước khu vực TP. Hồ Chí Minh | H19: 0.73743472 | I19: 0.45381699 | J19: 0.20169082 | K19: 0.46431418
A20: 8 | B20: 16 | C20: 13 | D20: 16 | E20: 9 | F20: 15 | G20: Cục Dự trữ Nhà nước khu vực Hải Hưng | H20: 0.66294933 | I20: 0.53091856 | J20: 0.17165242 | K20: 0.45517344
A21: 3 | B21: 7 | C21: 11 | D21: 12 | E21: 16 | F21: 16 | G21: Cục Dự trữ Nhà nước khu vực Thái Bình | H21: 0.58101114 | I21: 0.34479224 | J21: 0.39426523 | K21: 0.44002287
A22: 12 | B22: 14 | C22: 19 | D22: 18 | E22: 12 | F22: 17 | G22: Cục Dự trữ Nhà nước khu vực Nghệ Tĩnh | H22: 0.66692282 | I22: 0.5294434 | J22: 0.0049019608 | K22: 0.40042273
A23: 17 | B23: 13 | C23: 20 | D23: 20 | E23: 20 | F23: 18 | G23: Cục Dự trữ Nhà nước khu vực Thanh Hoá | H23: 0.37935943 | I23: 0.23034319 | J23: 0.17729767 | K23: 0.26233343
A24: 15 | B24: 8 | C24: 15 | D24: 14 | E24: 14 | F24: 19 | G24: Cục Dự trữ Nhà nước khu vực Hà Nội | H24: 0.52955062 | I24: 0 | J24: 0.16343669 | K24: 0.23099577
A25: 19 | B25: 22 | C25: 12 | D25: 8 | E25: 15 | F25: 20 | G25: Cục Dự trữ Nhà nước khu vực Cửu Long | H25: 0 | I25: 0 | J25: 0 | K25: 0
A26: 11 | B26: 15 | C26: 17 | D26: 21 | E26: 21 | F26: 20 | G26: Cục Dự trữ Nhà nước khu vực Đông Bắc | H26: 0 | I26: 0 | J26: 0 | K26: 0
A27: - | B27: - | C27: - | D27: 21 | E27: 21 | F27: 20 | G27: Cục Dự trữ Nhà nước khu vực Đông Nam Bộ | H27: 0 | I27: 0 | J27: 0 | K27: 0
A29: Xếp hạng Hạ tầng kỹ thuật CNTT
A30: Xếp hạng | G30: Tên đơn vị | H30: TL máy tính/ CBCC | I30: TL băng thông Int./ CBCC | J30: Kết nối HTTT của ĐV với ĐVTT | K30: Triển khai hệ thống ATTT và ATDL | L30: Chỉ số HTKT
A31: 2012 | B31: 2013 | C31: 2014 | D31: 2015 | E31: 2016 | F31: 2017
A32: 5 | B32: 17 | C32: 13 | D32: 17 | E32: 8 | F32: =RANK(L32,$L$32:$L$53) -> 1 | G32: Cục Dự trữ Nhà nước khu vực Nghĩa Bình | H32: 1.4074074 | I32: 9216 | J32: 1 | K32: 14.5 | L32: 0.92717815
A33: 10 | B33: 4 | C33: 10 | D33: 9 | E33: 1 | F33: =RANK(L33,$L$32:$L$53) -> 2 | G33: Cục Dự trữ Nhà nước khu vực Tây Nam Bộ | H33: 1.32 | I33: 8929.28 | J33: 1 | K33: 13.818182 | L33: 0.8949691
A34: 7 | B34: 12 | C34: 8 | D34: 5 | E34: 6 | F34: =RANK(L34,$L$32:$L$53) -> 3 | G34: Cục Dự trữ Nhà nước khu vực Đà Nẵng | H34: 0.93939394 | I34: 5000 | J34: 1 | K34: 14.333333 | L34: 0.74372177
A35: 4 | B35: 3 | C35: 2 | D35: 8 | E35: 10 | F35: =RANK(L35,$L$32:$L$53) -> 4 | G35: Cục Dự trữ Nhà nước khu vực TP. Hồ Chí Minh | H35: 1.2173913 | I35: 912.69565 | J35: 1 | K35: 17 | L35: 0.73743472
A36: 6 | B36: 6 | C36: 7 | D36: 7 | E36: 2 | F36: =RANK(L36,$L$32:$L$53) -> 5 | G36: Cục Dự trữ Nhà nước khu vực Bắc Thái | H36: 0.85714286 | I36: 7680 | J36: 1 | K36: 10.5 | L36: 0.73495312
A37: - | B37: 20 | C37: 17 | D37: 19 | E37: 19 | F37: =RANK(L37,$L$32:$L$53) -> 6 | G37: Cục Dữ trữ Nhà nước khu vực Hoàng Liên Sơn | H37: 0.95238095 | I37: 4428.5714 | J37: 1 | K37: 11.5 | L37: 0.6910967
A38: 1 | B38: 10 | C38: 14 | D38: 11 | E38: 9 | F38: =RANK(L38,$L$32:$L$53) -> 7 | G38: Cục Dự trữ Nhà nước khu vực Hà Nam Ninh | H38: 0.94594595 | I38: 4289.7297 | J38: 1 | K38: 11.125 | L38: 0.68121582
A39: 16 | B39: 11 | C39: 5 | D39: 4 | E39: 4 | F39: =RANK(L39,$L$32:$L$53) -> 8 | G39: Cục Dự trữ Nhà nước khu vực Nam Tây Nguyên | H39: 1.1538462 | I39: 2907.6923 | J39: 1 | K39: 10.5 | L39: 0.67687128
A40: 12 | B40: 14 | C40: 19 | D40: 15 | E40: 14 | F40: =RANK(L40,$L$32:$L$53) -> 9 | G40: Cục Dự trữ Nhà nước khu vực Nghệ Tĩnh | H40: 0.88235294 | I40: 3764.7059 | J40: 1 | K40: 11.75 | L40: 0.66692282
A41: 8 | B41: 16 | C41: 15 | D41: 14 | E41: 12 | F41: =RANK(L41,$L$32:$L$53) -> 10 | G41: Cục Dự trữ Nhà nước khu vực Hải Hưng | H41: 1.0769231 | I41: 2730.6667 | J41: 1 | K41: 10.761905 | L41: 0.66294933
A42: 9 | B42: 2 | C42: 3 | D42: 2 | E42: 7 | F42: =RANK(L42,$L$32:$L$53) -> 11 | G42: Cục Dữ trữ Nhà nước khu vực Bắc Tây Nguyên | H42: 1.047619 | I42: 4388.5714 | J42: 1 | K42: 8 | L42: 0.65561484
...

Sheet SLTT_TW
A1: SỐ LIỆU THỰC TRẠNG CÁC HỆ THỐNG Ở CẤP TRUNG ƯƠNG NĂM 2017
A2: TT | B2: Chỉ tiêu | C2: Các hệ thống ở TƯ
A3: A | B3: Hạ tầng kỹ thuật
A4: 1 | B4: TLMT/CBCC | C4: =AVERAGE(CQTW!H16:H21) -> 1.4056325
A5: 2 | B5: TL băng thông Int./ CBCC | C5: =AVERAGE(CQTW!I16:I21) -> 8836.7232
A6: 3 | B6: Kết nối HTTT của ĐV với ĐVTT | C6: =AVERAGE(CQTW!J16:J21) -> 1
A7: 4 | B7: Triển khai hệ thống ATTT và ATDL | C7: =AVERAGE(CQTW!K16:K21) -> 38.622432
A8: B | B8: Ứng dụng CNTT
A9: 1 | B9: Sử dụng thư điện tử | C9: =AVERAGE(CQTW!H26:H31) -> 1
A10: 2 | B10: Triển khai các ứng dụng cơ bản | C10: =AVERAGE(CQTW!I26:I31) -> 16.587632
A11: 3 | B11: Ứng dụng PMNM | C11: =AVERAGE(CQTW!J26:J31) -> 2.9255952
A12: 4 | B12: Sử dụng văn bản điện tử | C12: =AVERAGE(CQTW!K26:K31) -> 17.80082
A13: 5 | B13: Dịch vụ công trực tuyến | C13: =AVERAGE(CQTW!L26:L31) -> 32.084468
A14: C | B14: Hạ tầng nhân lực
A15: 1 | B15: TL CBCT CNTT | C15: =AVERAGE(CQTW!H36:H41) -> 0.11517957
A16: 2 | B16: Tỷ lệ CBCT trình độ từ ĐH về CNTT | C16: =AVERAGE(CQTW!I36:I41) -> 0.90833796
A17: 3 | B17: TL CBCT ATTT | C17: =AVERAGE(CQTW!J36:J41) -> 0.023142929
A18: 4 | B18: TL CBCT có chứng chỉ QT | C18: =AVERAGE(CQTW!K36:K41) -> 0.079483565
A19: 5 | B19: TL CBCC được HDSD PMNM | C19: =AVERAGE(CQTW!L36:L41) -> 0.40581744
A20: 6 | B20: TL CBCC được hướng dẫn về ATTT | C20: =AVERAGE(CQTW!M36:M41) -> 0.42918089

Sheet SLTT_DP
A1: SỐ LIỆU THỰC TRẠNG CÁC CƠ QUAN ĐỊA PHƯƠNG NĂM 2017
A2: TT | B2: Chỉ tiêu | C2: Các Sở Tài chính | D2: Các Kho bạc tỉnh, TP | E2: Các Cục Thuế | F2: Các Cục Hải quan | G2: Các Cục Dự trữ
A3: A | B3: Hạ tầng kỹ thuật
A4: 1 | B4: TLMT/CBCC | C4: =AVERAGE(STC!H73:H135) -> 1.1409986 | D4: =AVERAGE(KBNN!H73:H135) -> 1.2486841 | E4: =AVERAGE(CucThue!$H$73:$H$135) -> 1.3131987 | F4: =AVERAGE(CucHQ!H44:H77) -> 1.234551 | G4: =AVERAGE(DuTru!$H$32:$H$53) -> 0.84038218
A5: 2 | B5: TL băng thông Int./ CBCC | C5: =AVERAGE(STC!I73:I135) -> 4205.8011 | D5: =AVERAGE(KBNN!I73:I135) -> 2767.6659 | E5: =AVERAGE(CucThue!I73:I135) -> 3276.0616 | F5: =AVERAGE(CucHQ!I44:I77) -> 6562.9978 | G5: =AVERAGE(DuTru!I32:I53) -> 3463.9549
A6: 3 | B6: Kết nối HTTT của ĐV với ĐVTT | C6: =AVERAGE(STC!J73:J135) -> 0.81011493 | D6: =AVERAGE(KBNN!J73:J135) -> 0.91710758 | E6: =AVERAGE(CucThue!J73:J135) -> 0.93544974 | F6: =AVERAGE(CucHQ!J44:J77) -> 0.90392157 | G6: =AVERAGE(DuTru!J32:J53) -> 0.81818182
A7: 4 | B7: Triển khai hệ thống ATTT và ATDL | C7: =AVERAGE(STC!K73:K135) -> 8.8906972 | D7: =AVERAGE(KBNN!K73:K135) -> 13.056296 | E7: =AVERAGE(CucThue!K73:K135) -> 11.228651 | F7: =AVERAGE(CucHQ!K44:K77) -> 9.6534426 | G7: =AVERAGE(DuTru!K32:K53) -> 9.5156969
A8: B | B8: Ứng dụng CNTT
A9: 1 | B9: Sử dụng thư điện tử | C9: =AVERAGE(STC!H140:H202) -> 0.9089313 | D9: =AVERAGE(KBNN!H140:H202) -> 0.88308153 | E9: =AVERAGE(CucThue!$H$140:$H$202) -> 0.94428413 | F9: =AVERAGE(CucHQ!$H$82:$H$115) -> 0.83056933 | G9: =AVERAGE(DuTru!$H$58:$H$79) -> 0.73880439
A10: 2 | B10: Triển khai các ứng dụng cơ bản | C10: =AVERAGE(STC!I140:I202) -> 16.064543 | D10: =AVERAGE(KBNN!I140:I202) -> 13.36506 | E10: =AVERAGE(CucThue!$I$140:$I$202) -> 15.905445 | F10: =AVERAGE(CucHQ!$I$82:$I$115) -> 14.522378 | G10: =AVERAGE(DuTru!$I$58:$I$79) -> 8.7031385
A11: 3 | B11: Ứng dụng PMNM | C11: =AVERAGE(STC!J140:J202) -> 13.776607 | D11: =AVERAGE(KBNN!J140:J202) -> 12.218981 | E11: =AVERAGE(CucThue!$J$140:$J$202) -> 21.442235 | F11: =AVERAGE(CucHQ!$J$82:$J$115) -> 6.6046569 | G11: =AVERAGE(DuTru!$J$58:$J$79) -> 7.6795455
A12: 4 | B12: Sử dụng văn bản điện tử | C12: =AVERAGE(STC!K140:K202) -> 15.415839 | D12: =AVERAGE(KBNN!K140:K202) -> 13.097581 | E12: =AVERAGE(CucThue!$K$140:$K$202) -> 16.923894 | F12: =AVERAGE(CucHQ!$K$82:$K$115) -> 14.801053 | G12: =AVERAGE(DuTru!$K$58:$K$79) -> 12.053247
A13: 5 | B13: Dịch vụ công trực tuyến | C13: =AVERAGE(STC!L140:L202) -> 25.266923 | D13: =AVERAGE(KBNN!L140:L202) -> 17.933216 | E13: =AVERAGE(CucThue!$L$140:$L$202) -> 84.925656 | F13: =AVERAGE(CucHQ!$L$82:$L$115) -> 23.89799 | G13: =AVERAGE(DuTru!$L$58:$L$79) -> 4.5454545
A14: C | B14: Hạ tầng nhân lực
A15: 1 | B15: TL CBCT CNTT | C15: =AVERAGE(STC!H207:H269) -> 0.038749809 | D15: =AVERAGE(KBNN!H207:H269) -> 0.053091504 | E15: =AVERAGE(CucThue!$H$207:$H$269) -> 0.050764699 | F15: =AVERAGE(CucHQ!$H$120:$H$153) -> 0.062760692 | G15: =AVERAGE(DuTru!$H$84:$H$105) -> 0.035979735
A16: 2 | B16: Tỷ lệ CBCT trình độ từ ĐH về CNTT | C16: =AVERAGE(STC!I207:I269) -> 0.74325397 | D16: =AVERAGE(KBNN!I207:I269) -> 0.68951763 | E16: =AVERAGE(CucThue!$I$207:$I$269) -> 0.77784964 | F16: =AVERAGE(CucHQ!$I$120:$I$153) -> 0.91153846 | G16: =AVERAGE(DuTru!$I$84:$I$105) -> 0.61363636
A17: 3 | B17: TL CBCT ATTT | C17: =AVERAGE(STC!J207:J269) -> 0.021279703 | D17: =AVERAGE(KBNN!J207:J269) -> 0.024840826 | E17: =AVERAGE(CucThue!$J$207:$J$269) -> 0.014152845 | F17: =AVERAGE(CucHQ!$J$120:$J$153) -> 0.041570788 | G17: =AVERAGE(DuTru!$J$84:$J$105) -> 0.014682901
A18: 4 | B18: TL CBCT có chứng chỉ QT | C18: =AVERAGE(STC!K207:K269) -> 0.19484127 | D18: =AVERAGE(KBNN!K207:K269) -> 0.39981104 | E18: =AVERAGE(CucThue!$K$207:$K$269) -> 0.12403743 | F18: =AVERAGE(CucHQ!$K$120:$K$153) -> 0.29635495 | G18: =AVERAGE(DuTru!$K$84:$K$105) -> 0.022727273
A19: 5 | B19: TL CBCT sử dụng PMNM | C19: =AVERAGE(STC!L207:L269) -> 0.32698413 | D19: =AVERAGE(KBNN!L207:L269) -> 0.068783069 | E19: =AVERAGE(CucThue!$L$207:$L$269) -> 0.090249433 | F19: =AVERAGE(CucHQ!$L$120:$L$153) -> 0.011617118 | G19: =AVERAGE(DuTru!$L$84:$L$105) -> 0.045454545
A20: 6 | B20: TL CBCC được hướng dẫn về ATTT | C20: =AVERAGE(STC!M207:M269) -> 0.11889786 | D20: =AVERAGE(KBNN!M207:M269) -> 0.46446677 | E20: =AVERAGE(CucThue!$M$207:$M$269) -> 0.086215085 | F20: =AVERAGE(CucHQ!$M$120:$M$153) -> 0.086157509 | G20: =AVERAGE(DuTru!$M$84:$M$105) -> 0.067277295
