Workbook

Sheet CQTW
A1: XẾP HẠNG CÁC CƠ QUAN TRUNG ƯƠNG
A3: Xếp hạng chung
A4: Xếp hạng | G4: Tên đơn vị | H4: Chỉ số HTKT CNTT | I4: Chỉ số ƯD CNTT | J4: Chỉ số NL CNTT | K4: ICT Index
A5: 2012 | B5: 2013 | C5: 2014 | D5: 2015 | E5: 2016 | F5: 2017
A6: 1 | B6: 3 | C6: 4 | D6: 1 | E6: 2 | F6: 1 | G6: Tổng cục Hải quan | H6: 0.52123265 | I6: 0.94132824 | J6: 0.45541439 | K6: 0.63932509
A7: 2 | B7: 1 | C7: 1 | D7: 4 | E7: 1 | F7: 2 | G7: Tổng cục Thuế | H7: 0.74722284 | I7: 0.78143825 | J7: 0.30266484 | K7: 0.61044198
A8: 4 | B8: 2 | C8: 3 | D8: 3 | E8: 3 | F8: 3 | G8: Cơ quan Bộ Tài chính | H8: 0.48580924 | I8: 0.55898244 | J8: 0.65591371 | K8: 0.5669018
A9: 6 | B9: 6 | C9: 2 | D9: 2 | E9: 5 | F9: 4 | G9: Ủy ban Chứng khoán Nhà nước | H9: 0.63246328 | I9: 0.6265738 | J9: 0.43690419 | K9: 0.56531376
A10: 3 | B10: 4 | C10: 5 | D10: 6 | E10: 4 | F10: 5 | G10: Kho bạc Nhà nước | H10: 0.21155897 | I10: 0.31353903 | J10: 0.71624836 | K10: 0.41378212
A11: 5 | B11: 5 | C11: 6 | D11: 5 | E11: 6 | F11: 6 | G11: Tổng cục Dự trữ Nhà nước | H11: 0.57492395 | I11: 0.041137766 | J11: 0.13851712 | K11: 0.25152628
A13: Xếp hạng Hạ tầng kỹ thuật CNTT
A14: Xếp hạng | G14: Tên đơn vị | H14: TL máy tính/ CBCC | I14: TL băng thông Int./ CBCC | J14: Kết nối HTTT của ĐV với ĐVTT | K14: Triển khai hệ thống ATTT và ATDL | L14: Chỉ số HTKT CNTT
A15: 2012 | B15: 2013 | C15: 2014 | D15: 2015 | E15: 2016 | F15: 2017
A16: 2 | B16: 1 | C16: 1 | D16: 4 | E16: 1 | F16: =RANK((L16),($L$16:$L$21)) -> 1 | G16: Tổng cục Thuế | H16: 1.4512195 | I16: 16686.201 | J16: 1 | K16: 45.5 | L16: 0.74722284
A17: 4 | B17: 3 | C17: 2 | D17: 5 | E17: 3 | F17: =RANK((L17),($L$16:$L$21)) -> 2 | G17: Ủy ban Chứng khoán Nhà nước | H17: 1.7217125 | I17: 3807.3394 | J17: 1 | K17: 40 | L17: 0.63246328
A18: 3 | B18: 4 | C18: 6 | D18: 3 | E18: 4 | F18: =RANK((L18),($L$16:$L$21)) -> 3 | G18: Tổng cục Dự trữ Nhà nước | H18: 1.5230769 | I18: 26883.938 | J18: 1 | K18: 22.643939 | L18: 0.57492395
A19: 6 | B19: 6 | C19: 5 | D19: 2 | E19: 5 | F19: =RANK((L19),($L$16:$L$21)) -> 4 | G19: Tổng cục Hải quan | H19: 1.4068279 | I19: 18.6266 | J19: 1 | K19: 45.590654 | L19: 0.52123265
A20: 5 | B20: 5 | C20: 4 | D20: 6 | E20: 6 | F20: =RANK((L20),($L$16:$L$21)) -> 5 | G20: Cơ quan Bộ Tài chính | H20: 1.330958 | I20: 3606.2961 | J20: 1 | K20: 42.5 | L20: 0.48580924
A21: 1 | B21: 2 | C21: 3 | D21: 1 | E21: 2 | F21: =RANK((L21),($L$16:$L$21)) -> 6 | G21: Kho bạc Nhà nước | H21: 1 | I21: 2017.9372 | J21: 1 | K21: 35.5 | L21: 0.21155897
A23: Xếp hạng Ứng dụng CNTT
A24: Xếp hạng | G24: Tên đơn vị | H24: Sử dụng thư điện tử | I24: Triển khai các ứng dụng cơ bản | J24: Ứng dụng PMNM | K24: Sử dụng văn bản điện tử | L24: Dịch vụ công trực tuyến | M24: Chỉ số ƯD CNTT
A25: 2012 | B25: 2013 | C25: 2014 | D25: 2015 | E25: 2016 | F25: 2017
A26: 1 | B26: 2 | C26: 3 | D26: 1 | E26: 2 | F26: =RANK((M26),($M$26:$M$31)) -> 1 | G26: Tổng cục Hải quan | H26: 1 | I26: 21.72 | J26: 3.8035714 | K26: 20.691429 | L26: 38.016854 | M26: 0.94132824
A27: 3 | B27: 1 | C27: 1 | D27: 2 | E27: 4 | F27: =RANK((M27),($M$26:$M$31)) -> 2 | G27: Tổng cục Thuế | H27: 1 | I27: 18.4 | J27: 3 | K27: 24.2 | L27: 36.71131 | M27: 0.78143825
A28: 6 | B28: 3 | C28: 2 | D28: 3 | E28: 5 | F28: =RANK((M28),($M$26:$M$31)) -> 3 | G28: Ủy ban Chứng khoán Nhà nước | H28: 1 | I28: 15.276923 | J28: 3.5 | K28: 20.4 | L28: 32.414634 | M28: 0.6265738
A29: 2 | B29: 4 | C29: 4 | D29: 4 | E29: 3 | F29: =RANK((M29),($M$26:$M$31)) -> 4 | G29: Cơ quan Bộ Tài chính | H29: 1 | I29: 13.2 | J29: 3.4166667 | K29: 20.2 | L29: 32.909465 | M29: 0.55898244
A30: 5 | B30: 6 | C30: 5 | D30: 5 | E30: 1 | F30: =RANK((M30),($M$26:$M$31)) -> 5 | G30: Kho bạc Nhà nước | H30: 1 | I30: 17.047619 | J30: 1.8333333 | K30: 12.063492 | L30: 31.454545 | M30: 0.31353903
A31: 4 | B31: 5 | C31: 6 | D31: 6 | E31: 6 | F31: =RANK((M31),($M$26:$M$31)) -> 6 | G31: Tổng cục Dự trữ Nhà nước | H31: 1 | I31: 13.88125 | J31: 2 | K31: 9.25 | L31: 21 | M31: 0.041137766
A33: Xếp hạng Nhân lực CNTT
A34: Xếp hạng | G34: Tên đơn vị | H34: TL CBCT CNTT | I34: Tỷ lệ CBCT trình độ từ ĐH về CNTT | J34: TL CBCT ATTT | K34: TL CBCT có chứng chỉ QT | L34: TL CBCC được HDSD PMNM | M34: Tỷ lệ CBCC được tập huấn về ATTT | N34: Chỉ số nhân lực CNTT
A35: 2012 | B35: 2013 | C35: 2014 | D35: 2015 | E35: 2016 | F35: 2017
A36: 1 | B36: 1 | C36: 5 | D36: 6 | E36: 1 | F36: =_xlfn.RANK.AVG((N36),($N$36:$N$41)) -> 1 | G36: Kho bạc Nhà nước | H36: 0.17488789 | I36: 0.98717949 | J36: 0.015695067 | K36: 0.038461538 | L36: 1 | M36: 1 | N36: 0.71624836
A37: 5 | B37: 3 | C37: 4 | D37: 4 | E37: 5 | F37: =_xlfn.RANK.AVG((N37),($N$36:$N$41)) -> 2 | G37: Cơ quan Bộ Tài chính | H37: 0.060174188 | I37: 0.81578947 | J37: 0.06888361 | K37: 0.19736842 | L37: 0.71258907 | M37: 0.74980206 | N37: 0.65591371
A38: 2 | B38: 4 | C38: 3 | D38: 1 | E38: 2 | F38: =_xlfn.RANK.AVG((N38),($N$36:$N$41)) -> 3 | G38: Tổng cục Hải quan | H38: 0.11948791 | I38: 1 | J38: 0.0071123755 | K38: 0.17857143 | L38: 0.15647226 | M38: 0.17069701 | N38: 0.45541439
A39: 6 | B39: 6 | C39: 1 | D39: 2 | E39: 4 | F39: =_xlfn.RANK.AVG((N39),($N$36:$N$41)) -> 4 | G39: Ủy ban Chứng khoán Nhà nước | H39: 0.088685015 | I39: 1 | J39: 0.024464832 | K39: 0 | L39: 0.55045872 | M39: 0.55045872 | N39: 0.43690419
A40: 3 | B40: 5 | C40: 2 | D40: 3 | E40: 3 | F40: =_xlfn.RANK.AVG((N40),($N$36:$N$41)) -> 5 | G40: Tổng cục Thuế | H40: 0.11707317 | I40: 1 | J40: 0.0073170732 | K40: 0.0625 | L40: 0 | M40: 0.019512195 | N40: 0.30266484
A41: 4 | B41: 2 | C41: 6 | D41: 5 | E41: 6 | F41: =_xlfn.RANK.AVG((N41),($N$36:$N$41)) -> 6 | G41: Tổng cục Dự trữ Nhà nước | H41: 0.13076923 | I41: 0.64705882 | J41: 0.015384615 | K41: 0 | L41: 0.015384615 | M41: 0.084615385 | N41: 0.13851712

Sheet STC
A1: XẾP HẠNG CÁC SỞ TÀI CHÍNH TỈNH/TP
A3: Xếp hạng chung
A4: Xếp hạng | G4: Tên đơn vị | H4: Chỉ số HTKT CNTT | I4: Chỉ số ƯD CNTT | J4: Chỉ số NL CNTT | K4: ICT Index
A5: 2012 | B5: 2013 | C5: 2014 | D5: 2015 | E5: 2016 | F5: 2017
A6: 2 | B6: 2 | C6: 1 | D6: 1 | E6: 1 | F6: 1 | G6: Sở Tài chính Hà Nội | H6: 0.60601013 | I6: 0.48259506 | J6: 0.63937659 | K6: 0.57599393
A7: 1 | B7: 1 | C7: 2 | D7: 2 | E7: 6 | F7: 2 | G7: Sở Tài chính Đà Nẵng | H7: 0.64284202 | I7: 0.48202768 | J7: 0.6 | K7: 0.57495657
A8: 11 | B8: 7 | C8: 5 | D8: 4 | E8: 11 | F8: 3 | G8: Sở Tài chính Thừa Thiên Huế | H8: 0.55682799 | I8: 0.451578 | J8: 0.64814815 | K8: 0.55218471
A9: 4 | B9: 5 | C9: 6 | D9: 7 | E9: 7 | F9: 4 | G9: Sở Tài chính Bình Định | H9: 0.58177059 | I9: 0.46655643 | J9: 0.58772803 | K9: 0.54535168
A10: 29 | B10: 17 | C10: 29 | D10: 37 | E10: 5 | F10: 5 | G10: Sở Tài chính Tuyên Quang | H10: 0.59664198 | I10: 0.44446019 | J10: 0.59201878 | K10: 0.54437365
A11: - | B11: 62 | C11: 61 | D11: 60 | E11: 59 | F11: 6 | G11: Sở Tài chính Yên Bái | H11: 0.5173174 | I11: 0.55480105 | J11: 0.52089947 | K11: 0.53100597
A12: 12 | B12: 26 | C12: 50 | D12: 19 | E12: 12 | F12: 7 | G12: Sở Tài chính Thái Nguyên | H12: 0.53845582 | I12: 0.4439666 | J12: 0.57979798 | K12: 0.52074014
A13: 33 | B13: 22 | C13: 52 | D13: 35 | E13: 2 | F13: 8 | G13: Sở Tài chính Lâm Đồng | H13: 0.52494122 | I13: 0.42372783 | J13: 0.57375479 | K13: 0.50747461
A14: 56 | B14: 31 | C14: 43 | D14: 44 | E14: 40 | F14: 9 | G14: Sở Tài chính Khánh Hòa | H14: 0.48917719 | I14: 0.46180072 | J14: 0.55430108 | K14: 0.50175966
A15: 5 | B15: 6 | C15: 8 | D15: 11 | E15: 4 | F15: 10 | G15: Sở Tài chính Quảng Ngãi | H15: 0.46792402 | I15: 0.59705811 | J15: 0.43497268 | K15: 0.49998494
A16: 43 | B16: 12 | C16: 16 | D16: 29 | E16: 59 | F16: 11 | G16: Sở Tài chính Hưng Yên | H16: 0.61168524 | I16: 0.34387247 | J16: 0.54375 | K16: 0.49976923
A17: 36 | B17: 29 | C17: 31 | D17: 23 | E17: 43 | F17: 12 | G17: Sở Tài chính Đăk Nông | H17: 0.42842176 | I17: 0.49949807 | J17: 0.55519126 | K17: 0.49437036
A18: 20 | B18: 36 | C18: 42 | D18: 15 | E18: 15 | F18: 13 | G18: Sở Tài chính Sơn La | H18: 0.45625336 | I18: 0.77050561 | J18: 0.24 | K18: 0.48891966
A19: 9 | B19: 9 | C19: 9 | D19: 8 | E19: 9 | F19: 14 | G19: Sở Tài chính Vĩnh Long | H19: 0.57524667 | I19: 0.43407599 | J19: 0.41888889 | K19: 0.47607052
A20: 10 | B20: 30 | C20: 12 | D20: 12 | E20: 10 | F20: 15 | G20: Sở Tài chính Bắc Ninh | H20: 0.44939156 | I20: 0.4478552 | J20: 0.51207729 | K20: 0.46977469
A21: 14 | B21: 4 | C21: 4 | D21: 6 | E21: 3 | F21: 16 | G21: Sở Tài chính Đồng Tháp | H21: 0.48291869 | I21: 0.43842873 | J21: 0.43854167 | K21: 0.45329636
A22: - | B22: 45 | C22: 53 | D22: 53 | E22: 32 | F22: 17 | G22: Sở Tài chính Bà Rịa - Vũng Tàu | H22: 0.63965398 | I22: 0.46426938 | J22: 0.25024155 | K22: 0.4513883
A23: 42 | B23: 18 | C23: 15 | D23: 24 | E23: 37 | F23: 18 | G23: Sở Tài chính Quảng Trị | H23: 0.54067535 | I23: 0.43809774 | J23: 0.375 | K23: 0.4512577
A24: 32 | B24: 11 | C24: 18 | D24: 30 | E24: 16 | F24: 19 | G24: Sở Tài chính Đồng Nai | H24: 0.48802912 | I24: 0.39409813 | J24: 0.46786942 | K24: 0.44999889
A25: 46 | B25: 19 | C25: 20 | D25: 26 | E25: 39 | F25: 20 | G25: Sở Tài chính Bắc Kạn | H25: 0.47286071 | I25: 0.45633123 | J25: 0.41544715 | K25: 0.44821303
A26: 23 | B26: 23 | C26: 27 | D26: 21 | E26: 31 | F26: 21 | G26: Sở Tài chính Bình Phước | H26: 0.45128172 | I26: 0.38920175 | J26: 0.44964539 | K26: 0.43004295
A27: 34 | B27: 14 | C27: 10 | D27: 9 | E27: 13 | F27: 22 | G27: Sở Tài chính Lào Cai | H27: 0.50454912 | I27: 0.56688333 | J27: 0.21643192 | K27: 0.42928812
A28: 6 | B28: 33 | C28: 13 | D28: 10 | E28: 23 | F28: 23 | G28: Sở Tài chính Bắc Giang | H28: 0.47060527 | I28: 0.47372379 | J28: 0.32412935 | K28: 0.42281947
A29: 48 | B29: 32 | C29: 35 | D29: 38 | E29: 33 | F29: 24 | G29: Sở Tài chính Hà Nam | H29: 0.44474962 | I29: 0.42136294 | J29: 0.40066667 | K29: 0.42225974
A30: 30 | B30: 55 | C30: 36 | D30: 25 | E30: 21 | F30: 25 | G30: Sở Tài chính Phú Yên | H30: 0.50606078 | I30: 0.49953878 | J30: 0.21555556 | K30: 0.40705171
A31: 7 | B31: 3 | C31: 61 | D31: 18 | E31: 22 | F31: 26 | G31: Sở Tài chính Nghệ An | H31: 0.43842994 | I31: 0.39739759 | J31: 0.38366013 | K31: 0.40649589
A32: 31 | B32: 48 | C32: 40 | D32: 49 | E32: 44 | F32: 27 | G32: Sở Tài chính Bến Tre | H32: 0.50137867 | I32: 0.40912383 | J32: 0.30222222 | K32: 0.40424157
A33: 35 | B33: 8 | C33: 34 | D33: 45 | E33: 49 | F33: 28 | G33: Sở Tài chính Thái Bình | H33: 0.46598576 | I33: 0.52056894 | J33: 0.22059925 | K33: 0.40238465
A34: 22 | B34: 46 | C34: 49 | D34: 42 | E34: 34 | F34: 29 | G34: Sở Tài chính Quảng Bình | H34: 0.45287162 | I34: 0.50276757 | J34: 0.24871795 | K34: 0.40145238
... A49: 52 | B49: 57 | C49: 48 | D49: 41 | E49: 46 | F49: 44 | G49: Sở Tài chính Tiền Giang | H49: 0.39238406 | I49: 0.38022262 | J49: 0.23333333 | K49: 0.33531334
A50: - | B50: 43 | C50: 39 | D50: 52 | E50: 54 | F50: 45 | G50: Sở Tài chính Lạng Sơn | H50: 0.45359318 | I50: 0.37111182 | J50: 0.17033898 | K50: 0.33168133
A51: 47 | B51: 58 | C51: 44 | D51: 60 | E51: 55 | F51: 46 | G51: Sở Tài chính Vĩnh Phúc | H51: 0.40544919 | I51: 0.356301 | J51: 0.22090395 | K51: 0.32755138
A52: 44 | B52: 54 | C52: 51 | D52: 55 | E52: 50 | F52: 47 | G52: Sở Tài chính Sóc Trăng | H52: 0.43701693 | I52: 0.30181621 | J52: 0.23475177 | K52: 0.3245283
A53: - | B53: 42 | C53: 33 | D53: 48 | E53: 52 | F53: 48 | G53: Sở Tài chính TP. Hồ Chí Minh | H53: 0.10714104 | I53: 0.31452359 | J53: 0.52927536 | K53: 0.31698
A54: - | B54: 60 | C54: 54 | D54: 40 | E54: 28 | F54: 49 | G54: Sở Tài chính Cao Bằng | H54: 0.39890689 | I54: 0.33036395 | J54: 0.20641026 | K54: 0.3118937
A55: 16 | B55: 47 | C55: 7 | D55: 5 | E55: 59 | F55: 50 | G55: Sở Tài chính Ninh Thuận | H55: 0.50263462 | I55: 0.35444946 | J55: 0.074418605 | K55: 0.31050089
A56: 39 | B56: 41 | C56: 56 | D56: 36 | E56: 41 | F56: 51 | G56: Sở Tài chính Ninh Bình | H56: 0.27433368 | I56: 0.284611 | J56: 0.36698718 | K56: 0.30864395
A57: 51 | B57: 63 | C57: 47 | D57: 54 | E57: 47 | F57: 52 | G57: Sở Tài chính Lai Châu | H57: 0.28339898 | I57: 0.39986541 | J57: 0.22704403 | K57: 0.30343614
A58: 15 | B58: 25 | C58: 19 | D58: 16 | E58: 29 | F58: 53 | G58: Sở Tài chính Thanh Hoá | H58: 0.15725076 | I58: 0.30834697 | J58: 0.39746032 | K58: 0.28768602
A59: 54 | B59: 51 | C59: 55 | D59: 60 | E59: 51 | F59: 54 | G59: Sở Tài chính Bạc Liêu | H59: 0.39790193 | I59: 0.20686874 | J59: 0.21912568 | K59: 0.27463212
A60: 45 | B60: 61 | C60: 17 | D60: 51 | E60: 56 | F60: 55 | G60: Sở Tài chính Hải Dương | H60: 0.3479569 | I60: 0.23605584 | J60: 0.23333333 | K60: 0.27244869
A61: 24 | B61: 44 | C61: 45 | D61: 56 | E61: 53 | F61: 56 | G61: Sở Tài chính Trà Vinh | H61: 0.19454412 | I61: 0.40249921 | J61: 0.21176471 | K61: 0.26960268
A62: 26 | B62: 24 | C62: 38 | D62: 47 | E62: 42 | F62: 57 | G62: Sở Tài chính Điện Biên | H62: 0.43800201 | I62: 0.35014854 | J62: 0.0021645022 | K62: 0.26343835
A63: 50 | B63: 59 | C63: 60 | D63: 58 | E63: 58 | F63: 58 | G63: Sở Tài chính Kiên Giang | H63: 0.1968697 | I63: 0.32102304 | J63: 0.23458904 | K63: 0.25082726
A64: 28 | B64: 49 | C64: 57 | D64: 57 | E64: 48 | F64: 59 | G64: Sở Tài chính Cà Mau | H64: 0.14283377 | I64: 0.32279942 | J64: 0.25084746 | K64: 0.23882688
A65: 53 | B65: 38 | C65: 59 | D65: 59 | E65: 57 | F65: 60 | G65: Sở Tài chính Hậu Giang | H65: 0.18219245 | I65: 0.34685834 | J65: 0.16202186 | K65: 0.23035755
A66: 57 | B66: 53 | C66: 61 | D66: 60 | E66: 59 | F66: 61 | G66: Sở Tài chính Nam Định | H66: 0.10144811 | I66: 0.076595745 | J66: 0.12412698 | K66: 0.10072361
... A68: 8 | B68: 13 | C68: 23 | D68: 13 | E68: 19 | F68: 63 | G68: Sở Tài chính Hà Tĩnh | H68: 0 | I68: 0 | J68: 0 | K68: 0
A70: Xếp hạng Hạ tầng kỹ thuật CNTT
A71: Xếp hạng | G71: Tên đơn vị | H71: TL máy tính/ CBCC | I71: TL băng thông Int./ CBCC | J71: Kết nối HTTT của ĐV với ĐVTT | K71: Triển khai hệ thống ATTT và ATDL | L71: Chỉ số HTKT
A72: 2012 | B72: 2013 | C72: 2014 | D72: 2015 | E72: 2016 | F72: 2017
A73: 7 | B73: 3 | C73: 4 | D73: 4 | E73: 2 | F73: =RANK((L73),($L$73:$L$135)) -> 1 | G73: Sở Tài chính Đà Nẵng | H73: 1.3928571 | I73: 7314.2857 | J73: 1 | K73: 31 | L73: 0.64284202
A74: - | B74: 61 | C74: 48 | D74: 49 | E74: 46 | F74: =RANK((L74),($L$73:$L$135)) -> 2 | G74: Sở Tài chính Bà Rịa - Vũng Tàu | H74: 1.1014493 | I74: 0.86956522 | J74: 1 | K74: 46.625 | L74: 0.63965398
A75: 17 | B75: 4 | C75: 50 | D75: 47 | E75: 59 | F75: =RANK((L75),($L$73:$L$135)) -> 3 | G75: Sở Tài chính Hưng Yên | H75: 1.5625 | I75: 13333.333 | J75: 1 | K75: 13.5 | L75: 0.61168524
A76: 4 | B76: 48 | C76: 1 | D76: 1 | E76: 4 | F76: =RANK((L76),($L$73:$L$135)) -> 4 | G76: Sở Tài chính Hà Nội | H76: 1.1068702 | I76: 7230.5344 | J76: 1 | K76: 31 | L76: 0.60601013
A77: 22 | B77: 30 | C77: 41 | D77: 44 | E77: 1 | F77: =RANK((L77),($L$73:$L$135)) -> 5 | G77: Sở Tài chính Tuyên Quang | H77: 1.971831 | I77: 1586.4789 | J77: 1 | K77: 16 | L77: 0.59664198
A78: 25 | B78: 20 | C78: 7 | D78: 5 | E78: 8 | F78: =RANK((L78),($L$73:$L$135)) -> 6 | G78: Sở Tài chính Bình định | H78: 1.2686567 | I78: 6567.1642 | J78: 1 | K78: 23.5 | L78: 0.58177059
A79: 1 | B79: 9 | C79: 11 | D79: 15 | E79: 3 | F79: =RANK((L79),($L$73:$L$135)) -> 7 | G79: Sở Tài chính Vĩnh Long | H79: 1.5166667 | I79: 10325.333 | J79: 1 | K79: 11.625 | L79: 0.57524667
A80: 37 | B80: 7 | C80: 25 | D80: 28 | E80: 7 | F80: =RANK((L80),($L$73:$L$135)) -> 8 | G80: Sở Tài chính Thừa Thiên Huế | H80: 1.5925926 | I80: 10808.889 | J80: 1 | K80: 5.7777778 | L80: 0.55682799
A81: 56 | B81: 56 | C81: 55 | D81: 51 | E81: 54 | F81: =RANK((L81),($L$73:$L$135)) -> 9 | G81: Sở Tài chính Quảng Trị | H81: 1.3 | I81: 14.04 | J81: 1 | K81: 23.453846 | L81: 0.54067535
A82: 23 | B82: 33 | C82: 43 | D82: 14 | E82: 12 | F82: =RANK((L82),($L$73:$L$135)) -> 10 | G82: Sở Tài chính Thái Nguyên | H82: 1.2878788 | I82: 5757.5758 | J82: 1 | K82: 16 | L82: 0.53845582
A83: 27 | B83: 6 | C83: 26 | D83: 30 | E83: 9 | F83: =RANK((L83),($L$73:$L$135)) -> 11 | G83: Sở Tài chính Lâm đồng | H83: 1.5517241 | I83: 5031.7241 | J83: 1 | K83: 8.1666667 | L83: 0.52494122
A84: - | B84: 62 | C84: 61 | D84: 60 | E84: 59 | F84: =RANK((L84),($L$73:$L$135)) -> 12 | G84: Sở Tài chính Yên Bái | H84: 1.1269841 | I84: 6825.3968 | J84: 1 | K84: 14.5 | L84: 0.5173174
A85: 2 | B85: 25 | C85: 31 | D85: 35 | E85: 19 | F85: =RANK((L85),($L$73:$L$135)) -> 13 | G85: Sở Tài chính Phú Yên | H85: 1.55 | I85: 4437.3333 | J85: 1 | K85: 5.4444444 | L85: 0.50606078
A86: 53 | B86: 12 | C86: 15 | D86: 22 | E86: 14 | F86: =RANK((L86),($L$73:$L$135)) -> 14 | G86: Sở Tài chính Lào Cai | H86: 1.3943662 | I86: 2.2535211 | J86: 1 | K86: 14.5 | L86: 0.50454912
A87: 3 | B87: 52 | C87: 2 | D87: 2 | E87: 59 | F87: =RANK((L87),($L$73:$L$135)) -> 15 | G87: Sở Tài chính Ninh Thuận | H87: 1.3953488 | I87: 4883.7209 | J87: 1 | K87: 7.8928571 | L87: 0.50263462
A88: 15 | B88: 49 | C88: 23 | D88: 31 | E88: 34 | F88: =RANK((L88),($L$73:$L$135)) -> 16 | G88: Sở Tài chính Bến Tre | H88: 1.3166667 | I88: 5290.6667 | J88: 1 | K88: 9 | L88: 0.50137867
A89: 11 | B89: 44 | C89: 45 | D89: 37 | E89: 24 | F89: =RANK((L89),($L$73:$L$135)) -> 17 | G89: Sở Tài chính Tây Ninh | H89: 1.5892857 | I89: 3657.1429 | J89: 1 | K89: 2.8333333 | L89: 0.49170476
A90: 57 | B90: 47 | C90: 59 | D90: 56 | E90: 56 | F90: =RANK((L90),($L$73:$L$135)) -> 18 | G90: Sở Tài chính Khánh Hòa | H90: 1.0645161 | I90: 6612.9032 | J90: 1 | K90: 11 | L90: 0.48917719
A91: 43 | B91: 10 | C91: 21 | D91: 24 | E91: 26 | F91: =RANK((L91),($L$73:$L$135)) -> 19 | G91: Sở Tài chính Đồng Nai | H91: 1.2061856 | I91: 3462.6392 | J91: 1 | K91: 11.454545 | L91: 0.48802912
A92: 46 | B92: 2 | C92: 6 | D92: 8 | E92: 13 | F92: =RANK((L92),($L$73:$L$135)) -> 20 | G92: Sở Tài chính Hà Giang | H92: 1.3030303 | I92: 2947.8788 | J92: 1 | K92: 9.0909091 | L92: 0.48411317
A93: 13 | B93: 21 | C93: 22 | D93: 29 | E93: 25 | F93: =RANK((L93),($L$73:$L$135)) -> 21 | G93: Sở Tài chính Đồng Tháp | H93: 1.09375 | I93: 4960 | J93: 1 | K93: 11.25 | L93: 0.48291869
A94: 20 | B94: 5 | C94: 13 | D94: 13 | E94: 10 | F94: =RANK((L94),($L$73:$L$135)) -> 22 | G94: Sở Tài chính Gia Lai | H94: 1.2407407 | I94: 3223.7037 | J94: 1 | K94: 9.0588235 | L94: 0.47793027
A95: 30 | B95: 57 | C95: 53 | D95: 26 | E95: 47 | F95: =RANK((L95),($L$73:$L$135)) -> 23 | G95: Sở Tài chính Hải Phòng | H95: 1.0632911 | I95: 5444.0506 | J95: 1 | K95: 10 | L95: 0.47566531
A96: 39 | B96: 16 | C96: 9 | D96: 9 | E96: 32 | F96: =RANK((L96),($L$73:$L$135)) -> 24 | G96: Sở Tài chính Bắc Kạn | H96: 1.1463415 | I96: 4670.439 | J96: 1 | K96: 8.5 | L96: 0.47286071
... A103: 19 | B103: 42 | C103: 24 | D103: 25 | E103: 11 | F103: =RANK((L103),($L$73:$L$135)) -> 31 | G103: Sở Tài chính Sơn La | H103: 1 | I103: 153.42857 | J103: 1 | K103: 14.625 | L103: 0.45625336
A104: - | B104: 53 | C104: 52 | D104: 38 | E104: 41 | F104: =RANK((L104),($L$73:$L$135)) -> 32 | G104: Sở Tài chính Lạng Sơn | H104: 1.3389831 | I104: 2950.5085 | J104: 1 | K104: 2.5454545 | L104: 0.45359318
A105: 16 | B105: 23 | C105: 12 | D105: 12 | E105: 23 | F105: =RANK((L105),($L$73:$L$135)) -> 33 | G105: Sở Tài chính Quảng Bình | H105: 0.93589744 | I105: 3689.0256 | J105: 1 | K105: 11 | L105: 0.45287162
A106: 36 | B106: 13 | C106: 10 | D106: 17 | E106: 27 | F106: =RANK((L106),($L$73:$L$135)) -> 34 | G106: Sở Tài chính Bình Phước | H106: 1 | I106: 6971.9574 | J106: 1 | K106: 5 | L106: 0.45128172
A107: 18 | B107: 59 | C107: 56 | D107: 50 | E107: 17 | F107: =RANK((L107),($L$73:$L$135)) -> 35 | G107: Sở Tài chính Bắc Ninh | H107: 1 | I107: 5269.2754 | J107: 0.88888889 | K107: 12 | L107: 0.44939156
A108: 10 | B108: 26 | C108: 27 | D108: 36 | E108: 43 | F108: =RANK((L108),($L$73:$L$135)) -> 36 | G108: Sở Tài chính Quảng Nam | H108: 1.0144928 | I108: 4327.971 | J108: 1 | K108: 7 | L108: 0.44575889
A109: 47 | B109: 39 | C109: 36 | D109: 32 | E109: 39 | F109: =RANK((L109),($L$73:$L$135)) -> 37 | G109: Sở Tài chính Hà Nam | H109: 0.96 | I109: 6758.4 | J109: 1 | K109: 5 | L109: 0.44474962
A110: 8 | B110: 34 | C110: 14 | D110: 21 | E110: 31 | F110: =RANK((L110),($L$73:$L$135)) -> 38 | G110: Sở Tài chính Cần Thơ | H110: 1.1129032 | I110: 4525.4194 | J110: 1 | K110: 4.1111111 | L110: 0.4440964
A111: 50 | B111: 36 | C111: 33 | D111: 20 | E111: 30 | F111: =RANK((L111),($L$73:$L$135)) -> 39 | G111: Sở Tài chính Long An | H111: 0.88235294 | I111: 3235.2941 | J111: 1 | K111: 11 | L111: 0.44297954
A112: 12 | B112: 22 | C112: 61 | D112: 18 | E112: 20 | F112: =RANK((L112),($L$73:$L$135)) -> 40 | G112: Sở Tài chính Nghệ An | H112: 0.97058824 | I112: 150.59804 | J112: 1 | K112: 12 | L112: 0.43842994
A113: 31 | B113: 29 | C113: 29 | D113: 19 | E113: 35 | F113: =RANK((L113),($L$73:$L$135)) -> 41 | G113: Sở Tài chính Điện Biên | H113: 1.2207792 | I113: 1329.8701 | J113: 1 | K113: 4.5 | L113: 0.43800201
A114: 52 | B114: 32 | C114: 49 | D114: 43 | E114: 42 | F114: =RANK((L114),($L$73:$L$135)) -> 42 | G114: Sở Tài chính Sóc Trăng | H114: 1.0851064 | I114: 5446.8085 | J114: 1 | K114: 2.2727273 | L114: 0.43701693
A115: 40 | B115: 28 | C115: 47 | D115: 41 | E115: 37 | F115: =RANK((L115),($L$73:$L$135)) -> 43 | G115: Sở Tài chính Bình Thuận | H115: 1.0555556 | I115: 995.55556 | J115: 1 | K115: 8 | L115: 0.43353415
A116: 33 | B116: 27 | C116: 20 | D116: 34 | E116: 28 | F116: =RANK((L116),($L$73:$L$135)) -> 44 | G116: Sở Tài chính Đăk Nông | H116: 1 | I116: 4.0163934 | J116: 1 | K116: 9.625 | L116: 0.42842176
... A119: 42 | B119: 38 | C119: 46 | D119: 60 | E119: 40 | F119: =RANK((L119),($L$73:$L$135)) -> 47 | G119: Sở Tài chính Vĩnh Phúc | H119: 0.88135593 | I119: 3254.2373 | J119: 1 | K119: 4 | L119: 0.40544919
A120: - | B120: 41 | C120: 42 | D120: 39 | E120: 29 | F120: =RANK((L120),($L$73:$L$135)) -> 48 | G120: Sở Tài chính Cao Bằng | H120: 1 | I120: 98.461538 | J120: 1 | K120: 4 | L120: 0.39890689
A121: 58 | B121: 43 | C121: 40 | D121: 60 | E121: 45 | F121: =RANK((L121),($L$73:$L$135)) -> 49 | G121: Sở Tài chính Bạc Liêu | H121: 0.91803279 | I121: 575 | J121: 1 | K121: 5.1428571 | L121: 0.39790193
A122: 21 | B122: 31 | C122: 38 | D122: 45 | E122: 48 | F122: =RANK((L122),($L$73:$L$135)) -> 50 | G122: Sở Tài chính Tiền Giang | H122: 1 | I122: 36551.111 | J122: 0 | K122: 2.9090909 | L122: 0.39238406
A123: 26 | B123: 55 | C123: 3 | D123: 6 | E123: 44 | F123: =RANK((L123),($L$73:$L$135)) -> 51 | G123: Sở Tài chính Hải Dương | H123: 0.64583333 | I123: 651.625 | J123: 1 | K123: 2.1666667 | L123: 0.3479569
A124: 34 | B124: 63 | C124: 35 | D124: 53 | E124: 52 | F124: =RANK((L124),($L$73:$L$135)) -> 52 | G124: Sở Tài chính Lai Châu | H124: 1.4150943 | I124: 1004.6792 | J124: 0 | K124: 18.111667 | L124: 0.28339898
A125: 51 | B125: 15 | C125: 19 | D125: 55 | E125: 22 | F125: =RANK((L125),($L$73:$L$135)) -> 53 | G125: Sở Tài chính Quảng Ninh | H125: 1.2763158 | I125: 7368.4211 | J125: 0.071428571 | K125: 9.3041237 | L125: 0.27996188
...

Sheet KBNN
A1: XẾP HẠNG CÁC KHO BẠC NHÀ NƯỚC TỈNH/TP
A3: Xếp hạng chung
A4: Xếp hạng | G4: Tên đơn vị | H4: Chỉ số HTKT CNTT | I4: Chỉ số ƯD CNTT | J4: Chỉ số NL CNTT | K4: ICT Index
A5: 2012 | B5: 2013 | C5: 2014 | D5: 2015 | E5: 2016 | F5: 2017
A6: 6 | B6: 11 | C6: 20 | D6: 9 | E6: 7 | F6: 1 | G6: Kho bạc Nhà nước Đắk Lắk | H6: 0.61587308 | I6: 0.60741546 | J6: 0.77192982 | K6: 0.66507279
A7: 40 | B7: 13 | C7: 37 | D7: 14 | E7: 46 | F7: 2 | G7: Kho bạc Nhà nước Hà Tĩnh | H7: 0.47797278 | I7: 0.81890788 | J7: 0.69502488 | K7: 0.66396851
A8: 2 | B8: 1 | C8: 1 | D8: 1 | E8: 1 | F8: 3 | G8: Kho bạc Nhà nước Hậu Giang | H8: 0.53002686 | I8: 0.76723275 | J8: 0.67400794 | K8: 0.65708918
A9: 24 | B9: 32 | C9: 23 | D9: 17 | E9: 20 | F9: 4 | G9: Kho bạc Nhà nước Đắk Nông | H9: 0.65331807 | I9: 0.59276433 | J9: 0.66321839 | K9: 0.63643359
A10: 15 | B10: 7 | C10: 26 | D10: 18 | E10: 8 | F10: 5 | G10: Kho bạc Nhà nước Nghệ An | H10: 0.57698785 | I10: 0.6844111 | J10: 0.61990741 | K10: 0.62710212
A11: - | B11: 9 | C11: 29 | D11: 61 | E11: 6 | F11: 6 | G11: Kho bạc Nhà nước Lào Cai | H11: 0.55349318 | I11: 0.72711675 | J11: 0.59626437 | K11: 0.62562476
A12: 10 | B12: 37 | C12: 16 | D12: 23 | E12: 57 | F12: 7 | G12: Kho bạc Nhà nước Đà Nẵng | H12: 0.52357677 | I12: 0.68242038 | J12: 0.58535354 | K12: 0.59711689
A13: 7 | B13: 36 | C13: 45 | D13: 27 | E13: 25 | F13: 8 | G13: Kho bạc Nhà nước Phú Yên | H13: 0.60555689 | I13: 0.60253166 | J13: 0.52884615 | K13: 0.57897824
A14: 37 | B14: 8 | C14: 10 | D14: 11 | E14: 14 | F14: 9 | G14: Kho bạc Nhà nước Phú Thọ | H14: 0.55145889 | I14: 0.64737745 | J14: 0.49791667 | K14: 0.56558433
A15: 1 | B15: 5 | C15: 2 | D15: 4 | E15: 3 | F15: 10 | G15: Kho bạc Nhà nước Bạc Liêu | H15: 0.57002046 | I15: 0.63766257 | J15: 0.48218391 | K15: 0.56328898
A16: 12 | B16: 15 | C16: 9 | D16: 16 | E16: 57 | F16: 11 | G16: Kho bạc Nhà nước Bình Định | H16: 0.52746652 | I16: 0.64460965 | J16: 0.50972222 | K16: 0.56059946
A17: 26 | B17: 6 | C17: 3 | D17: 2 | E17: 57 | F17: 12 | G17: Kho bạc Nhà nước An Giang | H17: 0.47245735 | I17: 0.6460311 | J17: 0.53881674 | K17: 0.55243506
A18: 54 | B18: 12 | C18: 19 | D18: 10 | E18: 11 | F18: 13 | G18: Kho bạc Nhà nước Bình Phước | H18: 0.5946216 | I18: 0.58213948 | J18: 0.44301075 | K18: 0.53992395
A19: 59 | B19: 56 | C19: 22 | D19: 20 | E19: 24 | F19: 14 | G19: Kho bạc Nhà nước Hải Phòng | H19: 0.52422909 | I19: 0.60781183 | J19: 0.44261603 | K19: 0.52488565
A20: 20 | B20: 14 | C20: 8 | D20: 15 | E20: 17 | F20: 15 | G20: Kho bạc Nhà nước Quảng Ngãi | H20: 0.56306011 | I20: 0.64336747 | J20: 0.36571038 | K20: 0.52404599
A21: 56 | B21: 52 | C21: 35 | D21: 3 | E21: 2 | F21: 16 | G21: Kho bạc Nhà nước Hà Giang | H21: 0.64310767 | I21: 0.61617189 | J21: 0.30964912 | K21: 0.52297623
A22: 36 | B22: 3 | C22: 4 | D22: 5 | E22: 15 | F22: 17 | G22: Kho bạc Nhà nước Cần Thơ | H22: 0.51353807 | I22: 0.56809216 | J22: 0.48074713 | K22: 0.52079245
A23: 28 | B23: 59 | C23: 21 | D23: 33 | E23: 33 | F23: 18 | G23: Kho bạc Nhà nước Bắc Giang | H23: 0.76939935 | I23: 0.50896881 | J23: 0.28095238 | K23: 0.51977351
... A52: 39 | B52: 25 | C52: 14 | D52: 19 | E52: 4 | F52: 47 | G52: Kho bạc Nhà nước Hà Nội | H52: 0.4521875 | I52: 0.56199544 | J52: 0.24836364 | K52: 0.42084886
A53: - | B53: 48 | C53: 50 | D53: 53 | E53: 47 | F53: 48 | G53: Kho bạc Nhà nước Hải Dương | H53: 0.45941907 | I53: 0.54073095 | J53: 0.26153846 | K53: 0.42056283
A54: 32 | B54: 60 | C54: 60 | D54: 38 | E54: 21 | F54: 49 | G54: Kho bạc Nhà nước TP. Hồ Chí Minh | H54: 0.49108957 | I54: 0.47022718 | J54: 0.29509906 | K54: 0.41880527
A55: 30 | B55: 31 | C55: 13 | D55: 26 | E55: 36 | F55: 50 | G55: Kho bạc Nhà nước Ninh Thuận | H55: 0.54532559 | I55: 0.2693935 | J55: 0.42568306 | K55: 0.41346738
A56: 41 | B56: 2 | C56: 7 | D56: 13 | E56: 57 | F56: 51 | G56: Kho bạc Nhà nước Lai Châu | H56: 0.44438572 | I56: 0.61403805 | J56: 0.16045752 | K56: 0.40629376
A57: 21 | B57: 39 | C57: 57 | D57: 54 | E57: 53 | F57: 52 | G57: Kho bạc Nhà nước Vĩnh Long | H57: 0.28413128 | I57: 0.48173328 | J57: 0.44576271 | K57: 0.40387576
A58: 57 | B58: 62 | C58: 55 | D58: 48 | E58: 45 | F58: 53 | G58: Kho bạc Nhà nước Cao Bằng | H58: 0.5260028 | I58: 0.41191392 | J58: 0.26330846 | K58: 0.40040839
A59: 55 | B59: 54 | C59: 62 | D59: 61 | E59: 55 | F59: 54 | G59: Kho bạc Nhà nước Sơn La | H59: 0.49694605 | I59: 0.39572519 | J59: 0.27909605 | K59: 0.39058909
A60: 13 | B60: 10 | C60: 5 | D60: 7 | E60: 5 | F60: 55 | G60: Kho bạc Nhà nước Quảng Bình | H60: 0.47937761 | I60: 0.39883488 | J60: 0.26176471 | K60: 0.3799924
A61: 3 | B61: 21 | C61: 38 | D61: 34 | E61: 31 | F61: 56 | G61: Kho bạc Nhà nước Hà Nam | H61: 0.52575137 | I61: 0.39424601 | J61: 0.17522769 | K61: 0.36507502
A62: 58 | B62: 45 | C62: 59 | D62: 56 | E62: 52 | F62: 57 | G62: Kho bạc Nhà nước Cà Mau | H62: 0.28104839 | I62: 0.39861103 | J62: 0.32921147 | K62: 0.3362903
A63: 48 | B63: 63 | C63: 63 | D63: 60 | E63: 54 | F63: 58 | G63: Kho bạc Nhà nước Đồng Nai | H63: 0.1791757 | I63: 0.48115707 | J63: 0.33401709 | K63: 0.33144996
A64: 43 | B64: 38 | C64: 46 | D64: 52 | E64: 57 | F64: 59 | G64: Kho bạc Nhà nước Bà Rịa - Vũng Tầu | H64: 0.40983221 | I64: 0.32864623 | J64: 0.255 | K64: 0.33115948
A65: 31 | B65: 41 | C65: 61 | D65: 58 | E65: 50 | F65: 60 | G65: Kho bạc Nhà nước Thái Nguyên | H65: 0.26407164 | I65: 0.35093558 | J65: 0.30048733 | K65: 0.30516485
... A68: 33 | B68: 20 | C68: 30 | D68: 29 | E68: 12 | F68: 62 | G68: Kho bạc Nhà nước Thanh Hoá | H68: 0 | I68: 0 | J68: 0 | K68: 0
A70: Xếp hạng Hạ tầng kỹ thuật CNTT
A71: Xếp hạng | G71: Tên đơn vị | H71: TL máy tính/ CBCC | I71: TL băng thông Int./ CBCC | J71: Kết nối HTTT của ĐV với ĐVTT | K71: Triển khai hệ thống ATTT và ATDL | L71: Chỉ số HTKT
A72: 2012 | B72: 2013 | C72: 2014 | D72: 2015 | E72: 2016 | F72: 2017
A73: 30 | B73: 53 | C73: 12 | D73: 10 | E73: 7 | F73: =RANK(L73,$L$73:$L$135) -> 1 | G73: Kho bạc Nhà nước Bắc Giang | H73: 1.6233766 | I73: 21277.922 | J73: 1 | K73: 15 | L73: 0.76939935
A74: 10 | B74: 59 | C74: 53 | D74: 48 | E74: 57 | F74: =RANK(L74,$L$73:$L$135) -> 2 | G74: Kho bạc Nhà nước Bắc Ninh | H74: 3.0769231 | I74: 4726.1538 | J74: 1 | K74: 12.3275 | L74: 0.66853093
A75: 39 | B75: 28 | C75: 18 | D75: 16 | E75: 24 | F75: =RANK(L75,$L$73:$L$135) -> 3 | G75: Kho bạc Nhà nước Đắk Nông | H75: 1.5689655 | I75: 3972.4138 | J75: 1 | K75: 25 | L75: 0.65331807
A76: 51 | B76: 39 | C76: 10 | D76: 3 | E76: 15 | F76: =RANK(L76,$L$73:$L$135) -> 4 | G76: Kho bạc Nhà nước Hà Giang | H76: 1.3157895 | I76: 8684.2105 | J76: 1 | K76: 20.090909 | L76: 0.64310767
A77: 13 | B77: 4 | C77: 13 | D77: 2 | E77: 16 | F77: =RANK(L77,$L$73:$L$135) -> 5 | G77: Kho bạc Nhà nước Đắk Lắk | H77: 1.4912281 | I77: 5614.0351 | J77: 1 | K77: 19.5 | L77: 0.61587308
A78: 31 | B78: 43 | C78: 22 | D78: 29 | E78: 3 | F78: =RANK(L78,$L$73:$L$135) -> 6 | G78: Kho bạc Nhà nước Tiền Giang | H78: 1.08 | I78: 1689.6 | J78: 1 | K78: 27.272727 | L78: 0.60760156
A79: 5 | B79: 3 | C79: 14 | D79: 4 | E79: 5 | F79: =RANK(L79,$L$73:$L$135) -> 7 | G79: Kho bạc Nhà nước Phú Yên | H79: 1.9423077 | I79: 5907.6923 | J79: 1 | K79: 14 | L79: 0.60555689
A80: 53 | B80: 8 | C80: 44 | D80: 30 | E80: 30 | F80: =RANK(L80,$L$73:$L$135) -> 8 | G80: Kho bạc Nhà nước Bình Phước | H80: 1.3387097 | I80: 4860 | J80: 1 | K80: 19.5 | L80: 0.5946216
A81: 14 | B81: 14 | C81: 11 | D81: 18 | E81: 21 | F81: =RANK(L81,$L$73:$L$135) -> 9 | G81: Kho bạc Nhà nước Kon Tum | H81: 1.7460317 | I81: 2665.6508 | J81: 1 | K81: 17.444444 | L81: 0.58309193
A82: 4 | B82: 2 | C82: 49 | D82: 23 | E82: 27 | F82: =RANK(L82,$L$73:$L$135) -> 10 | G82: Kho bạc Nhà nước Nghệ An | H82: 1.4166667 | I82: 7111.1111 | J82: 1 | K82: 14 | L82: 0.57698785
A83: 7 | B83: 1 | C83: 1 | D83: 1 | E83: 4 | F83: =RANK(L83,$L$73:$L$135) -> 11 | G83: Kho bạc Nhà nước Bạc Liêu | H83: 1.1034483 | I83: 9074.2069 | J83: 1 | K83: 13.5 | L83: 0.57002046
A84: 32 | B84: 10 | C84: 3 | D84: 8 | E84: 9 | F84: =RANK(L84,$L$73:$L$135) -> 12 | G84: Kho bạc Nhà nước Quảng Ngãi | H84: 1.9508197 | I84: 671.47541 | J84: 1 | K84: 16 | L84: 0.56306011
A85: 16 | B85: 36 | C85: 30 | D85: 45 | E85: 23 | F85: =RANK(L85,$L$73:$L$135) -> 13 | G85: Kho bạc Nhà nước Bình Dương | H85: 1.9655172 | I85: 2365.7931 | J85: 1 | K85: 13.5 | L85: 0.56124461
A86: - | B86: 18 | C86: 29 | D86: 61 | E86: 2 | F86: =RANK(L86,$L$73:$L$135) -> 14 | G86: Kho bạc Nhà nước Lào Cai | H86: 1.4655172 | I86: 3213.2414 | J86: 1 | K86: 16 | L86: 0.55349318
A87: 33 | B87: 29 | C87: 17 | D87: 35 | E87: 34 | F87: =RANK(L87,$L$73:$L$135) -> 15 | G87: Kho bạc Nhà nước Phú Thọ | H87: 1.46875 | I87: 4578.125 | J87: 1 | K87: 14 | L87: 0.55145889
A88: 1 | B88: 17 | C88: 8 | D88: 6 | E88: 13 | F88: =RANK(L88,$L$73:$L$135) -> 16 | G88: Kho bạc Nhà nước Ninh Thuận | H88: 1.1311475 | I88: 604.32787 | J88: 1 | K88: 21.416667 | L88: 0.54532559
A89: 15 | B89: 7 | C89: 38 | D89: 28 | E89: 8 | F89: =RANK(L89,$L$73:$L$135) -> 17 | G89: Kho bạc Nhà nước Hưng Yên | H89: 1.4285714 | I89: 3413.3333 | J89: 1 | K89: 14.5 | L89: 0.53909226
A90: 3 | B90: 31 | C90: 40 | D90: 40 | E90: 49 | F90: =RANK(L90,$L$73:$L$135) -> 18 | G90: Kho bạc Nhà nước Điện Biên | H90: 1.2380952 | I90: 2737.7778 | J90: 1 | K90: 16.666667 | L90: 0.5355399
A91: 50 | B91: 51 | C91: 48 | D91: 39 | E91: 22 | F91: =RANK(L91,$L$73:$L$135) -> 19 | G91: Kho bạc Nhà nước Hoà Bình | H91: 1.7333333 | I91: 3006.8267 | J91: 1 | K91: 11.6 | L91: 0.53249468
A92: 25 | B92: 13 | C92: 7 | D92: 7 | E92: 29 | F92: =RANK(L92,$L$73:$L$135) -> 20 | G92: Kho bạc Nhà nước Hậu Giang | H92: 1.5 | I92: 587.42857 | J92: 1 | K92: 16.5 | L92: 0.53002686
A93: 12 | B93: 20 | C93: 35 | D93: 27 | E93: 57 | F93: =RANK(L93,$L$73:$L$135) -> 21 | G93: Kho bạc Nhà nước Bình Định | H93: 1.2678571 | I93: 5485.7143 | J93: 1 | K93: 12 | L93: 0.52746652
A94: 47 | B94: 58 | C94: 52 | D94: 49 | E94: 18 | F94: =RANK(L94,$L$73:$L$135) -> 22 | G94: Kho bạc Nhà nước Cao Bằng | H94: 1.3731343 | I94: 2292.5373 | J94: 1 | K94: 15 | L94: 0.5260028
A95: 9 | B95: 12 | C95: 2 | D95: 21 | E95: 12 | F95: =RANK(L95,$L$73:$L$135) -> 23 | G95: Kho bạc Nhà nước Hà Nam | H95: 1.9836066 | I95: 0 | J95: 1 | K95: 12.5 | L95: 0.52575137
A96: 61 | B96: 41 | C96: 19 | D96: 25 | E96: 6 | F96: =RANK(L96,$L$73:$L$135) -> 24 | G96: Kho bạc Nhà nước Bắc Kạn | H96: 1.3454545 | I96: 0.65454545 | J96: 1 | K96: 18 | L96: 0.52432587
A97: 49 | B97: 54 | C97: 28 | D97: 34 | E97: 10 | F97: =RANK(L97,$L$73:$L$135) -> 25 | G97: Kho bạc Nhà nước Hải Phòng | H97: 1.3544304 | I97: 2215.1899 | J97: 1 | K97: 15.071429 | L97: 0.52422909
A98: 37 | B98: 26 | C98: 37 | D98: 37 | E98: 57 | F98: =RANK(L98,$L$73:$L$135) -> 26 | G98: Kho bạc Nhà nước Đà Nẵng | H98: 1.4090909 | I98: 3787.8788 | J98: 1 | K98: 12.5 | L98: 0.52357677
... A120: 27 | B120: 24 | C120: 33 | D120: 24 | E120: 28 | F120: =RANK(L120,$L$73:$L$135) -> 48 | G120: Kho bạc Nhà nước Quảng Ninh | H120: 1 | I120: 1706.6667 | J120: 1 | K120: 12 | L120: 0.46130208
A121: - | B121: 46 | C121: 50 | D121: 52 | E121: 52 | F121: =RANK(L121,$L$73:$L$135) -> 49 | G121: Kho bạc Nhà nước Hải Dương | H121: 1.1666667 | I121: 393.84615 | J121: 1 | K121: 12 | L121: 0.45941907
A122: 2 | B122: 52 | C122: 47 | D122: 46 | E122: 36 | F122: =RANK(L122,$L$73:$L$135) -> 50 | G122: Kho bạc Nhà nước Vĩnh Phúc | H122: 0.90540541 | I122: 0.21621622 | J122: 1 | K122: 14.75 | L122: 0.45877506
A123: 40 | B123: 62 | C123: 20 | D123: 22 | E123: 25 | F123: =RANK(L123,$L$73:$L$135) -> 51 | G123: Kho bạc Nhà nước Bình Thuận | H123: 1 | I123: 1445.6471 | J123: 1 | K123: 12 | L123: 0.45823529
A124: 58 | B124: 56 | C124: 56 | D124: 58 | E124: 57 | F124: =RANK(L124,$L$73:$L$135) -> 52 | G124: Kho bạc Nhà nước Lạng Sơn | H124: 0.92857143 | I124: 1785.7143 | J124: 1 | K124: 11.55 | L124: 0.45230226
A125: 28 | B125: 21 | C125: 4 | D125: 42 | E125: 1 | F125: =RANK(L125,$L$73:$L$135) -> 53 | G125: Kho bạc Nhà nước Hà Nội | H125: 1 | I125: 930.90909 | J125: 1 | K125: 12 | L125: 0.4521875
A126: 35 | B126: 16 | C126: 34 | D126: 32 | E126: 57 | F126: =RANK(L126,$L$73:$L$135) -> 54 | G126: Kho bạc Nhà nước Lai Châu | H126: 0.98529412 | I126: 271.05882 | J126: 1 | K126: 12.125 | L126: 0.44438572
A127: 23 | B127: 55 | C127: 60 | D127: 47 | E127: 32 | F127: =RANK(L127,$L$73:$L$135) -> 55 | G127: Kho bạc Nhà nước Gia Lai | H127: 1.2816901 | I127: 9.0140845 | J127: 1 | K127: 7.0302198 | L127: 0.41868691
A128: 60 | B128: 50 | C128: 55 | D128: 53 | E128: 57 | F128: =RANK(L128,$L$73:$L$135) -> 56 | G128: Kho bạc Nhà nước Bà Rịa - Vũng Tầu | H128: 0.4972973 | I128: 22.140541 | J128: 1 | K128: 13 | L128: 0.40983221
A129: 20 | B129: 37 | C129: 59 | D129: 57 | E129: 56 | F129: =RANK(L129,$L$73:$L$135) -> 57 | G129: Kho bạc Nhà nước Vĩnh Long | H129: 1.6271186 | I129: 4237.2881 | J129: 0 | K129: 11.142857 | L129: 0.28413128
A130: 54 | B130: 49 | C130: 15 | D130: 20 | E130: 31 | F130: =RANK(L130,$L$73:$L$135) -> 58 | G130: Kho bạc Nhà nước Cà Mau | H130: 0 | I130: 2642.5806 | J130: 1 | K130: 0 | L130: 0.28104839
A131: 52 | B131: 44 | C131: 57 | D131: 60 | E131: 53 | F131: =RANK(L131,$L$73:$L$135) -> 59 | G131: Kho bạc Nhà nước Thái Nguyên | H131: 0 | I131: 1197.6608 | J131: 1 | K131: 0 | L131: 0.26407164
A132: 57 | B132: 60 | C132: 62 | D132: 59 | E132: 55 | F132: =RANK(L132,$L$73:$L$135) -> 60 | G132: Kho bạc Nhà nước Đồng Nai | H132: 0.95384615 | I132: 0.76923077 | J132: 0 | K132: 11.090909 | L132: 0.1791757
A133: 59 | B133: 61 | C133: 58 | D133: 56 | E133: 54 | F133: =RANK(L133,$L$73:$L$135) -> 61 | G133: Kho bạc Nhà nước Yên Bái | H133: 1 | I133: 0.95238095 | J133: 0 | K133: 2 | L133: 0.099594523
... A135: 43 | B135: 22 | C135: 43 | D135: 41 | E135: 40 | F135: =RANK(L135,$L$73:$L$135) -> 62 | G135: Kho bạc Nhà nước Thanh Hoá | H135: 0 | I135: 0 | J135: 0 | K135: 0 | L135: 0
A137: Xếp hạng Ứng dụng CNTT
A138: Xếp hạng | G138: Tên đơn vị | H138: Sử dụng thư điện tử | I138: Triển khai các ứng dụng cơ bản | J138: Ứng dụng PMNM | K138: Sử dụng văn bản điện tử | L138: Dịch vụ công trực tuyến | M138: Chỉ số ƯD CNTT
A139: 2012 | B139: 2013 | C139: 2014 | D139: 2015 | E139: 2016 | F139: 2017
A140: 33 | B140: 47 | C140: 56 | D140: 29 | E140: 46 | F140: =RANK(M140,$M$140:$M$202) -> 1 | G140: Kho bạc Nhà nước Hà Tĩnh | H140: 1 | I140: 17.4 | J140: 114.58333 | K140: 19.2 | L140: 19 | M140: 0.81890788
A141: 9 | B141: 5 | C141: 19 | D141: 5 | E141: 9 | F141: =RANK(M141,$M$140:$M$202) -> 2 | G141: Kho bạc Nhà nước Hậu Giang | H141: 0.94642857 | I141: 16.4 | J141: 1.8333333 | K141: 20.4 | L141: 67 | M141: 0.76723275
A142: 10 | B142: 20 | C142: 50 | D142: 17 | E142: 6 | F142: =RANK(M142,$M$140:$M$202) -> 3 | G142: Kho bạc Nhà nước Hoà Bình | H142: 0.90666667 | I142: 11.4 | J142: 121.66667 | K142: 18.4 | L142: 23 | M142: 0.75198221
A143: - | B143: 11 | C143: 23 | D143: 61 | E143: 3 | F143: =RANK(M143,$M$140:$M$202) -> 4 | G143: Kho bạc Nhà nước Lào Cai | H143: 1 | I143: 16.2 | J143: 3.08 | K143: 20.4 | L143: 50 | M143: 0.72711675
A144: 41 | B144: 46 | C144: 22 | D144: 39 | E144: 32 | F144: =RANK(M144,$M$140:$M$202) -> 5 | G144: Kho bạc Nhà nước Ninh Bình | H144: 1 | I144: 16 | J144: 83.333333 | K144: 12.4 | L144: 23 | M144: 0.69787831
A145: 46 | B145: 25 | C145: 31 | D145: 26 | E145: 20 | F145: =RANK(M145,$M$140:$M$202) -> 6 | G145: Kho bạc Nhà nước Nghệ An | H145: 1 | I145: 14.495238 | J145: 55.833333 | K145: 15.447619 | L145: 29 | M145: 0.6844111
A146: 11 | B146: 43 | C146: 17 | D146: 18 | E146: 57 | F146: =RANK(M146,$M$140:$M$202) -> 7 | G146: Kho bạc Nhà nước Đà Nẵng | H146: 1 | I146: 15.2 | J146: 0.83333333 | K146: 14.2 | L146: 60.2 | M146: 0.68242038
A147: 5 | B147: 23 | C147: 30 | D147: 23 | E147: 38 | F147: =RANK(M147,$M$140:$M$202) -> 8 | G147: Kho bạc Nhà nước Phú Thọ | H147: 1 | I147: 12 | J147: 0.75 | K147: 15.4 | L147: 56 | M147: 0.64737745
A148: 8 | B148: 31 | C148: 3 | D148: 2 | E148: 57 | F148: =RANK(M148,$M$140:$M$202) -> 9 | G148: Kho bạc Nhà nước An Giang | H148: 1 | I148: 13.5 | J148: 65.166667 | K148: 14.4 | L148: 18 | M148: 0.6460311
A149: 7 | B149: 3 | C149: 8 | D149: 3 | E149: 57 | F149: =RANK(M149,$M$140:$M$202) -> 10 | G149: Kho bạc Nhà nước Bình Định | H149: 0.94642857 | I149: 16.381818 | J149: 1.8083333 | K149: 20.4 | L149: 26 | M149: 0.64460965
A150: 43 | B150: 10 | C150: 11 | D150: 27 | E150: 19 | F150: =RANK(M150,$M$140:$M$202) -> 11 | G150: Kho bạc Nhà nước Quảng Ngãi | H150: 1 | I150: 14 | J150: 0.6 | K150: 15.4 | L150: 47.592593 | M150: 0.64336747
A151: 29 | B151: 4 | C151: 2 | D151: 11 | E151: 2 | F151: =RANK(M151,$M$140:$M$202) -> 12 | G151: Kho bạc Nhà nước Bạc Liêu | H151: 1 | I151: 17.4 | J151: 1.8333333 | K151: 18.4 | L151: 23 | M151: 0.63766257
A152: 12 | B152: 52 | C152: 49 | D152: 4 | E152: 1 | F152: =RANK(M152,$M$140:$M$202) -> 13 | G152: Kho bạc Nhà nước Hà Giang | H152: 0.92105263 | I152: 16.4 | J152: 2.8333333 | K152: 14.4 | L152: 37.25 | M152: 0.61617189
A153: 15 | B153: 1 | C153: 4 | D153: 7 | E153: 57 | F153: =RANK(M153,$M$140:$M$202) -> 14 | G153: Kho bạc Nhà nước Lai Châu | H153: 0.97058824 | I153: 18.75 | J153: 2.0416667 | K153: 16 | L153: 20 | M153: 0.61403805
A154: 60 | B154: 44 | C154: 27 | D154: 21 | E154: 15 | F154: =RANK(M154,$M$140:$M$202) -> 15 | G154: Kho bạc Nhà nước Hải Phòng | H154: 1 | I154: 17.4 | J154: 1.8333333 | K154: 18.4 | L154: 13 | M154: 0.60781183
A155: 20 | B155: 24 | C155: 29 | D155: 20 | E155: 7 | F155: =RANK(M155,$M$140:$M$202) -> 16 | G155: Kho bạc Nhà nước Đắk Lắk | H155: 1 | I155: 16.4 | J155: 1.85 | K155: 16.4 | L155: 23 | M155: 0.60741546
...

Sheet CucThue
A1: XẾP HẠNG CÁC CỤC THUẾ TỈNH/TP
A3: Xếp hạng chung
A4: Xếp hạng | G4: Tên đơn vị | H4: Chỉ số HTKT CNTT | I4: Chỉ số ƯD CNTT | J4: Chỉ số NL CNTT | K4: ICT Index
A5: 2012 | B5: 2013 | C5: 2014 | D5: 2015 | E5: 2016 | F5: 2017
A6: 14 | B6: 30 | C6: 33 | D6: 45 | E6: 36 | F6: 1 | G6: Cục thuế tỉnh Đồng Tháp | H6: 0.50137165 | I6: 0.50768417 | J6: 0.77941176 | K6: 0.59615586
A7: 46 | B7: 43 | C7: 30 | D7: 12 | E7: 8 | F7: 2 | G7: Cục thuế tỉnh Lào Cai | H7: 0.55803016 | I7: 0.80417821 | J7: 0.39013761 | K7: 0.58411533
A8: 7 | B8: 12 | C8: 17 | D8: 38 | E8: 42 | F8: 3 | G8: Cục thuế tỉnh Quảng Ninh | H8: 0.48758119 | I8: 0.61888625 | J8: 0.64029882 | K8: 0.58225542
A9: 40 | B9: 62 | C9: 46 | D9: 18 | E9: 14 | F9: 4 | G9: Cục thuế tỉnh Hoà Bình | H9: 0.58987952 | I9: 0.72119052 | J9: 0.40985202 | K9: 0.57364069
A10: 42 | B10: 48 | C10: 58 | D10: 57 | E10: 52 | F10: 5 | G10: Cục thuế tỉnh An Giang | H10: 0.61923161 | I10: 0.60915379 | J10: 0.49051816 | K10: 0.57296786
A11: 23 | B11: 4 | C11: 8 | D11: 4 | E11: 3 | F11: 6 | G11: Cục thuế tỉnh Cao Bằng | H11: 0.57725111 | I11: 0.60463061 | J11: 0.53175676 | K11: 0.57121282
A12: 33 | B12: 21 | C12: 21 | D12: 16 | E12: 2 | F12: 7 | G12: Cục thuế tỉnh Hậu Giang | H12: 0.64576223 | I12: 0.50560437 | J12: 0.5162037 | K12: 0.55585677
A13: 31 | B13: 58 | C13: 35 | D13: 14 | E13: 17 | F13: 8 | G13: Cục thuế tỉnh Hải Dương | H13: 0.65231066 | I13: 0.54341371 | J13: 0.44612069 | K13: 0.54728169
A14: 18 | B14: 19 | C14: 10 | D14: 19 | E14: 18 | F14: 9 | G14: Cục thuế tỉnh Bạc Liêu | H14: 0.66874723 | I14: 0.63108586 | J14: 0.32494919 | K14: 0.54159409
A15: 12 | B15: 32 | C15: 53 | D15: 44 | E15: 29 | F15: 10 | G15: Cục thuế tỉnh Long An | H15: 0.82823118 | I15: 0.50164218 | J15: 0.24948938 | K15: 0.52645425
A16: - | B16: 54 | C16: 44 | D16: 27 | E16: 15 | F16: 11 | G16: Cục thuế tỉnh Quảng Nam | H16: 0.57037656 | I16: 0.60438443 | J16: 0.38549233 | K16: 0.52008444
A17: 5 | B17: 39 | C17: 42 | D17: 50 | E17: 56 | F17: 12 | G17: Cục thuế tỉnh Quảng Bình | H17: 0.49219134 | I17: 0.57009117 | J17: 0.47907366 | K17: 0.51378539
A18: 8 | B18: 28 | C18: 25 | D18: 47 | E18: 21 | F18: 13 | G18: Cục thuế tỉnh Bắc Ninh | H18: 0.63786371 | I18: 0.59110822 | J18: 0.2892316 | K18: 0.50606785
A19: 15 | B19: 11 | C19: 14 | D19: 22 | E19: 37 | F19: 14 | G19: Cục thuế tỉnh Thanh Hóa | H19: 0.53604382 | I19: 0.62344507 | J19: 0.34291332 | K19: 0.50080074
A20: 13 | B20: 10 | C20: 9 | D20: 3 | E20: 5 | F20: 15 | G20: Cục thuế tỉnh Nam Định | H20: 0.57665174 | I20: 0.63406071 | J20: 0.28618421 | K20: 0.49896556
A21: 29 | B21: 23 | C21: 12 | D21: 13 | E21: 23 | F21: 16 | G21: Cục thuế tỉnh Bình Phước | H21: 0.56829217 | I21: 0.59479295 | J21: 0.33354592 | K21: 0.49887701
A22: 10 | B22: 20 | C22: 31 | D22: 21 | E22: 11 | F22: 17 | G22: Cục thuế tỉnh Yên Bái | H22: 0.58375554 | I22: 0.53068701 | J22: 0.37345008 | K22: 0.49596421
A23: 30 | B23: 41 | C23: 7 | D23: 1 | E23: 4 | F23: 18 | G23: Cục thuế tỉnh Bắc Giang | H23: 0.51350503 | I23: 0.6438333 | J23: 0.328125 | K23: 0.49515444
A24: 9 | B24: 14 | C24: 26 | D24: 15 | E24: 26 | F24: 19 | G24: Cục thuế Thành phố Đà Nẵng | H24: 0.55202987 | I24: 0.61723158 | J24: 0.31129808 | K24: 0.49351984
A25: 56 | B25: 52 | C25: 43 | D25: 17 | E25: 10 | F25: 20 | G25: Cục thuế tỉnh Đồng Nai | H25: 0.65050654 | I25: 0.53486748 | J25: 0.29435342 | K25: 0.49324248
A26: 45 | B26: 7 | C26: 11 | D26: 6 | E26: 19 | F26: 21 | G26: Cục thuế tỉnh Bà rịa - Vũng Tàu | H26: 0.52977181 | I26: 0.61362259 | J26: 0.31254109 | K26: 0.48531183
A27: 17 | B27: 16 | C27: 29 | D27: 24 | E27: 40 | F27: 22 | G27: Cục thuế tỉnh Thái Bình | H27: 0.61682691 | I27: 0.63763404 | J27: 0.19156586 | K27: 0.48200894
A28: 2 | B28: 1 | C28: 6 | D28: 10 | E28: 1 | F28: 23 | G28: Cục thuế tỉnh Nghệ An | H28: 0.5858521 | I28: 0.57857517 | J28: 0.28096539 | K28: 0.48179755
... A63: 43 | B63: 59 | C63: 24 | D63: 30 | E63: 27 | F63: 58 | G63: Cục thuế Thành phố Cần Thơ | H63: 0.46168433 | I63: 0.3420078 | J63: 0.22978285 | K63: 0.34449166
A64: - | B64: 46 | C64: 48 | D64: 53 | E64: 41 | F64: 59 | G64: Cục thuế tỉnh Kiên Giang | H64: 0.27851583 | I64: 0.4271698 | J64: 0.25291149 | K64: 0.31953238
A65: 48 | B65: 51 | C65: 37 | D65: 32 | E65: 28 | F65: 60 | G65: Cục thuế tỉnh Quảng Ngãi | H65: 0.25305053 | I65: 0.46713134 | J65: 0.20801034 | K65: 0.3093974
A66: 61 | B66: 40 | C66: 40 | D66: 36 | E66: 34 | F66: 61 | G66: Cục thuế Thành phố Hồ Chí Minh | H66: 0.25664166 | I66: 0.42229761 | J66: 0.080872011 | K66: 0.25327043
A67: 16 | B67: 63 | C67: 62 | D67: 58 | E67: 56 | F67: 62 | G67: Cục thuế tỉnh Lai Châu | H67: 0 | I67: 0 | J67: 0 | K67: 0
A68: 53 | B68: 57 | C68: 57 | D68: 58 | E68: 56 | F68: 62 | G68: Cục thuế tỉnh Sơn La | H68: 0 | I68: 0 | J68: 0 | K68: 0
A70: Xếp hạng Hạ tầng kỹ thuật CNTT
A71: Xếp hạng | G71: Tên đơn vị | H71: TL máy tính/ CBCC | I71: TL băng thông Int./ CBCC | J71: Kết nối HTTT của ĐV với ĐVTT | K71: Triển khai hệ thống ATTT và ATDL | L71: Chỉ số HTKT
A72: 2012 | B72: 2013 | C72: 2014 | D72: 2015 | E72: 2016 | F72: 2017
A73: 4 | B73: 42 | C73: 24 | D73: 23 | E73: 2 | F73: =RANK(L73,$L$73:$L$135) -> 1 | G73: Cục thuế tỉnh Long An | H73: 1.9411765 | I73: 32527.059 | J73: 1 | K73: 12.5 | L73: 0.82823118
A74: 42 | B74: 30 | C74: 3 | D74: 2 | E74: 56 | F74: =RANK(L74,$L$73:$L$135) -> 2 | G74: Cục thuế tỉnh Hà Giang | H74: 1.3125 | I74: 5208.3333 | J74: 1 | K74: 28 | L74: 0.68649817
A75: 6 | B75: 46 | C75: 36 | D75: 32 | E75: 8 | F75: =RANK(L75,$L$73:$L$135) -> 3 | G75: Cục thuế tỉnh Bạc Liêu | H75: 1.5853659 | I75: 4745.3659 | J75: 1 | K75: 23 | L75: 0.66874723
A76: 25 | B76: 60 | C76: 25 | D76: 17 | E76: 7 | F76: =RANK(L76,$L$73:$L$135) -> 4 | G76: Cục thuế tỉnh Hải Dương | H76: 1.5586207 | I76: 6896.5517 | J76: 1 | K76: 19.641593 | L76: 0.65231066
A77: 43 | B77: 44 | C77: 44 | D77: 13 | E77: 17 | F77: =RANK(L77,$L$73:$L$135) -> 5 | G77: Cục thuế tỉnh Đồng Nai | H77: 1.3992248 | I77: 2170.5426 | J77: 1 | K77: 25.5 | L77: 0.65050654
A78: 52 | B78: 12 | C78: 35 | D78: 41 | E78: 6 | F78: =RANK(L78,$L$73:$L$135) -> 6 | G78: Cục thuế tỉnh Hậu Giang | H78: 1.4761905 | I78: 1597.4603 | J78: 1 | K78: 24.5 | L78: 0.64576223
A79: 28 | B79: 32 | C79: 15 | D79: 18 | E79: 29 | F79: =RANK(L79,$L$73:$L$135) -> 7 | G79: Cục thuế tỉnh Bắc Ninh | H79: 2.2402597 | I79: 6.9155844 | J79: 1 | K79: 15.434783 | L79: 0.63786371
A80: 24 | B80: 55 | C80: 56 | D80: 55 | E80: 26 | F80: =RANK(L80,$L$73:$L$135) -> 8 | G80: Cục thuế tỉnh An Giang | H80: 1.7307692 | I80: 5907.6923 | J80: 1 | K80: 14.636364 | L80: 0.61923161
A81: 29 | B81: 34 | C81: 43 | D81: 42 | E81: 40 | F81: =RANK(L81,$L$73:$L$135) -> 9 | G81: Cục thuế tỉnh Thái Bình | H81: 2.1048387 | I81: 2064.5161 | J81: 1 | K81: 13 | L81: 0.61682691
A82: 36 | B82: 2 | C82: 2 | D82: 58 | E82: 9 | F82: =RANK(L82,$L$73:$L$135) -> 10 | G82: Cục thuế tỉnh Ninh Thuận | H82: 1.1282051 | I82: 3205.1282 | J82: 1 | K82: 21.5 | L82: 0.59249976
A83: 8 | B83: 59 | C83: 61 | D83: 57 | E83: 51 | F83: =RANK(L83,$L$73:$L$135) -> 11 | G83: Cục thuế tỉnh Hoà Bình | H83: 1.6261682 | I83: 5508.4112 | J83: 1 | K83: 13 | L83: 0.58987952
A84: 47 | B84: 11 | C84: 1 | D84: 1 | E84: 56 | F84: =RANK(L84,$L$73:$L$135) -> 12 | G84: Cục thuế tỉnh Phú Thọ | H84: 1.9153846 | I84: 2756.9231 | J84: 1 | K84: 11.5 | L84: 0.58761385
... A88: 21 | B88: 28 | C88: 38 | D88: 26 | E88: 14 | F88: =RANK(L88,$L$73:$L$135) -> 16 | G88: Cục thuế tỉnh Nam Định | H88: 1.6105263 | I88: 2155.7895 | J88: 1 | K88: 14.6 | L88: 0.57665174
A89: - | B89: 14 | C89: 30 | D89: 35 | E89: 31 | F89: =RANK(L89,$L$73:$L$135) -> 17 | G89: Cục thuế tỉnh Quảng Nam | H89: 1.0762712 | I89: 8050.8475 | J89: 1 | K89: 15.5 | L89: 0.57037656
A90: 2 | B90: 16 | C90: 4 | D90: 6 | E90: 34 | F90: =RANK(L90,$L$73:$L$135) -> 18 | G90: Cục thuế tỉnh Lâm Đồng | H90: 1.7022901 | I90: 1954.1985 | J90: 1 | K90: 12.766069 | L90: 0.56896825
A91: 3 | B91: 4 | C91: 6 | D91: 14 | E91: 37 | F91: =RANK(L91,$L$73:$L$135) -> 19 | G91: Cục thuế tỉnh Bình Phước | H91: 1.4285714 | I91: 12538.776 | J91: 1 | K91: 7 | L91: 0.56829217
A92: 23 | B92: 8 | C92: 28 | D92: 27 | E92: 15 | F92: =RANK(L92,$L$73:$L$135) -> 20 | G92: Cục thuế tỉnh Lào Cai | H92: 1.559633 | I92: 2266.055 | J92: 1 | K92: 13.055556 | L92: 0.55803016
A93: 7 | B93: 3 | C93: 48 | D93: 47 | E93: 44 | F93: =RANK(L93,$L$73:$L$135) -> 21 | G93: Cục thuế Thành phố Đà Nẵng | H93: 1.525641 | I93: 3205.1282 | J93: 1 | K93: 12 | L93: 0.55202987
A94: 32 | B94: 35 | C94: 11 | D94: 10 | E94: 18 | F94: =RANK(L94,$L$73:$L$135) -> 22 | G94: Cục thuế tỉnh Bắc Kạn | H94: 1.4390244 | I94: 0 | J94: 1 | K94: 15 | L94: 0.54451535
A95: 34 | B95: 54 | C95: 59 | D95: 46 | E95: 56 | F95: =RANK(L95,$L$73:$L$135) -> 23 | G95: Cục thuế tỉnh Vĩnh Phúc | H95: 1.5944056 | I95: 1727.2727 | J95: 1 | K95: 11.555556 | L95: 0.54437668
A96: 12 | B96: 24 | C96: 18 | D96: 34 | E96: 35 | F96: =RANK(L96,$L$73:$L$135) -> 24 | G96: Cục thuế tỉnh Thanh Hóa | H96: 1.2690763 | I96: 1644.9799 | J96: 1 | K96: 14.759259 | L96: 0.53604382
A97: 60 | B97: 50 | C97: 53 | D97: 51 | E97: 49 | F97: =RANK(L97,$L$73:$L$135) -> 25 | G97: Cục thuế Thành phố Hà Nội | H97: 1.6762178 | I97: 1432.6648 | J97: 1 | K97: 9.6636752 | L97: 0.53435033
A98: 50 | B98: 39 | C98: 29 | D98: 19 | E98: 38 | F98: =RANK(L98,$L$73:$L$135) -> 26 | G98: Cục thuế tỉnh Bà rịa - Vũng Tàu | H98: 1.408284 | I98: 3029.5858 | J98: 1 | K98: 11.125 | L98: 0.52977181
A99: 46 | B99: 40 | C99: 47 | D99: 44 | E99: 23 | F99: =RANK(L99,$L$73:$L$135) -> 27 | G99: Cục thuế tỉnh Vĩnh Long | H99: 1.4646465 | I99: 4545.4545 | J99: 1 | K99: 9 | L99: 0.52873915
A100: 54 | B100: 18 | C100: 20 | D100: 24 | E100: 21 | F100: =RANK(L100,$L$73:$L$135) -> 28 | G100: Cục thuế tỉnh Phú Yên | H100: 1.5180723 | I100: 3084.3373 | J100: 1 | K100: 9.5 | L100: 0.52793543
A101: 14 | B101: 43 | C101: 39 | D101: 39 | E101: 24 | F101: =RANK(L101,$L$73:$L$135) -> 29 | G101: Cục thuế tỉnh Khánh Hòa | H101: 1.3801653 | I101: 2369.5868 | J101: 1 | K101: 11.75 | L101: 0.52714159
... A130: 38 | B130: 61 | C130: 51 | D130: 53 | E130: 53 | F130: =RANK(L130,$L$73:$L$135) -> 58 | G130: Cục thuế tỉnh Lạng Sơn | H130: 1 | I130: 1512.605 | J130: 0 | K130: 24.375 | L130: 0.34085388
A131: - | B131: 36 | C131: 45 | D131: 45 | E131: 16 | F131: =RANK(L131,$L$73:$L$135) -> 59 | G131: Cục thuế tỉnh Kiên Giang | H131: 0 | I131: 3710.1449 | J131: 1 | K131: 0 | L131: 0.27851583
A132: 26 | B132: 45 | C132: 31 | D132: 30 | E132: 43 | F132: =RANK(L132,$L$73:$L$135) -> 60 | G132: Cục thuế Thành phố Hồ Chí Minh | H132: 0 | I132: 864.13502 | J132: 1 | K132: 0 | L132: 0.25664166
A133: 35 | B133: 48 | C133: 33 | D133: 31 | E133: 13 | F133: =RANK(L133,$L$73:$L$135) -> 61 | G133: Cục thuế tỉnh Quảng Ngãi | H133: 0 | I133: 396.89922 | J133: 1 | K133: 0 | L133: 0.25305053
A134: 9 | B134: 63 | C134: 62 | D134: 58 | E134: 56 | F134: =RANK(L134,$L$73:$L$135) -> 62 | G134: Cục thuế tỉnh Lai Châu | H134: 0 | I134: 0 | J134: 0 | K134: 0 | L134: 0
A135: 56 | B135: 41 | C135: 50 | D135: 58 | E135: 56 | F135: =RANK(L135,$L$73:$L$135) -> 62 | G135: Cục thuế tỉnh Sơn La | H135: 0 | I135: 0 | J135: 0 | K135: 0 | L135: 0
A137: Xếp hạng Ứng dụng CNTT
A138: Xếp hạng | G138: Tên đơn vị | H138: Sử dụng thư điện tử | I138: Triển khai các ứng dụng cơ bản | J138: Ứng dụng PMNM | K138: Sử dụng văn bản điện tử | L138: Dịch vụ công trực tuyến | M138: Chỉ số ƯD CNTT
A139: 2012 | B139: 2013 | C139: 2014 | D139: 2015 | E139: 2016 | F139: 2017
A140: 50 | B140: 38 | C140: 24 | D140: 6 | E140: 5 | F140: =RANK(M140,$M$140:$M$202) -> 1 | G140: Cục thuế tỉnh Lào Cai | H140: 1 | I140: 19.2 | J140: 84.333333 | K140: 20.955556 | L140: 338.34 | M140: 0.80417821
A141: 31 | B141: 19 | C141: 8 | D141: 21 | E141: 23 | F141: =RANK(M141,$M$140:$M$202) -> 2 | G141: Cục thuế tỉnh Lạng Sơn | H141: 1 | I141: 19.025 | J141: 232.66667 | K141: 24.225 | L141: 40 | M141: 0.78087626
A142: 57 | B142: 61 | C142: 17 | D142: 7 | E142: 13 | F142: =RANK(M142,$M$140:$M$202) -> 3 | G142: Cục thuế tỉnh Hoà Bình | H142: 0.95327103 | I142: 18.4 | J142: 88.083333 | K142: 19.4 | L142: 241.21739 | M142: 0.72119052
A143: 9 | B143: 1 | C143: 22 | D143: 37 | E143: 19 | F143: =RANK(M143,$M$140:$M$202) -> 4 | G143: Cục thuế tỉnh Thừa Thiên – Huế | H143: 0.94047619 | I143: 15.2 | J143: 1.8333333 | K143: 17.4 | L143: 321.05634 | M143: 0.64872751
A144: 49 | B144: 47 | C144: 3 | D144: 2 | E144: 3 | F144: =RANK(M144,$M$140:$M$202) -> 5 | G144: Cục thuế tỉnh Bắc Giang | H144: 0.92857143 | I144: 20.2 | J144: 1.8333333 | K144: 20.4 | L144: 205 | M144: 0.6438333
A145: 7 | B145: 23 | C145: 29 | D145: 17 | E145: 28 | F145: =RANK(M145,$M$140:$M$202) -> 6 | G145: Cục thuế tỉnh Thái Bình | H145: 1 | I145: 20.4 | J145: 83.333333 | K145: 19.4 | L145: 63 | M145: 0.63763404
A146: 6 | B146: 18 | C146: 18 | D146: 3 | E146: 2 | F146: =RANK(M146,$M$140:$M$202) -> 7 | G146: Cục thuế tỉnh Nam Định | H146: 1 | I146: 17.4 | J146: 0.85 | K146: 20.4 | L146: 204.8773 | M146: 0.63406071
A147: 12 | B147: 7 | C147: 5 | D147: 1 | E147: 20 | F147: =RANK(M147,$M$140:$M$202) -> 8 | G147: Cục thuế tỉnh Bạc Liêu | H147: 1 | I147: 18.4 | J147: 0.83333333 | K147: 19.4 | L147: 199.85455 | M147: 0.63108586
A148: 16 | B148: 15 | C148: 19 | D148: 28 | E148: 24 | F148: =RANK(M148,$M$140:$M$202) -> 9 | G148: Cục thuế tỉnh Thanh Hóa | H148: 1 | I148: 18.4 | J148: 1.8333333 | K148: 22.540741 | L148: 141.60909 | M148: 0.62344507
A149: 24 | B149: 17 | C149: 36 | D149: 32 | E149: 43 | F149: =RANK(M149,$M$140:$M$202) -> 10 | G149: Cục thuế tỉnh Quảng Ninh | H149: 1 | I149: 18.4 | J149: 0.84666667 | K149: 18.4 | L149: 193.16364 | M149: 0.61888625
A150: 13 | B150: 4 | C150: 11 | D150: 25 | E150: 32 | F150: =RANK(M150,$M$140:$M$202) -> 11 | G150: Cục thuế Thành phố Đà Nẵng | H150: 1 | I150: 18 | J150: 0.79166667 | K150: 18.4 | L150: 196.03681 | M150: 0.61723158
A151: 40 | B151: 27 | C151: 15 | D151: 18 | E151: 21 | F151: =RANK(M151,$M$140:$M$202) -> 12 | G151: Cục thuế tỉnh Bà rịa - Vũng Tàu | H151: 1 | I151: 15.4 | J151: 0.83333333 | K151: 20.4 | L151: 198.28834 | M151: 0.61362259
... A154: 10 | B154: 16 | C154: 41 | D154: 27 | E154: 11 | F154: =RANK(M154,$M$140:$M$202) -> 15 | G154: Cục thuế tỉnh Cao Bằng | H154: 1 | I154: 16.553846 | J154: 3.5 | K154: 18.4 | L154: 191 | M154: 0.60463061
A155: - | B155: 62 | C155: 57 | D155: 52 | E155: 15 | F155: =RANK(M155,$M$140:$M$202) -> 16 | G155: Cục thuế tỉnh Quảng Nam | H155: 1 | I155: 24.2 | J155: 0.835 | K155: 20.4 | L155: 59.625 | M155: 0.60438443
A156: 21 | B156: 42 | C156: 16 | D156: 19 | E156: 56 | F156: =RANK(M156,$M$140:$M$202) -> 17 | G156: Cục thuế tỉnh Đắk Lắk | H156: 0.97777778 | I156: 14.4 | J156: 0.78916667 | K156: 20.4 | L156: 203.44242 | M156: 0.6039224
A157: 41 | B157: 20 | C157: 21 | D157: 36 | E157: 34 | F157: =RANK(M157,$M$140:$M$202) -> 18 | G157: Cục thuế tỉnh Bình Phước | H157: 1 | I157: 17 | J157: 0.83333333 | K157: 16.290909 | L157: 201.45455 | M157: 0.59479295
A158: 25 | B158: 10 | C158: 26 | D158: 56 | E158: 6 | F158: =RANK(M158,$M$140:$M$202) -> 19 | G158: Cục thuế tỉnh Bắc Ninh | H158: 1 | I158: 17.525 | J158: 84.333333 | K158: 18.4 | L158: 37 | M158: 0.59110822
A159: 37 | B159: 57 | C159: 59 | D159: 48 | E159: 50 | F159: =RANK(M159,$M$140:$M$202) -> 20 | G159: Cục thuế tỉnh Sóc Trăng | H159: 1 | I159: 17 | J159: 179.46667 | K159: 10.4 | L159: 2 | M159: 0.58180916
A160: 23 | B160: 30 | C160: 20 | D160: 29 | E160: 48 | F160: =RANK(M160,$M$140:$M$202) -> 21 | G160: Cục thuế tỉnh Bình Dương | H160: 1 | I160: 16 | J160: 0 | K160: 16.4 | L160: 190.85455 | M160: 0.58044692
A161: 1 | B161: 9 | C161: 2 | D161: 13 | E161: 1 | F161: =RANK(M161,$M$140:$M$202) -> 22 | G161: Cục thuế tỉnh Nghệ An | H161: 1 | I161: 16.72381 | J161: 0.84166667 | K161: 14.2 | L161: 207.07104 | M161: 0.57857517
A162: 52 | B162: 40 | C162: 28 | D162: 34 | E162: 56 | F162: =RANK(M162,$M$140:$M$202) -> 23 | G162: Cục thuế tỉnh Hà Giang | H162: 1 | I162: 15 | J162: 83.5 | K162: 18.672727 | L162: 42.538462 | M162: 0.57504964
A163: 55 | B163: 50 | C163: 52 | D163: 45 | E163: 52 | F163: =RANK(M163,$M$140:$M$202) -> 24 | G163: Cục thuế tỉnh Trà Vinh | H163: 1 | I163: 16 | J163: 0.75 | K163: 16.311111 | L163: 176.03636 | M163: 0.57159841
A164: 3 | B164: 21 | C164: 34 | D164: 38 | E164: 31 | F164: =RANK(M164,$M$140:$M$202) -> 25 | G164: Cục thuế tỉnh Gia Lai | H164: 0.97087379 | I164: 16.517647 | J164: 85.333333 | K164: 18.4 | L164: 25.346667 | M164: 0.57092881
A165: 30 | B165: 45 | C165: 42 | D165: 54 | E165: 56 | F165: =RANK(M165,$M$140:$M$202) -> 26 | G165: Cục thuế tỉnh Quảng Bình | H165: 0.9375 | I165: 17 | J165: 58.333333 | K165: 21.675 | L165: 22 | M165: 0.57009117
A166: 29 | B166: 41 | C166: 46 | D166: 58 | E166: 40 | F166: =RANK(M166,$M$140:$M$202) -> 27 | G166: Cục thuế tỉnh Điện Biên | H166: 0.96039604 | I166: 16 | J166: 5.3333333 | K166: 14.4 | L166: 192.25882 | M166: 0.56142889
A167: 27 | B167: 29 | C167: 35 | D167: 31 | E167: 42 | F167: =RANK(M167,$M$140:$M$202) -> 28 | G167: Cục thuế tỉnh Vĩnh Long | H167: 1 | I167: 16.2 | J167: 76 | K167: 17.4 | L167: 22.745455 | M167: 0.55631239
... A194: 15 | B194: 37 | C194: 31 | D194: 40 | E194: 39 | F194: =RANK(M194,$M$140:$M$202) -> 55 | G194: Cục thuế tỉnh Cà Mau | H194: 1 | I194: 15 | J194: 1.3916667 | K194: 13.4 | L194: 18 | M194: 0.44643292
A195: - | B195: 51 | C195: 53 | D195: 57 | E195: 46 | F195: =RANK(M195,$M$140:$M$202) -> 56 | G195: Cục thuế tỉnh Kiên Giang | H195: 1 | I195: 11.6 | J195: 0.83333333 | K195: 14.6 | L195: 17 | M195: 0.4271698
A196: 61 | B196: 35 | C196: 45 | D196: 43 | E196: 49 | F196: =RANK(M196,$M$140:$M$202) -> 57 | G196: Cục thuế Thành phố Hồ Chí Minh | H196: 1 | I196: 15.616667 | J196: 1.7 | K196: 10.4 | L196: 10 | M196: 0.42229761
...

Sheet CucHQ
A1: XẾP HẠNG CÁC CỤC HẢI QUAN TỈNH/TP
A3: Xếp hạng chung
A4: Xếp hạng | G4: Tên đơn vị | H4: Chỉ số HTKT CNTT | I4: Chỉ số ƯD CNTT | J4: Chỉ số NL CNTT | K4: ICT Index
A5: 2012 | B5: 2013 | C5: 2014 | D5: 2015 | E5: 2016 | F5: 2017
A6: 5 | B6: 17 | C6: 16 | D6: 17 | E6: 32 | F6: 1 | G6: Cục Hải quan thành phố Cần Thơ | H6: 0.54532528 | I6: 0.89662754 | J6: 0.4021164 | K6: 0.61468974
A7: - | B7: 15 | C7: 14 | D7: 20 | E7: 8 | F7: 2 | G7: Cục Hải quan thành phố Hồ Chí Minh | H7: 0.63093983 | I7: 0.58984496 | J7: 0.5583508 | K7: 0.5930452
A8: 3 | B8: 2 | C8: 9 | D8: 5 | E8: 12 | F8: 3 | G8: Cục Hải quan tỉnh Quảng Nam | H8: 0.63037686 | I8: 0.71983277 | J8: 0.41666667 | K8: 0.58895876
A9: 6 | B9: 5 | C9: 10 | D9: 2 | E9: 1 | F9: 4 | G9: Cục Hải quan thành phố Đà Nẵng | H9: 0.60093963 | I9: 0.67349392 | J9: 0.42454203 | K9: 0.5663252
A10: 24 | B10: 11 | C10: 21 | D10: 22 | E10: 25 | F10: 5 | G10: Cục Hải quan tỉnh Quảng Ngãi | H10: 0.70341512 | I10: 0.632219 | J10: 0.33645125 | K10: 0.55736179
A11: 9 | B11: 24 | C11: 12 | D11: 7 | E11: 7 | F11: 6 | G11: Cục Hải quan thành phố Hà Nội | H11: 0.518069 | I11: 0.70490796 | J11: 0.39404979 | K11: 0.53900892
A12: 10 | B12: 4 | C12: 8 | D12: 12 | E12: 11 | F12: 7 | G12: Cục Hải quan tỉnh Đắk Lắk | H12: 0.50885961 | I12: 0.68307482 | J12: 0.37156511 | K12: 0.52116651
A13: 7 | B13: 9 | C13: 17 | D13: 31 | E13: 24 | F13: 8 | G13: Cục Hải quan tỉnh Lào Cai | H13: 0.42353045 | I13: 0.54650743 | J13: 0.58720113 | K13: 0.51907967
A14: 19 | B14: 18 | C14: 13 | D14: 15 | E14: 2 | F14: 9 | G14: Cục Hải quan tỉnh Quảng Trị | H14: 0.53360728 | I14: 0.63424938 | J14: 0.37037037 | K14: 0.51274234
A15: 11 | B15: 12 | C15: 11 | D15: 13 | E15: 28 | F15: 10 | G15: Cục Hải quan tỉnh Đồng Tháp | H15: 0.48787501 | I15: 0.61071366 | J15: 0.43055556 | K15: 0.50971474
A16: 25 | B16: 23 | C16: 23 | D16: 25 | E16: 18 | F16: 11 | G16: Cục Hải quan tỉnh Quảng Ninh | H16: 0.63583806 | I16: 0.60413656 | J16: 0.26344086 | K16: 0.50113849
A17: 12 | B17: 13 | C17: 15 | D17: 19 | E17: 5 | F17: 12 | G17: Cục Hải quan tỉnh Long An | H17: 0.55091183 | I17: 0.69279347 | J17: 0.24756287 | K17: 0.49708939
A18: 1 | B18: 1 | C18: 4 | D18: 1 | E18: 15 | F18: 13 | G18: Cục Hải quan tỉnh Bình Phước | H18: 0.49783308 | I18: 0.73319367 | J18: 0.25973654 | K18: 0.4969211
A19: 4 | B19: 7 | C19: 6 | D19: 3 | E19: 3 | F19: 14 | G19: Cục Hải quan tỉnh Bình Dương | H19: 0.48198752 | I19: 0.67138937 | J19: 0.30629302 | K19: 0.48655664
A20: 15 | B20: 21 | C20: 5 | D20: 8 | E20: 9 | F20: 15 | G20: Cục Hải quan tỉnh Gia Lai - Kon Tum | H20: 0.41136179 | I20: 0.81846355 | J20: 0.22962963 | K20: 0.48648499
A21: - | B21: 8 | C21: 2 | D21: 11 | E21: 10 | F21: 16 | G21: Cục Hải quan tỉnh Đồng Nai | H21: 0.54948038 | I21: 0.63900716 | J21: 0.26682385 | K21: 0.4851038
A22: 17 | B22: 26 | C22: 18 | D22: 27 | E22: 19 | F22: 17 | G22: Cục Hải quan tỉnh Nghệ An | H22: 0.53060246 | I22: 0.66220265 | J22: 0.24584427 | K22: 0.47954979
A23: 14 | B23: 6 | C23: 1 | D23: 6 | E23: 6 | F23: 18 | G23: Cục Hải quan tỉnh Quảng Bình | H23: 0.45062904 | I23: 0.77475516 | J23: 0.21043771 | K23: 0.47860731
A24: 22 | B24: 25 | C24: 20 | D24: 23 | E24: 22 | F24: 19 | G24: Cục Hải quan tỉnh Tây Ninh | H24: 0.55215591 | I24: 0.61547863 | J24: 0.25 | K24: 0.47254485
A25: 23 | B25: 27 | C25: 27 | D25: 26 | E25: 27 | F25: 20 | G25: Cục Hải quan tỉnh Khánh Hoà | H25: 0.53117675 | I25: 0.53197275 | J25: 0.34444444 | K25: 0.46919798
A26: 2 | B26: 3 | C26: 3 | D26: 4 | E26: 4 | F26: 21 | G26: Cục Hải quan tỉnh Thừa Thiên -Huế | H26: 0.45355726 | I26: 0.56611545 | J26: 0.38120567 | K26: 0.46695946
A27: 8 | B27: 30 | C27: 29 | D27: 28 | E27: 26 | F27: 22 | G27: Cục Hải quan tỉnh An Giang | H27: 0.42022986 | I27: 0.63574168 | J27: 0.34406871 | K27: 0.46668008
A28: 28 | B28: 14 | C28: 22 | D28: 9 | E28: 14 | F28: 23 | G28: Cục Hải quan thành phố Hải Phòng | H28: 0.40700399 | I28: 0.73720548 | J28: 0.2484127 | K28: 0.46420739
A29: 13 | B29: 32 | C29: 30 | D29: 30 | E29: 30 | F29: 24 | G29: Cục Hải quan tỉnh Lạng Sơn | H29: 0.47094563 | I29: 0.60378195 | J29: 0.28101402 | K29: 0.45191387
A30: 21 | B30: 22 | C30: 26 | D30: 14 | E30: 17 | F30: 25 | G30: Cục Hải quan tỉnh Thanh Hoá | H30: 0.46801736 | I30: 0.63021915 | J30: 0.22754947 | K30: 0.44192866
A31: 27 | B31: 16 | C31: 19 | D31: 21 | E31: 20 | F31: 26 | G31: Cục Hải quan tỉnh Điện Biên | H31: 0.44301011 | I31: 0.57240277 | J31: 0.29040404 | K31: 0.43527231
A32: 18 | B32: 29 | C32: 28 | D32: 29 | E32: 31 | F32: 27 | G32: Cục Hải quan tỉnh Cà Mau | H32: 0.4923869 | I32: 0.57036039 | J32: 0.22672673 | K32: 0.42982467
A33: 20 | B33: 34 | C33: 24 | D33: 16 | E33: 16 | F33: 28 | G33: Cục Hải quan tỉnh Hà Tĩnh | H33: 0.44595337 | I33: 0.63164908 | J33: 0.20859539 | K33: 0.42873261
A34: - | B34: 28 | C34: 33 | D34: 24 | E34: 21 | F34: 29 | G34: Cục Hải quan tỉnh Bà Rịa - Vũng Tàu | H34: 0.44646668 | I34: 0.57035589 | J34: 0.21461988 | K34: 0.41048082
A35: 16 | B35: 10 | C35: 33 | D35: 32 | E35: 23 | F35: 30 | G35: Cục Hải quan tỉnh Kiên Giang | H35: 0.29471235 | I35: 0.56724331 | J35: 0.2007007 | K35: 0.35421878
A36: 30 | B36: 33 | C36: 31 | D36: 18 | E36: 29 | F36: 31 | G36: Cục Hải quan tỉnh Cao Bằng | H36: 0.41360459 | I36: 0.26591445 | J36: 0.36871904 | K36: 0.34941269
A37: 26 | B37: 20 | C37: 7 | D37: 10 | E37: 13 | F37: 32 | G37: Cục Hải quan tỉnh Bình Định | H37: 0.10934651 | I37: 0.29130102 | J37: 0.24272487 | K37: 0.21445746
A38: 29 | B38: 19 | C38: 25 | D38: 32 | E38: 32 | F38: 33 | G38: Cục Hải quan tỉnh Hà Giang | H38: 0 | I38: 0 | J38: 0.13888889 | K38: 0.046296296
A39: - | B39: 31 | C39: 32 | D39: 32 | E39: 32 | F39: 34 | G39: Cục Hải quan tỉnh Bắc Ninh | H39: 0 | I39: 0 | J39: 0 | K39: 0
A41: Xếp hạng Hạ tầng kỹ thuật CNTT
A42: Xếp hạng | G42: Tên đơn vị | H42: TL máy tính/ CBCC | I42: TL băng thông Int./ CBCC | J42: Kết nối HTTT của ĐV với ĐVTT | K42: Triển khai hệ thống ATTT và ATDL | L42: Chỉ số HTKT
A43: 2012 | B43: 2013 | C43: 2014 | D43: 2015 | E43: 2016 | F43: 2017
A44: 7 | B44: 16 | C44: 13 | D44: 7 | E44: 9 | F44: =RANK(L44,$L$44:$L$77) -> 1 | G44: Cục Hải quan tỉnh Quảng Ngãi | H44: 1.414966 | I44: 64909.061 | J44: 1 | K44: 7.8333333 | L44: 0.70341512
A45: 21 | B45: 21 | C45: 32 | D45: 31 | E45: 30 | F45: =RANK(L45,$L$44:$L$77) -> 2 | G45: Cục Hải quan tỉnh Quảng Ninh | H45: 2.1935484 | I45: 3963.871 | J45: 1 | K45: 17.122549 | L45: 0.63583806
A46: - | B46: 12 | C46: 17 | D46: 24 | E46: 4 | F46: =RANK(L46,$L$44:$L$77) -> 3 | G46: Cục Hải quan thành phố Hồ Chí Minh | H46: 1.4245283 | I46: 3537.7358 | J46: 1 | K46: 22.538462 | L46: 0.63093983
A47: 3 | B47: 9 | C47: 4 | D47: 1 | E47: 2 | F47: =RANK(L47,$L$44:$L$77) -> 4 | G47: Cục Hải quan tỉnh Quảng Nam | H47: 3.0357143 | I47: 731.42857 | J47: 1 | K47: 11.5 | L47: 0.63037686
A48: 1 | B48: 6 | C48: 1 | D48: 2 | E48: 1 | F48: =RANK(L48,$L$44:$L$77) -> 5 | G48: Cục Hải quan thành phố Đà Nẵng | H48: 1.2121212 | I48: 8080.8081 | J48: 1 | K48: 19.833333 | L48: 0.60093963
A49: 18 | B49: 28 | C49: 14 | D49: 22 | E49: 17 | F49: =RANK(L49,$L$44:$L$77) -> 6 | G49: Cục Hải quan tỉnh Tây Ninh | H49: 2.1111111 | I49: 3128.8889 | J49: 1 | K49: 10.480263 | L49: 0.55215591
A50: 23 | B50: 15 | C50: 21 | D50: 18 | E50: 23 | F50: =RANK(L50,$L$44:$L$77) -> 7 | G50: Cục Hải quan tỉnh Long An | H50: 2.3235294 | I50: 1807.0588 | J50: 1 | K50: 9.25 | L50: 0.55091183
A51: - | B51: 3 | C51: 6 | D51: 12 | E51: 14 | F51: =RANK(L51,$L$44:$L$77) -> 8 | G51: Cục Hải quan tỉnh Đồng Nai | H51: 1 | I51: 17655.172 | J51: 1 | K51: 13.444444 | L51: 0.54948038
A52: 6 | B52: 33 | C52: 28 | D52: 28 | E52: 32 | F52: =RANK(L52,$L$44:$L$77) -> 9 | G52: Cục Hải quan thành phố Cần Thơ | H52: 1.7380952 | I52: 10714.286 | J52: 1 | K52: 10 | L52: 0.54532528
A53: 17 | B53: 11 | C53: 9 | D53: 6 | E53: 3 | F53: =RANK(L53,$L$44:$L$77) -> 10 | G53: Cục Hải quan tỉnh Quảng Trị | H53: 1.4666667 | I53: 12288 | J53: 1 | K53: 10.412338 | L53: 0.53360728
A54: 22 | B54: 24 | C54: 26 | D54: 21 | E54: 21 | F54: =RANK(L54,$L$44:$L$77) -> 11 | G54: Cục Hải quan tỉnh Khánh Hoà | H54: 1.6285714 | I54: 742.85714 | J54: 1 | K54: 13 | L54: 0.53117675
A55: 28 | B55: 25 | C55: 29 | D55: 16 | E55: 24 | F55: =RANK(L55,$L$44:$L$77) -> 12 | G55: Cục Hải quan tỉnh Nghệ An | H55: 0.93700787 | I55: 787.40157 | J55: 1 | K55: 18.067227 | L55: 0.53060246
A56: 25 | B56: 26 | C56: 27 | D56: 15 | E56: 5 | F56: =RANK(L56,$L$44:$L$77) -> 13 | G56: Cục Hải quan thành phố Hà Nội | H56: 0.94535519 | I56: 9289.6175 | J56: 1 | K56: 13.923077 | L56: 0.518069
A57: 12 | B57: 13 | C57: 15 | D57: 26 | E57: 26 | F57: =RANK(L57,$L$44:$L$77) -> 14 | G57: Cục Hải quan tỉnh Đắk Lắk | H57: 0.86021505 | I57: 17617.204 | J57: 1 | K57: 10.833333 | L57: 0.50885961
A58: 13 | B58: 5 | C58: 11 | D58: 14 | E58: 22 | F58: =RANK(L58,$L$44:$L$77) -> 15 | G58: Cục Hải quan tỉnh Bình Phước | H58: 1.3092784 | I58: 19072.165 | J58: 1 | K58: 6 | L58: 0.49783308
A59: 10 | B59: 17 | C59: 22 | D59: 25 | E59: 27 | F59: =RANK(L59,$L$44:$L$77) -> 16 | G59: Cục Hải quan tỉnh Cà Mau | H59: 1.7027027 | I59: 8994.5946 | J59: 1 | K59: 6.0873016 | L59: 0.4923869
A60: 27 | B60: 22 | C60: 25 | D60: 20 | E60: 19 | F60: =RANK(L60,$L$44:$L$77) -> 17 | G60: Cục Hải quan tỉnh Đồng Tháp | H60: 1 | I60: 8700 | J60: 1 | K60: 11 | L60: 0.48787501
A61: 5 | B61: 10 | C61: 3 | D61: 4 | E61: 10 | F61: =RANK(L61,$L$44:$L$77) -> 18 | G61: Cục Hải quan tỉnh Bình Dương | H61: 1.2389381 | I61: 4530.9735 | J61: 1 | K61: 10.142857 | L61: 0.48198752
A62: 24 | B62: 29 | C62: 30 | D62: 27 | E62: 7 | F62: =RANK(L62,$L$44:$L$77) -> 19 | G62: Cục Hải quan tỉnh Lạng Sơn | H62: 1.3106796 | I62: 1981.5146 | J62: 1 | K62: 9.5 | L62: 0.47094563
A63: 11 | B63: 7 | C63: 7 | D63: 5 | E63: 12 | F63: =RANK(L63,$L$44:$L$77) -> 20 | G63: Cục Hải quan tỉnh Thanh Hoá | H63: 0.95890411 | I63: 1543.0137 | J63: 1 | K63: 12 | L63: 0.46801736
... A65: 20 | B65: 19 | C65: 12 | D65: 13 | E65: 13 | F65: =RANK(L65,$L$44:$L$77) -> 22 | G65: Cục Hải quan tỉnh Quảng Bình | H65: 1.1818182 | I65: 1861.8182 | J65: 1 | K65: 8.6666667 | L65: 0.45062904
A66: - | B66: 32 | C66: 33 | D66: 17 | E66: 20 | F66: =RANK(L66,$L$44:$L$77) -> 23 | G66: Cục Hải quan tỉnh Bà Rịa - Vũng Tàu | H66: 1.2210526 | I66: 5702.0632 | J66: 1 | K66: 6.6666667 | L66: 0.44646668
A67: 19 | B67: 30 | C67: 18 | D67: 3 | E67: 11 | F67: =RANK(L67,$L$44:$L$77) -> 24 | G67: Cục Hải quan tỉnh Hà Tĩnh | H67: 1 | I67: 695.54717 | J67: 1 | K67: 10 | L67: 0.44595337
A68: 9 | B68: 14 | C68: 16 | D68: 19 | E68: 15 | F68: =RANK(L68,$L$44:$L$77) -> 25 | G68: Cục Hải quan tỉnh Điện Biên | H68: 1.5681818 | I68: 1405.9091 | J68: 1 | K68: 5.2695652 | L68: 0.44301011
A69: 15 | B69: 2 | C69: 5 | D69: 29 | E69: 31 | F69: =RANK(L69,$L$44:$L$77) -> 26 | G69: Cục Hải quan tỉnh Lào Cai | H69: 1.0126582 | I69: 362.93671 | J69: 1 | K69: 8 | L69: 0.42353045
A70: 29 | B70: 34 | C70: 31 | D70: 30 | E70: 29 | F70: =RANK(L70,$L$44:$L$77) -> 27 | G70: Cục Hải quan tỉnh An Giang | H70: 0.46376812 | I70: 1162.5121 | J70: 1 | K70: 11.5 | L70: 0.42022986
A71: 30 | B71: 27 | C71: 20 | D71: 23 | E71: 25 | F71: =RANK(L71,$L$44:$L$77) -> 28 | G71: Cục Hải quan tỉnh Cao Bằng | H71: 1.1528662 | I71: 547.7707 | J71: 1 | K71: 6 | L71: 0.41360459
A72: 14 | B72: 31 | C72: 2 | D72: 11 | E72: 6 | F72: =RANK(L72,$L$44:$L$77) -> 29 | G72: Cục Hải quan tỉnh Gia Lai - Kon Tum | H72: 0.96666667 | I72: 6826.6667 | J72: 1 | K72: 5 | L72: 0.41136179
A73: 4 | B73: 18 | C73: 24 | D73: 9 | E73: 8 | F73: =RANK(L73,$L$44:$L$77) -> 30 | G73: Cục Hải quan thành phố Hải Phòng | H73: 1.1428571 | I73: 1219.0476 | J73: 0.9 | K73: 7.5 | L73: 0.40700399
A74: 2 | B74: 1 | C74: 33 | D74: 32 | E74: 28 | F74: =RANK(L74,$L$44:$L$77) -> 31 | G74: Cục Hải quan tỉnh Kiên Giang | H74: 0.42342342 | I74: 5.4054054 | J74: 0.83333333 | K74: 4.641844 | L74: 0.29471235
A75: 8 | B75: 23 | C75: 19 | D75: 8 | E75: 18 | F75: =RANK(L75,$L$44:$L$77) -> 32 | G75: Cục Hải quan tỉnh Bình Định | H75: 1.327381 | I75: 8.5119048 | J75: 0 | K75: 0 | L75: 0.10934651
A76: - | B76: 20 | C76: 23 | D76: 32 | E76: 32 | F76: =RANK(L76,$L$44:$L$77) -> 33 | G76: Cục Hải quan tỉnh Bắc Ninh | H76: 0 | I76: 0 | J76: 0 | K76: 0 | L76: 0
A77: 26 | B77: 8 | C77: 10 | D77: 32 | E77: 32 | F77: =RANK(L77,$L$44:$L$77) -> 33 | G77: Cục Hải quan tỉnh Hà Giang | H77: 0 | I77: 0 | J77: 0 | K77: 0 | L77: 0
A79: Xếp hạng Ứng dụng CNTT
A80: Xếp hạng | G80: Tên đơn vị | H80: Sử dụng thư điện tử | I80: Triển khai các ứng dụng cơ bản | J80: Ứng dụng PMNM | K80: Sử dụng văn bản điện tử | L80: Dịch vụ công trực tuyến | M80: Chỉ số ƯD CNTT
A81: 2012 | B81: 2013 | C81: 2014 | D81: 2015 | E81: 2016 | F81: 2017
A82: 5 | B82: 6 | C82: 8 | D82: 4 | E82: 32 | F82: =RANK(M82,$M$82:$M$115) -> 1 | G82: Cục Hải quan thành phố Cần Thơ | H82: 1 | I82: 17 | J82: 51.333333 | K82: 18.4 | L82: 33.839416 | M82: 0.89662754
A83: 19 | B83: 19 | C83: 6 | D83: 5 | E83: 18 | F83: =RANK(M83,$M$82:$M$115) -> 2 | G83: Cục Hải quan tỉnh Gia Lai - Kon Tum | H83: 0.86666667 | I83: 20.45 | J83: 51.333333 | K83: 18.7 | L83: 19 | M83: 0.81846355
A84: 6 | B84: 4 | C84: 2 | D84: 8 | E84: 6 | F84: =RANK(M84,$M$82:$M$115) -> 3 | G84: Cục Hải quan tỉnh Quảng Bình | H84: 1 | I84: 21.266667 | J84: 1.4166667 | K84: 21.466667 | L84: 32.331193 | M84: 0.77475516
A85: 27 | B85: 12 | C85: 7 | D85: 10 | E85: 22 | F85: =RANK(M85,$M$82:$M$115) -> 4 | G85: Cục Hải quan thành phố Hải Phòng | H85: 1 | I85: 22.9 | J85: 1.25 | K85: 15.2 | L85: 33.591241 | M85: 0.73720548
A86: 3 | B86: 2 | C86: 13 | D86: 2 | E86: 13 | F86: =RANK(M86,$M$82:$M$115) -> 5 | G86: Cục Hải quan tỉnh Bình Phước | H86: 1 | I86: 19 | J86: 0.68416667 | K86: 20.4 | L86: 30.714286 | M86: 0.73319367
A87: 13 | B87: 7 | C87: 15 | D87: 12 | E87: 17 | F87: =RANK(M87,$M$82:$M$115) -> 6 | G87: Cục Hải quan tỉnh Quảng Nam | H87: 1 | I87: 18 | J87: 1.7916667 | K87: 19.4 | L87: 30.84 | M87: 0.71983277
A88: 14 | B88: 14 | C88: 1 | D88: 1 | E88: 4 | F88: =RANK(M88,$M$82:$M$115) -> 7 | G88: Cục Hải quan thành phố Hà Nội | H88: 1 | I88: 17 | J88: 0.815 | K88: 16.476923 | L88: 35.154762 | M88: 0.70490796
A89: 8 | B89: 17 | C89: 9 | D89: 11 | E89: 2 | F89: =RANK(M89,$M$82:$M$115) -> 8 | G89: Cục Hải quan tỉnh Long An | H89: 1 | I89: 16.9 | J89: 0.83333333 | K89: 16.9 | L89: 32.474453 | M89: 0.69279347
A90: 4 | B90: 1 | C90: 5 | D90: 14 | E90: 5 | F90: =RANK(M90,$M$82:$M$115) -> 9 | G90: Cục Hải quan tỉnh Đắk Lắk | H90: 1 | I90: 17.066667 | J90: 1.8333333 | K90: 18.4 | L90: 27.423077 | M90: 0.68307482
A91: 9 | B91: 9 | C91: 18 | D91: 9 | E91: 15 | F91: =RANK(M91,$M$82:$M$115) -> 10 | G91: Cục Hải quan thành phố Đà Nẵng | H91: 0.98989899 | I91: 15 | J91: 0.67083333 | K91: 18.4 | L91: 30 | M91: 0.67349392
A92: 1 | B92: 11 | C92: 17 | D92: 6 | E92: 9 | F92: =RANK(M92,$M$82:$M$115) -> 11 | G92: Cục Hải quan tỉnh Bình Dương | H92: 1 | I92: 16.2 | J92: 0.41666667 | K92: 17.4 | L92: 29.230769 | M92: 0.67138937
A93: 17 | B93: 26 | C93: 20 | D93: 31 | E93: 7 | F93: =RANK(M93,$M$82:$M$115) -> 12 | G93: Cục Hải quan tỉnh Nghệ An | H93: 1 | I93: 14.714286 | J93: 1.8333333 | K93: 17.542857 | L93: 28.769231 | M93: 0.66220265
A94: - | B94: 13 | C94: 4 | D94: 18 | E94: 10 | F94: =RANK(M94,$M$82:$M$115) -> 13 | G94: Cục Hải quan tỉnh Đồng Nai | H94: 1 | I94: 16.622222 | J94: 2.4833333 | K94: 14.4 | L94: 26.5 | M94: 0.63900716
A95: 10 | B95: 24 | C95: 21 | D95: 16 | E95: 20 | F95: =RANK(M95,$M$82:$M$115) -> 14 | G95: Cục Hải quan tỉnh An Giang | H95: 1 | I95: 16.366667 | J95: 1.75 | K95: 12.4 | L95: 30.05618 | M95: 0.63574168
A96: 12 | B96: 15 | C96: 22 | D96: 23 | E96: 11 | F96: =RANK(M96,$M$82:$M$115) -> 15 | G96: Cục Hải quan tỉnh Quảng Trị | H96: 0.93333333 | I96: 14.4 | J96: 0.75 | K96: 18.4 | L96: 25.961538 | M96: 0.63424938
A97: 22 | B97: 3 | C97: 11 | D97: 13 | E97: 14 | F97: =RANK(M97,$M$82:$M$115) -> 16 | G97: Cục Hải quan tỉnh Quảng Ngãi | H97: 0.70068027 | I97: 16.166667 | J97: 0.75 | K97: 18.4 | L97: 31.071429 | M97: 0.632219
A98: 18 | B98: 32 | C98: 30 | D98: 21 | E98: 21 | F98: =RANK(M98,$M$82:$M$115) -> 17 | G98: Cục Hải quan tỉnh Hà Tĩnh | H98: 0.88679245 | I98: 17 | J98: 2.8258333 | K98: 15.775 | L98: 26.138686 | M98: 0.63164908
A99: 24 | B99: 28 | C99: 27 | D99: 20 | E99: 19 | F99: =RANK(M99,$M$82:$M$115) -> 18 | G99: Cục Hải quan tỉnh Thanh Hoá | H99: 0.95890411 | I99: 15.5 | J99: 1.4166667 | K99: 15.7 | L99: 26.666667 | M99: 0.63021915
A100: 11 | B100: 30 | C100: 28 | D100: 27 | E100: 24 | F100: =RANK(M100,$M$82:$M$115) -> 19 | G100: Cục Hải quan tỉnh Tây Ninh | H100: 1 | I100: 14.2 | J100: 1.7416667 | K100: 18.4 | L100: 20 | M100: 0.61547863
A101: 20 | B101: 22 | C101: 12 | D101: 25 | E101: 29 | F101: =RANK(M101,$M$82:$M$115) -> 20 | G101: Cục Hải quan tỉnh Đồng Tháp | H101: 1 | I101: 15.2 | J101: 1.3 | K101: 15.9 | L101: 22 | M101: 0.61071366
A102: 29 | B102: 18 | C102: 14 | D102: 7 | E102: 3 | F102: =RANK(M102,$M$82:$M$115) -> 21 | G102: Cục Hải quan tỉnh Quảng Ninh | H102: 1 | I102: 15.333333 | J102: 1.4166667 | K102: 17.466667 | L102: 18 | M102: 0.60413656
A103: 16 | B103: 33 | C103: 23 | D103: 30 | E103: 26 | F103: =RANK(M103,$M$82:$M$115) -> 22 | G103: Cục Hải quan tỉnh Lạng Sơn | H103: 1 | I103: 13.6 | J103: 1.025 | K103: 18 | L103: 19.972222 | M103: 0.60378195
A104: - | B104: 29 | C104: 19 | D104: 17 | E104: 27 | F104: =RANK(M104,$M$82:$M$115) -> 23 | G104: Cục Hải quan thành phố Hồ Chí Minh | H104: 0.62893082 | I104: 16.307692 | J104: 1.75 | K104: 14.307692 | L104: 32 | M104: 0.58984496
...

Sheet DuTru
A1: XẾP HẠNG CÁC CỤC DỰ TRỮ TỈNH/TP
A3: Xếp hạng chung
A4: Xếp hạng | G4: Tên đơn vị | H4: Chỉ số HTKT CNTT | I4: Chỉ số ƯD CNTT | J4: Chỉ số NL CNTT | K4: ICT Index
A5: 2012 | B5: 2013 | C5: 2014 | D5: 2015 | E5: 2016 | F5: 2017
A6: 5 | B6: 17 | C6: 10 | D6: 9 | E6: 5 | F6: 1 | G6: Cục Dự trữ Nhà nước khu vực Nghĩa Bình | H6: 0.92717815 | I6: 0.77556987 | J6: 0.23045267 | K6: 0.64440023
A7: 14 | B7: 9 | C7: 16 | D7: 19 | E7: 7 | F7: 2 | G7: Cục Dự trữ Nhà nước khu vực Bình Trị Thiên | H7: 0.58997228 | I7: 0.84599851 | J7: 0.38730159 | K7: 0.60775746
A8: 7 | B8: 12 | C8: 6 | D8: 4 | E8: 4 | F8: 3 | G8: Cục Dự trữ Nhà nước khu vực Đà Nẵng | H8: 0.74372177 | I8: 0.53414401 | J8: 0.44276094 | K8: 0.57354224
A9: 10 | B9: 4 | C9: 8 | D9: 6 | E9: 6 | F9: 4 | G9: Cục Dự trữ Nhà nước khu vực Tây Nam Bộ | H9: 0.8949691 | I9: 0.47162745 | J9: 0.35222222 | K9: 0.57293959
A10: 18 | B10: 1 | C10: 2 | D10: 1 | E10: 1 | F10: 5 | G10: Cục Dự trữ Nhà nước khu vực Hà Bắc | H10: 0.65124102 | I10: 0.71519608 | J10: 0.27688172 | K10: 0.54777294
A11: - | B11: 20 | C11: 9 | D11: 13 | E11: 17 | F11: 6 | G11: Cục Dữ trữ Nhà nước khu vực Hoàng Liên Sơn | H11: 0.6910967 | I11: 0.41628142 | J11: 0.38756614 | K11: 0.49831475
A12: 16 | B12: 11 | C12: 3 | D12: 10 | E12: 8 | F12: 7 | G12: Cục Dự trữ Nhà nước khu vực Nam Tây Nguyên | H12: 0.67687128 | I12: 0.57186667 | J12: 0.23931624 | K12: 0.49601806
A13: 13 | B13: 19 | C13: 4 | D13: 7 | E13: 18 | F13: 8 | G13: Cục Dự trữ Nhà nước khu vực Nam Trung Bộ | H13: 0.62550815 | I13: 0.50969637 | J13: 0.35149573 | K13: 0.49556675
A14: 9 | B14: 2 | C14: 1 | D14: 3 | E14: 3 | F14: 9 | G14: Cục Dữ trữ Nhà nước khu vực Bắc Tây Nguyên | H14: 0.65561484 | I14: 0.57088503 | J14: 0.25661376 | K14: 0.49437121
A15: 2 | B15: 5 | C15: 5 | D15: 2 | E15: 2 | F15: 10 | G15: Cục Dự trữ Nhà nước khu vực Tây Bắc | H15: 0.57030283 | I15: 0.55874118 | J15: 0.34465021 | K15: 0.4912314
A16: 6 | B16: 6 | C16: 7 | D16: 11 | E16: 11 | F16: 11 | G16: Cục Dự trữ Nhà nước khu vực Bắc Thái | H16: 0.73495312 | I16: 0.49611868 | J16: 0.23412698 | K16: 0.48839959
A17: - | B17: 21 | C17: 21 | D17: 15 | E17: 10 | F17: 12 | G17: Cục Dự trữ Nhà nước khu vực Vĩnh Phú | H17: 0.63195106 | I17: 0.60412702 | J17: 0.22222222 | K17: 0.4861001
A18: 1 | B18: 10 | C18: 18 | D18: 5 | E18: 13 | F18: 13 | G18: Cục Dự trữ Nhà nước khu vực Hà Nam Ninh | H18: 0.68121582 | I18: 0.44532003 | J18: 0.29654655 | K18: 0.4743608
A19: 4 | B19: 3 | C19: 14 | D19: 17 | E19: 19 | F19: 14 | G19: Cục Dự trữ Nhà nước khu vực TP. Hồ Chí Minh | H19: 0.73743472 | I19: 0.45381699 | J19: 0.20169082 | K19: 0.46431418
A20: 8 | B20: 16 | C20: 13 | D20: 16 | E20: 9 | F20: 15 | G20: Cục Dự trữ Nhà nước khu vực Hải Hưng | H20: 0.66294933 | I20: 0.53091856 | J20: 0.17165242 | K20: 0.45517344
A21: 3 | B21: 7 | C21: 11 | D21: 12 | E21: 16 | F21: 16 | G21: Cục Dự trữ Nhà nước khu vực Thái Bình | H21: 0.58101114 | I21: 0.34479224 | J21: 0.39426523 | K21: 0.44002287
A22: 12 | B22: 14 | C22: 19 | D22: 18 | E22: 12 | F22: 17 | G22: Cục Dự trữ Nhà nước khu vực Nghệ Tĩnh | H22: 0.66692282 | I22: 0.5294434 | J22: 0.0049019608 | K22: 0.40042273
A23: 17 | B23: 13 | C23: 20 | D23: 20 | E23: 20 | F23: 18 | G23: Cục Dự trữ Nhà nước khu vực Thanh Hoá | H23: 0.37935943 | I23: 0.23034319 | J23: 0.17729767 | K23: 0.26233343
A24: 15 | B24: 8 | C24: 15 | D24: 14 | E24: 14 | F24: 19 | G24: Cục Dự trữ Nhà nước khu vực Hà Nội | H24: 0.52955062 | I24: 0 | J24: 0.16343669 | K24: 0.23099577
A25: 19 | B25: 22 | C25: 12 | D25: 8 | E25: 15 | F25: 20 | G25: Cục Dự trữ Nhà nước khu vực Cửu Long | H25: 0 | I25: 0 | J25: 0 | K25: 0
A26: 11 | B26: 15 | C26: 17 | D26: 21 | E26: 21 | F26: 20 | G26: Cục Dự trữ Nhà nước khu vực Đông Bắc | H26: 0 | I26: 0 | J26: 0 | K26: 0
A27: - | B27: - | C27: - | D27: 21 | E27: 21 | F27: 20 | G27: Cục Dự trữ Nhà nước khu vực Đông Nam Bộ | H27: 0 | I27: 0 | J27: 0 | K27: 0
A29: Xếp hạng Hạ tầng kỹ thuật CNTT
A30: Xếp hạng | G30: Tên đơn vị | H30: TL máy tính/ CBCC | I30: TL băng thông Int./ CBCC | J30: Kết nối HTTT của ĐV với ĐVTT | K30: Triển khai hệ thống ATTT và ATDL | L30: Chỉ số HTKT
A31: 2012 | B31: 2013 | C31: 2014 | D31: 2015 | E31: 2016 | F31: 2017
A32: 5 | B32: 17 | C32: 13 | D32: 17 | E32: 8 | F32: =RANK(L32,$L$32:$L$53) -> 1 | G32: Cục Dự trữ Nhà nước khu vực Nghĩa Bình | H32: 1.4074074 | I32: 9216 | J32: 1 | K32: 14.5 | L32: 0.92717815
A33: 10 | B33: 4 | C33: 10 | D33: 9 | E33: 1 | F33: =RANK(L33,$L$32:$L$53) -> 2 | G33: Cục Dự trữ Nhà nước khu vực Tây Nam Bộ | H33: 1.32 | I33: 8929.28 | J33: 1 | K33: 13.818182 | L33: 0.8949691
A34: 7 | B34: 12 | C34: 8 | D34: 5 | E34: 6 | F34: =RANK(L34,$L$32:$L$53) -> 3 | G34: Cục Dự trữ Nhà nước khu vực Đà Nẵng | H34: 0.93939394 | I34: 5000 | J34: 1 | K34: 14.333333 | L34: 0.74372177
A35: 4 | B35: 3 | C35: 2 | D35: 8 | E35: 10 | F35: =RANK(L35,$L$32:$L$53) -> 4 | G35: Cục Dự trữ Nhà nước khu vực TP. Hồ Chí Minh | H35: 1.2173913 | I35: 912.69565 | J35: 1 | K35: 17 | L35: 0.73743472
A36: 6 | B36: 6 | C36: 7 | D36: 7 | E36: 2 | F36: =RANK(L36,$L$32:$L$53) -> 5 | G36: Cục Dự trữ Nhà nước khu vực Bắc Thái | H36: 0.85714286 | I36: 7680 | J36: 1 | K36: 10.5 | L36: 0.73495312
A37: - | B37: 20 | C37: 17 | D37: 19 | E37: 19 | F37: =RANK(L37,$L$32:$L$53) -> 6 | G37: Cục Dữ trữ Nhà nước khu vực Hoàng Liên Sơn | H37: 0.95238095 | I37: 4428.5714 | J37: 1 | K37: 11.5 | L37: 0.6910967
A38: 1 | B38: 10 | C38: 14 | D38: 11 | E38: 9 | F38: =RANK(L38,$L$32:$L$53) -> 7 | G38: Cục Dự trữ Nhà nước khu vực Hà Nam Ninh | H38: 0.94594595 | I38: 4289.7297 | J38: 1 | K38: 11.125 | L38: 0.68121582
A39: 16 | B39: 11 | C39: 5 | D39: 4 | E39: 4 | F39: =RANK(L39,$L$32:$L$53) -> 8 | G39: Cục Dự trữ Nhà nước khu vực Nam Tây Nguyên | H39: 1.1538462 | I39: 2907.6923 | J39: 1 | K39: 10.5 | L39: 0.67687128
A40: 12 | B40: 14 | C40: 19 | D40: 15 | E40: 14 | F40: =RANK(L40,$L$32:$L$53) -> 9 | G40: Cục Dự trữ Nhà nước khu vực Nghệ Tĩnh | H40: 0.88235294 | I40: 3764.7059 | J40: 1 | K40: 11.75 | L40: 0.66692282
A41: 8 | B41: 16 | C41: 15 | D41: 14 | E41: 12 | F41: =RANK(L41,$L$32:$L$53) -> 10 | G41: Cục Dự trữ Nhà nước khu vực Hải Hưng | H41: 1.0769231 | I41: 2730.6667 | J41: 1 | K41: 10.761905 | L41: 0.66294933
A42: 9 | B42: 2 | C42: 3 | D42: 2 | E42: 7 | F42: =RANK(L42,$L$32:$L$53) -> 11 | G42: Cục Dữ trữ Nhà nước khu vực Bắc Tây Nguyên | H42: 1.047619 | I42: 4388.5714 | J42: 1 | K42: 8 | L42: 0.65561484
A43: 18 | B43: 1 | C43: 1 | D43: 1 | E43: 11 | F43: =RANK(L43,$L$32:$L$53) -> 12 | G43: Cục Dự trữ Nhà nước khu vực Hà Bắc | H43: 0.83870968 | I43: 3138.0645 | J43: 1 | K43: 12.2 | L43: 0.65124102
A44: - | B44: 21 | C44: 20 | D44: 20 | E44: 18 | F44: =RANK(L44,$L$32:$L$53) -> 13 | G44: Cục Dự trữ Nhà nước khu vực Vĩnh Phú | H44: 1.1153846 | I44: 10769.231 | J44: 0 | K44: 12.5 | L44: 0.63195106
A45: 13 | B45: 19 | C45: 4 | D45: 6 | E45: 15 | F45: =RANK(L45,$L$32:$L$53) -> 14 | G45: Cục Dự trữ Nhà nước khu vực Nam Trung Bộ | H45: 1.0769231 | I45: 39.384615 | J45: 1 | K45: 12.464286 | L45: 0.62550815
A46: 14 | B46: 9 | C46: 11 | D46: 10 | E46: 3 | F46: =RANK(L46,$L$32:$L$53) -> 15 | G46: Cục Dự trữ Nhà nước khu vực Bình Trị Thiên | H46: 0.57142857 | I46: 453.48571 | J46: 1 | K46: 15.5 | L46: 0.58997228
A47: 3 | B47: 7 | C47: 12 | D47: 13 | E47: 13 | F47: =RANK(L47,$L$32:$L$53) -> 16 | G47: Cục Dự trữ Nhà nước khu vực Thái Bình | H47: 1 | I47: 1453.4194 | J47: 1 | K47: 8.1354839 | L47: 0.58101114
A48: 2 | B48: 5 | C48: 6 | D48: 12 | E48: 17 | F48: =RANK(L48,$L$32:$L$53) -> 17 | G48: Cục Dự trữ Nhà nước khu vực Tây Bắc | H48: 1.1111111 | I48: 291.11111 | J48: 1 | K48: 7.9 | L48: 0.57030283
A49: 15 | B49: 8 | C49: 16 | D49: 16 | E49: 5 | F49: =RANK(L49,$L$32:$L$53) -> 18 | G49: Cục Dự trữ Nhà nước khu vực Hà Nội | H49: 0.81395349 | I49: 5813.9535 | J49: 1 | K49: 0 | L49: 0.52955062
A50: 17 | B50: 13 | C50: 18 | D50: 18 | E50: 20 | F50: =RANK(L50,$L$32:$L$53) -> 19 | G50: Cục Dự trữ Nhà nước khu vực Thanh Hoá | H50: 0.16049383 | I50: 0.44444444 | J50: 1 | K50: 6.8571429 | L50: 0.37935943
A51: 19 | B51: 22 | C51: 9 | D51: 3 | E51: 16 | F51: =RANK(L51,$L$32:$L$53) -> 20 | G51: Cục Dự trữ Nhà nước khu vực Cửu Long | H51: 0 | I51: 0 | J51: 0 | K51: 0 | L51: 0
A52: 11 | B52: 15 | C52: 21 | D52: 21 | E52: 21 | F52: =RANK(L52,$L$32:$L$53) -> 20 | G52: Cục Dự trữ Nhà nước khu vực Đông Bắc | H52: 0 | I52: 0 | J52: 0 | K52: 0 | L52: 0
A53: - | B53: - | C53: - | D53: 21 | E53: 21 | F53: =RANK(L53,$L$32:$L$53) -> 20 | G53: Cục Dự trữ Nhà nước khu vực Đông Nam Bộ | H53: 0 | I53: 0 | J53: 0 | K53: 0 | L53: 0
A55: Xếp hạng Ứng dụng CNTT
A56: Xếp hạng | G56: Tên đơn vị | H56: Sử dụng thư điện tử | I56: Triển khai các ứng dụng cơ bản | J56: Ứng dụng PMNM | K56: Sử dụng văn bản điện tử | L56: Dịch vụ công trực tuyến | M56: Chỉ số ƯD CNTT
A57: 2012 | B57: 2013 | C57: 2014 | D57: 2015 | E57: 2016 | F57: 2017
A58: 17 | B58: 18 | C58: 20 | D58: 14 | E58: 11 | F58: =RANK(M58,$M$58:$M$79) -> 1 | G58: Cục Dự trữ Nhà nước khu vực Bình Trị Thiên | H58: 0.85714286 | I58: 11 | J58: 58.916667 | K58: 18.4 | L58: 29 | M58: 0.84599851
A59: 3 | B59: 7 | C59: 5 | D59: 2 | E59: 3 | F59: =RANK(M59,$M$58:$M$79) -> 2 | G59: Cục Dự trữ Nhà nước khu vực Nghĩa Bình | H59: 1 | I59: 14.4 | J59: 5.4 | K59: 19.4 | L59: 25 | M59: 0.77556987
A60: 11 | B60: 2 | C60: 7 | D60: 1 | E60: 1 | F60: =RANK(M60,$M$58:$M$79) -> 3 | G60: Cục Dự trữ Nhà nước khu vực Hà Bắc | H60: 1 | I60: 11.4 | J60: 83.333333 | K60: 16 | L60: 0 | M60: 0.71519608
A61: 14 | B61: 20 | C61: 12 | D61: 18 | E61: 10 | F61: =RANK(M61,$M$58:$M$79) -> 4 | G61: Cục Dự trữ Nhà nước khu vực Vĩnh Phú | H61: 1 | I61: 13 | J61: 0.75 | K61: 18.4 | L61: 6 | M61: 0.60412702
A62: 18 | B62: 10 | C62: 2 | D62: 6 | E62: 4 | F62: =RANK(M62,$M$58:$M$79) -> 5 | G62: Cục Dự trữ Nhà nước khu vực Nam Tây Nguyên | H62: 1 | I62: 12 | J62: 2.1666667 | K62: 20.4 | L62: 0 | M62: 0.57186667
A63: 6 | B63: 1 | C63: 1 | D63: 3 | E63: 5 | F63: =RANK(M63,$M$58:$M$79) -> 6 | G63: Cục Dữ trữ Nhà nước khu vực Bắc Tây Nguyên | H63: 0.95238095 | I63: 11.2 | J63: 0.83333333 | K63: 16.4 | L63: 9 | M63: 0.57088503
A64: 9 | B64: 6 | C64: 3 | D64: 4 | E64: 7 | F64: =RANK(M64,$M$58:$M$79) -> 7 | G64: Cục Dự trữ Nhà nước khu vực Tây Bắc | H64: 1 | I64: 12 | J64: 2.4166667 | K64: 19 | L64: 0 | M64: 0.55874118
A65: 7 | B65: 14 | C65: 10 | D65: 7 | E65: 9 | F65: =RANK(M65,$M$58:$M$79) -> 8 | G65: Cục Dự trữ Nhà nước khu vực Đà Nẵng | H65: 1 | I65: 13.333333 | J65: 0.79166667 | K65: 15 | L65: 0 | M65: 0.53414401
A66: 4 | B66: 15 | C66: 9 | D66: 11 | E66: 6 | F66: =RANK(M66,$M$58:$M$79) -> 9 | G66: Cục Dự trữ Nhà nước khu vực Hải Hưng | H66: 0.87179487 | I66: 11 | J66: 1.125 | K66: 18.4 | L66: 3 | M66: 0.53091856
A67: - | B67: 16 | C67: 16 | D67: 16 | E67: 2 | F67: =RANK(M67,$M$58:$M$79) -> 10 | G67: Cục Dự trữ Nhà nước khu vực Nghệ Tĩnh | H67: 0.88235294 | I67: 12.4 | J67: 1.7833333 | K67: 18 | L67: 0 | M67: 0.5294434
A68: 12 | B68: 13 | C68: 4 | D68: 5 | E68: 16 | F68: =RANK(M68,$M$58:$M$79) -> 11 | G68: Cục Dự trữ Nhà nước khu vực Nam Trung Bộ | H68: 1 | I68: 8 | J68: 1.8333333 | K68: 18.4 | L68: 2 | M68: 0.50969637
A69: 2 | B69: 8 | C69: 13 | D69: 10 | E69: 14 | F69: =RANK(M69,$M$58:$M$79) -> 12 | G69: Cục Dự trữ Nhà nước khu vực Bắc Thái | H69: 0.92857143 | I69: 6.2 | J69: 0.6 | K69: 16.4 | L69: 9 | M69: 0.49611868
A70: 13 | B70: 3 | C70: 14 | D70: 8 | E70: 12 | F70: =RANK(M70,$M$58:$M$79) -> 13 | G70: Cục Dự trữ Nhà nước khu vực Tây Nam Bộ | H70: 1 | I70: 12 | J70: 1.25 | K70: 10.4 | L70: 0 | M70: 0.47162745
A71: 8 | B71: 5 | C71: 11 | D71: 13 | E71: 18 | F71: =RANK(M71,$M$58:$M$79) -> 14 | G71: Cục Dự trữ Nhà nước khu vực TP. Hồ Chí Minh | H71: 1 | I71: 11 | J71: 1.25 | K71: 10 | L71: 0 | M71: 0.45381699
A72: 5 | B72: 17 | C72: 18 | D72: 12 | E72: 17 | F72: =RANK(M72,$M$58:$M$79) -> 15 | G72: Cục Dự trữ Nhà nước khu vực Hà Nam Ninh | H72: 0.78378378 | I72: 7.25 | J72: 0.83333333 | K72: 7 | L72: 17 | M72: 0.44532003
A73: - | B73: 9 | C73: 6 | D73: 9 | E73: 15 | F73: =RANK(M73,$M$58:$M$79) -> 16 | G73: Cục Dữ trữ Nhà nước khu vực Hoàng Liên Sơn | H73: 0.95238095 | I73: 11 | J73: 1.8333333 | K73: 7 | L73: 0 | M73: 0.41628142
A74: 15 | B74: 12 | C74: 15 | D74: 19 | E74: 19 | F74: =RANK(M74,$M$58:$M$79) -> 17 | G74: Cục Dự trữ Nhà nước khu vực Thái Bình | H74: 0.87096774 | I74: 4 | J74: 3 | K74: 11 | L74: 0 | M74: 0.34479224
A75: 1 | B75: 21 | C75: 19 | D75: 20 | E75: 20 | F75: =RANK(M75,$M$58:$M$79) -> 18 | G75: Cục Dự trữ Nhà nước khu vực Thanh Hoá | H75: 0.15432099 | I75: 10.285714 | J75: 0.83333333 | K75: 5.5714286 | L75: 0 | M75: 0.23034319
A76: - | B76: 22 | C76: 21 | D76: 15 | E76: 8 | F76: =RANK(M76,$M$58:$M$79) -> 19 | G76: Cục Dự trữ Nhà nước khu vực Cửu Long | H76: 0 | I76: 0 | J76: 0 | K76: 0 | L76: 0 | M76: 0
A77: 16 | B77: 4 | C77: 8 | D77: 21 | E77: 21 | F77: =RANK(M77,$M$58:$M$79) -> 19 | G77: Cục Dự trữ Nhà nước khu vực Đông Bắc | H77: 0 | I77: 0 | J77: 0 | K77: 0 | L77: 0 | M77: 0
A78: - | B78: - | C78: - | D78: 21 | E78: 21 | F78: =RANK(M78,$M$58:$M$79) -> 19 | G78: Cục Dự trữ Nhà nước khu vực Đông Nam Bộ | H78: 0 | I78: 0 | J78: 0 | K78: 0 | L78: 0 | M78: 0
A79: 10 | B79: 11 | C79: 17 | D79: 17 | E79: 13 | F79: =RANK(M79,$M$58:$M$79) -> 19 | G79: Cục Dự trữ Nhà nước khu vực Hà Nội | H79: 0 | I79: 0 | J79: 0 | K79: 0 | L79: 0 | M79: 0
A81: Xếp hạng Nhân lực CNTT
A82: Xếp hạng | G82: Tên đơn vị | H82: TL CBCT CNTT | I82: Tỷ lệ CBCT trình độ từ ĐH về CNTT | J82: TL CBCT ATTT | K82: TL CBCT có chứng chỉ QT | L82: TL CBCT được HDSD PMNM | M82: TL CBCC được tập huấn về ATTT | N82: Chỉ số nhân lực CNTT
A83: 2012 | B83: 2013 | C83: 2014 | D83: 2015 | E83: 2016 | F83: 2017
A84: 12 | B84: 11 | C84: 4 | D84: 3 | E84: 3 | F84: =RANK(N84,$N$84:$N$105) -> 1 | G84: Cục Dự trữ Nhà nước khu vực Đà Nẵng | H84: 0.060606061 | I84: 1 | J84: 0 | K84: 0.5 | L84: 0 | M84: 0.03030303 | N84: 0.44276094
A85: 17 | B85: 15 | C85: 9 | D85: 6 | E85: 6 | F85: =RANK(N85,$N$84:$N$105) -> 2 | G85: Cục Dự trữ Nhà nước khu vực Thái Bình | H85: 0.032258065 | I85: 1 | J85: 0 | K85: 0 | L85: 1 | M85: 0.032258065 | N85: 0.39426523
A86: - | B86: 8 | C86: 13 | D86: 12 | E86: 14 | F86: =RANK(N86,$N$84:$N$105) -> 3 | G86: Cục Dữ trữ Nhà nước khu vực Hoàng Liên Sơn | H86: 0.047619048 | I86: 1 | J86: 0.047619048 | K86: 0 | L86: 0 | M86: 0 | N86: 0.38756614
A87: 8 | B87: 10 | C87: 12 | D87: 14 | E87: 5 | F87: =RANK(N87,$N$84:$N$105) -> 4 | G87: Cục Dự trữ Nhà nước khu vực Bình Trị Thiên | H87: 0.028571429 | I87: 1 | J87: 0.057142857 | K87: 0 | L87: 0 | M87: 0.028571429 | N87: 0.38730159
A88: 4 | B88: 3 | C88: 5 | D88: 4 | E88: 11 | F88: =RANK(N88,$N$84:$N$105) -> 5 | G88: Cục Dự trữ Nhà nước khu vực Tây Nam Bộ | H88: 0.04 | I88: 1 | J88: 0.04 | K88: 0 | L88: 0 | M88: 0 | N88: 0.35222222
A89: 11 | B89: 13 | C89: 8 | D89: 13 | E89: 15 | F89: =RANK(N89,$N$84:$N$105) -> 6 | G89: Cục Dự trữ Nhà nước khu vực Nam Trung Bộ | H89: 0.038461538 | I89: 1 | J89: 0.038461538 | K89: 0 | L89: 0 | M89: 0.038461538 | N89: 0.35149573
A90: 5 | B90: 6 | C90: 6 | D90: 5 | E90: 4 | F90: =RANK(N90,$N$84:$N$105) -> 7 | G90: Cục Dự trữ Nhà nước khu vực Tây Bắc | H90: 0.037037037 | I90: 1 | J90: 0.037037037 | K90: 0 | L90: 0 | M90: 0.037037037 | N90: 0.34465021
A91: 7 | B91: 19 | C91: 15 | D91: 9 | E91: 9 | F91: =RANK(N91,$N$84:$N$105) -> 8 | G91: Cục Dự trữ Nhà nước khu vực Hà Nam Ninh | H91: 0.027027027 | I91: 1 | J91: 0.027027027 | K91: 0 | L91: 0 | M91: 0.027027027 | N91: 0.29654655
A92: 10 | B92: 1 | C92: 2 | D92: 1 | E92: 1 | F92: =RANK(N92,$N$84:$N$105) -> 9 | G92: Cục Dự trữ Nhà nước khu vực Hà Bắc | H92: 0.096774194 | I92: 0 | J92: 0.032258065 | K92: 0 | L92: 0 | M92: 0.096774194 | N92: 0.27688172
A93: 2 | B93: 2 | C93: 1 | D93: 2 | E93: 2 | F93: =RANK(N93,$N$84:$N$105) -> 10 | G93: Cục Dữ trữ Nhà nước khu vực Bắc Tây Nguyên | H93: 0.047619048 | I93: 1 | J93: 0 | K93: 0 | L93: 0 | M93: 0.047619048 | N93: 0.25661376
A94: 1 | B94: 14 | C94: 3 | D94: 8 | E94: 10 | F94: =RANK(N94,$N$84:$N$105) -> 11 | G94: Cục Dự trữ Nhà nước khu vực Nam Tây Nguyên | H94: 0.038461538 | I94: 1 | J94: 0 | K94: 0 | L94: 0 | M94: 0.038461538 | N94: 0.23931624
A95: 16 | B95: 4 | C95: 7 | D95: 11 | E95: 8 | F95: =RANK(N95,$N$84:$N$105) -> 12 | G95: Cục Dự trữ Nhà nước khu vực Bắc Thái | H95: 0.035714286 | I95: 1 | J95: 0 | K95: 0 | L95: 0 | M95: 0.035714286 | N95: 0.23412698
A96: 19 | B96: 9 | C96: 19 | D96: 19 | E96: 19 | F96: =RANK(N96,$N$84:$N$105) -> 13 | G96: Cục Dự trữ Nhà nước khu vực Nghĩa Bình | H96: 0.037037037 | I96: 0 | J96: 0 | K96: 0 | L96: 0 | M96: 1 | N96: 0.23045267
A97: - | B97: 16 | C97: 20 | D97: 15 | E97: 15 | F97: =RANK(N97,$N$84:$N$105) -> 14 | G97: Cục Dự trữ Nhà nước khu vực Vĩnh Phú | H97: 0.076923077 | I97: 0.5 | J97: 0 | K97: 0 | L97: 0 | M97: 0.038461538 | N97: 0.22222222
A98: 6 | B98: 5 | C98: 20 | D98: 20 | E98: 20 | F98: =RANK(N98,$N$84:$N$105) -> 15 | G98: Cục Dự trữ Nhà nước khu vực TP. Hồ Chí Minh | H98: 0.043478261 | I98: 0 | J98: 0.043478261 | K98: 0 | L98: 0 | M98: 0 | N98: 0.20169082
A99: 15 | B99: 18 | C99: 17 | D99: 17 | E99: 18 | F99: =RANK(N99,$N$84:$N$105) -> 16 | G99: Cục Dự trữ Nhà nước khu vực Thanh Hoá | H99: 0.0061728395 | I99: 1 | J99: 0 | K99: 0 | L99: 0 | M99: 0 | N99: 0.17729767
A100: 18 | B100: 20 | C100: 18 | D100: 18 | E100: 13 | F100: =RANK(N100,$N$84:$N$105) -> 17 | G100: Cục Dự trữ Nhà nước khu vực Hải Hưng | H100: 0.051282051 | I100: 0.5 | J100: 0 | K100: 0 | L100: 0 | M100: 0 | N100: 0.17165242
A101: 13 | B101: 21 | C101: 11 | D101: 7 | E101: 7 | F101: =RANK(N101,$N$84:$N$105) -> 18 | G101: Cục Dự trữ Nhà nước khu vực Hà Nội | H101: 0.046511628 | I101: 0.5 | J101: 0 | K101: 0 | L101: 0 | M101: 0 | N101: 0.16343669
A102: 14 | B102: 17 | C102: 15 | D102: 16 | E102: 17 | F102: =RANK(N102,$N$84:$N$105) -> 19 | G102: Cục Dự trữ Nhà nước khu vực Nghệ Tĩnh | H102: 0 | I102: 0 | J102: 0 | K102: 0 | L102: 0 | M102: 0.029411765 | N102: 0.0049019608
A103: 9 | B103: 23 | C103: 10 | D103: 10 | E103: 12 | F103: =RANK(N103,$N$84:$N$105) -> 20 | G103: Cục Dự trữ Nhà nước khu vực Cửu Long | H103: 0 | I103: 0 | J103: 0 | K103: 0 | L103: 0 | M103: 0 | N103: 0
A104: 3 | B104: 12 | C104: 14 | D104: 20 | E104: 20 | F104: =RANK(N104,$N$84:$N$105) -> 20 | G104: Cục Dự trữ Nhà nước khu vực Đông Bắc | H104: 0 | I104: 0 | J104: 0 | K104: 0 | L104: 0 | M104: 0 | N104: 0
...

Sheet SLTT_TW
A1: SỐ LIỆU THỰC TRẠNG CÁC HỆ THỐNG Ở CẤP TRUNG ƯƠNG NĂM 2017
A2: TT | B2: Chỉ tiêu | C2: Các hệ thống ở TƯ
A3: A | B3: Hạ tầng kỹ thuật
A4: 1 | B4: TLMT/CBCC | C4: =AVERAGE(CQTW!H16:H21) -> 1.4056325
A5: 2 | B5: TL băng thông Int./ CBCC | C5: =AVERAGE(CQTW!I16:I21) -> 8836.7232
A6: 3 | B6: Kết nối HTTT của ĐV với ĐVTT | C6: =AVERAGE(CQTW!J16:J21) -> 1
A7: 4 | B7: Triển khai hệ thống ATTT và ATDL | C7: =AVERAGE(CQTW!K16:K21) -> 38.622432
A8: B | B8: Ứng dụng CNTT
A9: 1 | B9: Sử dụng thư điện tử | C9: =AVERAGE(CQTW!H26:H31) -> 1
A10: 2 | B10: Triển khai các ứng dụng cơ bản | C10: =AVERAGE(CQTW!I26:I31) -> 16.587632
A11: 3 | B11: Ứng dụng PMNM | C11: =AVERAGE(CQTW!J26:J31) -> 2.9255952
A12: 4 | B12: Sử dụng văn bản điện tử | C12: =AVERAGE(CQTW!K26:K31) -> 17.80082
A13: 5 | B13: Dịch vụ công trực tuyến | C13: =AVERAGE(CQTW!L26:L31) -> 32.084468
A14: C | B14: Hạ tầng nhân lực
A15: 1 | B15: TL CBCT CNTT | C15: =AVERAGE(CQTW!H36:H41) -> 0.11517957
A16: 2 | B16: Tỷ lệ CBCT trình độ từ ĐH về CNTT | C16: =AVERAGE(CQTW!I36:I41) -> 0.90833796
A17: 3 | B17: TL CBCT ATTT | C17: =AVERAGE(CQTW!J36:J41) -> 0.023142929
A18: 4 | B18: TL CBCT có chứng chỉ QT | C18: =AVERAGE(CQTW!K36:K41) -> 0.079483565
A19: 5 | B19: TL CBCC được HDSD PMNM | C19: =AVERAGE(CQTW!L36:L41) -> 0.40581744
A20: 6 | B20: TL CBCC được hướng dẫn về ATTT | C20: =AVERAGE(CQTW!M36:M41) -> 0.42918089

Sheet SLTT_DP
A1: SỐ LIỆU THỰC TRẠNG CÁC CƠ QUAN ĐỊA PHƯƠNG NĂM 2017
A2: TT | B2: Chỉ tiêu | C2: Các Sở Tài chính | D2: Các Kho bạc tỉnh, TP | E2: Các Cục Thuế | F2: Các Cục Hải quan | G2: Các Cục Dự trữ
A3: A | B3: Hạ tầng kỹ thuật
A4: 1 | B4: TLMT/CBCC | C4: =AVERAGE(STC!H73:H135) -> 1.1409986 | D4: =AVERAGE(KBNN!H73:H135) -> 1.2486841 | E4: =AVERAGE(CucThue!$H$73:$H$135) -> 1.3131987 | F4: =AVERAGE(CucHQ!H44:H77) -> 1.234551 | G4: =AVERAGE(DuTru!$H$32:$H$53) -> 0.84038218
A5: 2 | B5: TL băng thông Int./ CBCC | C5: =AVERAGE(STC!I73:I135) -> 4205.8011 | D5: =AVERAGE(KBNN!I73:I135) -> 2767.6659 | E5: =AVERAGE(CucThue!I73:I135) -> 3276.0616 | F5: =AVERAGE(CucHQ!I44:I77) -> 6562.9978 | G5: =AVERAGE(DuTru!I32:I53) -> 3463.9549
A6: 3 | B6: Kết nối HTTT của ĐV với ĐVTT | C6: =AVERAGE(STC!J73:J135) -> 0.81011493 | D6: =AVERAGE(KBNN!J73:J135) -> 0.91710758 | E6: =AVERAGE(CucThue!J73:J135) -> 0.93544974 | F6: =AVERAGE(CucHQ!J44:J77) -> 0.90392157 | G6: =AVERAGE(DuTru!J32:J53) -> 0.81818182
A7: 4 | B7: Triển khai hệ thống ATTT và ATDL | C7: =AVERAGE(STC!K73:K135) -> 8.8906972 | D7: =AVERAGE(KBNN!K73:K135) -> 13.056296 | E7: =AVERAGE(CucThue!K73:K135) -> 11.228651 | F7: =AVERAGE(CucHQ!K44:K77) -> 9.6534426 | G7: =AVERAGE(DuTru!K32:K53) -> 9.5156969
A8: B | B8: Ứng dụng CNTT
A9: 1 | B9: Sử dụng thư điện tử | C9: =AVERAGE(STC!H140:H202) -> 0.9089313 | D9: =AVERAGE(KBNN!H140:H202) -> 0.88308153 | E9: =AVERAGE(CucThue!$H$140:$H$202) -> 0.94428413 | F9: =AVERAGE(CucHQ!$H$82:$H$115) -> 0.83056933 | G9: =AVERAGE(DuTru!$H$58:$H$79) -> 0.73880439
A10: 2 | B10: Triển khai các ứng dụng cơ bản | C10: =AVERAGE(STC!I140:I202) -> 16.064543 | D10: =AVERAGE(KBNN!I140:I202) -> 13.36506 | E10: =AVERAGE(CucThue!$I$140:$I$202) -> 15.905445 | F10: =AVERAGE(CucHQ!$I$82:$I$115) -> 14.522378 | G10: =AVERAGE(DuTru!$I$58:$I$79) -> 8.7031385
A11: 3 | B11: Ứng dụng PMNM | C11: =AVERAGE(STC!J140:J202) -> 13.776607 | D11: =AVERAGE(KBNN!J140:J202) -> 12.218981 | E11: =AVERAGE(CucThue!$J$140:$J$202) -> 21.442235 | F11: =AVERAGE(CucHQ!$J$82:$J$115) -> 6.6046569 | G11: =AVERAGE(DuTru!$J$58:$J$79) -> 7.6795455
A12: 4 | B12: Sử dụng văn bản điện tử | C12: =AVERAGE(STC!K140:K202) -> 15.415839 | D12: =AVERAGE(KBNN!K140:K202) -> 13.097581 | E12: =AVERAGE(CucThue!$K$140:$K$202) -> 16.923894 | F12: =AVERAGE(CucHQ!$K$82:$K$115) -> 14.801053 | G12: =AVERAGE(DuTru!$K$58:$K$79) -> 12.053247
A13: 5 | B13: Dịch vụ công trực tuyến | C13: =AVERAGE(STC!L140:L202) -> 25.266923 | D13: =AVERAGE(KBNN!L140:L202) -> 17.933216 | E13: =AVERAGE(CucThue!$L$140:$L$202) -> 84.925656 | F13: =AVERAGE(CucHQ!$L$82:$L$115) -> 23.89799 | G13: =AVERAGE(DuTru!$L$58:$L$79) -> 4.5454545
A14: C | B14: Hạ tầng nhân lực
A15: 1 | B15: TL CBCT CNTT | C15: =AVERAGE(STC!H207:H269) -> 0.038749809 | D15: =AVERAGE(KBNN!H207:H269) -> 0.053091504 | E15: =AVERAGE(CucThue!$H$207:$H$269) -> 0.050764699 | F15: =AVERAGE(CucHQ!$H$120:$H$153) -> 0.062760692 | G15: =AVERAGE(DuTru!$H$84:$H$105) -> 0.035979735
A16: 2 | B16: Tỷ lệ CBCT trình độ từ ĐH về CNTT | C16: =AVERAGE(STC!I207:I269) -> 0.74325397 | D16: =AVERAGE(KBNN!I207:I269) -> 0.68951763 | E16: =AVERAGE(CucThue!$I$207:$I$269) -> 0.77784964 | F16: =AVERAGE(CucHQ!$I$120:$I$153) -> 0.91153846 | G16: =AVERAGE(DuTru!$I$84:$I$105) -> 0.61363636
A17: 3 | B17: TL CBCT ATTT | C17: =AVERAGE(STC!J207:J269) -> 0.021279703 | D17: =AVERAGE(KBNN!J207:J269) -> 0.024840826 | E17: =AVERAGE(CucThue!$J$207:$J$269) -> 0.014152845 | F17: =AVERAGE(CucHQ!$J$120:$J$153) -> 0.041570788 | G17: =AVERAGE(DuTru!$J$84:$J$105) -> 0.014682901
A18: 4 | B18: TL CBCT có chứng chỉ QT | C18: =AVERAGE(STC!K207:K269) -> 0.19484127 | D18: =AVERAGE(KBNN!K207:K269) -> 0.39981104 | E18: =AVERAGE(CucThue!$K$207:$K$269) -> 0.12403743 | F18: =AVERAGE(CucHQ!$K$120:$K$153) -> 0.29635495 | G18: =AVERAGE(DuTru!$K$84:$K$105) -> 0.022727273
A19: 5 | B19: TL CBCT sử dụng PMNM | C19: =AVERAGE(STC!L207:L269) -> 0.32698413 | D19: =AVERAGE(KBNN!L207:L269) -> 0.068783069 | E19: =AVERAGE(CucThue!$L$207:$L$269) -> 0.090249433 | F19: =AVERAGE(CucHQ!$L$120:$L$153) -> 0.011617118 | G19: =AVERAGE(DuTru!$L$84:$L$105) -> 0.045454545
A20: 6 | B20: TL CBCC được hướng dẫn về ATTT | C20: =AVERAGE(STC!M207:M269) -> 0.11889786 | D20: =AVERAGE(KBNN!M207:M269) -> 0.46446677 | E20: =AVERAGE(CucThue!$M$207:$M$269) -> 0.086215085 | F20: =AVERAGE(CucHQ!$M$120:$M$153) -> 0.086157509 | G20: =AVERAGE(DuTru!$M$84:$M$105) -> 0.067277295
